BEGIN:VCALENDAR
VERSION:2.0
PRODID:-//Informacje z gminy Tarnowo Podgórne - ECPv6.15.20//NONSGML v1.0//EN
CALSCALE:GREGORIAN
METHOD:PUBLISH
X-WR-CALNAME:Informacje z gminy Tarnowo Podgórne
X-ORIGINAL-URL:https://tp.info.pl
X-WR-CALDESC:Wydarzenia dla Informacje z gminy Tarnowo Podgórne
REFRESH-INTERVAL;VALUE=DURATION:PT1H
X-Robots-Tag:noindex
X-PUBLISHED-TTL:PT1H
BEGIN:VTIMEZONE
TZID:Europe/Warsaw
BEGIN:DAYLIGHT
TZOFFSETFROM:+0100
TZOFFSETTO:+0200
TZNAME:CEST
DTSTART:20250330T010000
END:DAYLIGHT
BEGIN:STANDARD
TZOFFSETFROM:+0200
TZOFFSETTO:+0100
TZNAME:CET
DTSTART:20251026T010000
END:STANDARD
BEGIN:DAYLIGHT
TZOFFSETFROM:+0100
TZOFFSETTO:+0200
TZNAME:CEST
DTSTART:20260329T010000
END:DAYLIGHT
BEGIN:STANDARD
TZOFFSETFROM:+0200
TZOFFSETTO:+0100
TZNAME:CET
DTSTART:20261025T010000
END:STANDARD
BEGIN:DAYLIGHT
TZOFFSETFROM:+0100
TZOFFSETTO:+0200
TZNAME:CEST
DTSTART:20270328T010000
END:DAYLIGHT
BEGIN:STANDARD
TZOFFSETFROM:+0200
TZOFFSETTO:+0100
TZNAME:CET
DTSTART:20271031T010000
END:STANDARD
END:VTIMEZONE
BEGIN:VEVENT
DTSTART;TZID=Europe/Warsaw:20260407T180000
DTEND;TZID=Europe/Warsaw:20260407T193000
DTSTAMP:20260421T020428
CREATED:20260324T191448Z
LAST-MODIFIED:20260324T191448Z
UID:9949-1775584800-1775590200@tp.info.pl
SUMMARY:Spotkanie autorskie z Borysem Tynką
DESCRIPTION:
URL:https://tp.info.pl/event/spotkanie-autorskie-z-borysem-tynka/
LOCATION:Centrum Demokracji i Integracji Obywatelskiej w Tarnowie Podgórnym\, ul. Poznańska 99\, Tarnowo Podgórne\, 62-080
CATEGORIES:Wydarzenia kulturalne
END:VEVENT
BEGIN:VEVENT
DTSTART;TZID=Europe/Warsaw:20260418T080000
DTEND;TZID=Europe/Warsaw:20260419T170000
DTSTAMP:20260421T020428
CREATED:20260414T194535Z
LAST-MODIFIED:20260414T194540Z
UID:10149-1776499200-1776618000@tp.info.pl
SUMMARY:Ogólnopolski Turniej Tańca Nowoczesnego Move4Life 2026
DESCRIPTION:
URL:https://tp.info.pl/event/ogolnopolski-turniej-tanca-nowoczesnego-move4life-2026/
LOCATION:hala osir Przeźmierowo
CATEGORIES:Sport
END:VEVENT
BEGIN:VEVENT
DTSTART;TZID=Europe/Warsaw:20260418T180000
DTEND;TZID=Europe/Warsaw:20260418T200000
DTSTAMP:20260421T020428
CREATED:20260327T140745Z
LAST-MODIFIED:20260327T140750Z
UID:9986-1776535200-1776542400@tp.info.pl
SUMMARY:Koncert pt. \,\,Jazzowy tribute to Łucja Prus"
DESCRIPTION:
URL:https://tp.info.pl/event/koncert-pt-jazzowy-tribute-to-lucja-prus/
LOCATION:DK w Tarnowie Podgórnym
CATEGORIES:Wydarzenia kulturalne
END:VEVENT
BEGIN:VEVENT
DTSTART;TZID=Europe/Warsaw:20260423T180000
DTEND;TZID=Europe/Warsaw:20260423T200000
DTSTAMP:20260421T020428
CREATED:20260409T094545Z
LAST-MODIFIED:20260409T094550Z
UID:10080-1776967200-1776974400@tp.info.pl
SUMMARY:Modny folk z Lusowiakami - kreatywne warsztaty inspirowane tradycją
DESCRIPTION:Luso
URL:https://tp.info.pl/event/warsztaty-zpit-lusowiacy/
LOCATION:Lusowo\, świetlica\, Ogrodowa 3\, Lusowo\, 62-080\, Poland
CATEGORIES:Wydarzenia kulturalne
END:VEVENT
BEGIN:VEVENT
DTSTART;TZID=Europe/Warsaw:20260424T080000
DTEND;TZID=Europe/Warsaw:20260426T170000
DTSTAMP:20260421T020428
CREATED:20260409T092900Z
LAST-MODIFIED:20260409T092900Z
UID:10074-1777017600-1777222800@tp.info.pl
SUMMARY:Teatr w Każdej Wiosce 2026 – finał pełen emocji i młodej energii
DESCRIPTION:
URL:https://tp.info.pl/event/teatr-w-kazdej-wiosce-ck-przezmierowo/
CATEGORIES:Wydarzenia kulturalne
END:VEVENT
BEGIN:VEVENT
DTSTART;TZID=Europe/Warsaw:20260428T180000
DTEND;TZID=Europe/Warsaw:20260428T184500
DTSTAMP:20260421T020428
CREATED:20260327T134801Z
LAST-MODIFIED:20260327T134820Z
UID:9981-1777399200-1777401900@tp.info.pl
SUMMARY:\,\,A WIOSENKA NA PŁOCIE W TEJ ZIELONEJ KAPOCIE”- spektakl da dzieci 3+
DESCRIPTION:
URL:https://tp.info.pl/event/spektakl-dla-dzieci-3/
LOCATION:DK w Tarnowie Podgórnym
CATEGORIES:Wydarzenia kulturalne
END:VEVENT
BEGIN:VEVENT
DTSTART;TZID=Europe/Warsaw:20260501T110000
DTEND;TZID=Europe/Warsaw:20260501T130000
DTSTAMP:20260421T020428
CREATED:20260226T190834Z
LAST-MODIFIED:20260226T190841Z
UID:9655-1777633200-1777640400@tp.info.pl
SUMMARY:Bieg Unijny 2026
DESCRIPTION:
URL:https://tp.info.pl/event/bieg-unijny-2026/
LOCATION:hala sportowa OSiR w Przeźmierowie – ul. Kościelna 46/48
CATEGORIES:Sport
END:VEVENT
BEGIN:VEVENT
DTSTART;TZID=Europe/Warsaw:20260512T180000
DTEND;TZID=Europe/Warsaw:20260512T184500
DTSTAMP:20260421T020428
CREATED:20260418T064352Z
LAST-MODIFIED:20260418T064359Z
UID:10208-1778608800-1778611500@tp.info.pl
SUMMARY:\,\,Głos od A do Z - czyli kalejdoskop głosu" - Teatr Mozaika
DESCRIPTION:
URL:https://tp.info.pl/event/glos-od-a-do-z-czyli-kalejdoskop-glosu-teatr-mozaika/
LOCATION:DK w Tarnowie Podgórnym
CATEGORIES:Wydarzenia kulturalne
END:VEVENT
BEGIN:VEVENT
DTSTART;TZID=Europe/Warsaw:20260517T160000
DTEND;TZID=Europe/Warsaw:20260517T180000
DTSTAMP:20260421T020428
CREATED:20260409T100638Z
LAST-MODIFIED:20260409T100644Z
UID:10084-1779033600-1779040800@tp.info.pl
SUMMARY:Kabaret \,\,Ostre cięcie" Paranienormalni
DESCRIPTION:
URL:https://tp.info.pl/event/paranienormalni-ck-przezmierowo/
LOCATION:CK Przeźmierowo
CATEGORIES:Wydarzenia kulturalne
END:VEVENT
BEGIN:VEVENT
DTSTART;TZID=Europe/Warsaw:20260524T123000
DTEND;TZID=Europe/Warsaw:20260524T132000
DTSTAMP:20260421T020428
CREATED:20260418T073704Z
LAST-MODIFIED:20260418T073713Z
UID:10215-1779625800-1779628800@tp.info.pl
SUMMARY:Spektakl pt. \,\,Skorupka" Teatru Formalina
DESCRIPTION:
URL:https://tp.info.pl/event/spektakl-skorupka-teatr-formalina/
LOCATION:DK Tarnowo Podgórne\, u. Ogrodowa 14\, Tarnowo Podgórne\, wielkopolskie\, 62-080
CATEGORIES:Wydarzenia kulturalne
END:VEVENT
BEGIN:VEVENT
DTSTART;TZID=Europe/Warsaw:20260530T160000
DTEND;TZID=Europe/Warsaw:20260530T180000
DTSTAMP:20260421T020428
CREATED:20260418T062204Z
LAST-MODIFIED:20260418T080516Z
UID:10202-1780156800-1780164000@tp.info.pl
SUMMARY:Koncert DzZPiT \,\,Modraki"
DESCRIPTION:
URL:https://tp.info.pl/event/koncert-dzzpit-modraki/
LOCATION:CK Przeźmierowo
CATEGORIES:Wydarzenia kulturalne
END:VEVENT
BEGIN:VEVENT
DTSTART;TZID=Europe/Warsaw:20260616T110000
DTEND;TZID=Europe/Warsaw:20260616T113000
DTSTAMP:20260421T020428
CREATED:20260420T190604Z
LAST-MODIFIED:20260420T190616Z
UID:10227-1781607600-1781609400@tp.info.pl
SUMMARY:Mała Akademia Wielkich Kompozytorów: Edward Grieg
DESCRIPTION:
URL:https://tp.info.pl/event/mala-akademia-wielkich-kompozytorow-edward-grieg/
LOCATION:Park przy CK Przeźmierowo\, ul. Ogrodowa 13a\, Przeźmierowo\, wielkopolskie\, 62-080\, Poland
CATEGORIES:Wydarzenia kulturalne
END:VEVENT
BEGIN:VEVENT
DTSTART;TZID=Europe/Warsaw:20260621T160000
DTEND;TZID=Europe/Warsaw:20260621T190000
DTSTAMP:20260421T020428
CREATED:20260420T203438Z
LAST-MODIFIED:20260420T203444Z
UID:10235-1782057600-1782068400@tp.info.pl
SUMMARY:Gala Finałowa Festiwalu Talentów i Pasji
DESCRIPTION:
URL:https://tp.info.pl/event/gala-finalowa-festiwalu-talentow-i-pasji/
LOCATION:Pałac Jankowice
CATEGORIES:Wydarzenia kulturalne
ORGANIZER;CN="Pa%C5%82ac Jankowice":MAILTO:palac.jankowice@tarnowo-podgorne.pl
END:VEVENT
END:VCALENDAR