BEGIN:VCALENDAR
VERSION:2.0
PRODID:-//Informacje z gminy Tarnowo Podgórne - ECPv6.15.20//NONSGML v1.0//EN
CALSCALE:GREGORIAN
METHOD:PUBLISH
X-WR-CALNAME:Informacje z gminy Tarnowo Podgórne
X-ORIGINAL-URL:https://tp.info.pl
X-WR-CALDESC:Wydarzenia dla Informacje z gminy Tarnowo Podgórne
REFRESH-INTERVAL;VALUE=DURATION:PT1H
X-Robots-Tag:noindex
X-PUBLISHED-TTL:PT1H
BEGIN:VTIMEZONE
TZID:Europe/Warsaw
BEGIN:DAYLIGHT
TZOFFSETFROM:+0100
TZOFFSETTO:+0200
TZNAME:CEST
DTSTART:20230326T010000
END:DAYLIGHT
BEGIN:STANDARD
TZOFFSETFROM:+0200
TZOFFSETTO:+0100
TZNAME:CET
DTSTART:20231029T010000
END:STANDARD
BEGIN:DAYLIGHT
TZOFFSETFROM:+0100
TZOFFSETTO:+0200
TZNAME:CEST
DTSTART:20240331T010000
END:DAYLIGHT
BEGIN:STANDARD
TZOFFSETFROM:+0200
TZOFFSETTO:+0100
TZNAME:CET
DTSTART:20241027T010000
END:STANDARD
BEGIN:DAYLIGHT
TZOFFSETFROM:+0100
TZOFFSETTO:+0200
TZNAME:CEST
DTSTART:20250330T010000
END:DAYLIGHT
BEGIN:STANDARD
TZOFFSETFROM:+0200
TZOFFSETTO:+0100
TZNAME:CET
DTSTART:20251026T010000
END:STANDARD
END:VTIMEZONE
BEGIN:VEVENT
DTSTART;TZID=Europe/Warsaw:20241201T170000
DTEND;TZID=Europe/Warsaw:20241201T180000
DTSTAMP:20260422T172039
CREATED:20241113T202111Z
LAST-MODIFIED:20241113T202716Z
UID:6098-1733072400-1733076000@tp.info.pl
SUMMARY:Koncert \,\,Tribute to Chick Corea" Wieczorkiewicz Trio
DESCRIPTION:
URL:https://tp.info.pl/event/koncert-tribute-to-chick-corea-wieczorkiewicz-trio/
LOCATION:DK w Tarnowie Podgórnym
CATEGORIES:Wydarzenia kulturalne
END:VEVENT
BEGIN:VEVENT
DTSTART;TZID=Europe/Warsaw:20241207T140000
DTEND;TZID=Europe/Warsaw:20241207T230000
DTSTAMP:20260422T172039
CREATED:20241205T161916Z
LAST-MODIFIED:20241205T161932Z
UID:6291-1733580000-1733612400@tp.info.pl
SUMMARY:Jarmark Świętego Mikołaja
DESCRIPTION:
URL:https://tp.info.pl/event/jarmark-swietego-mikolaja/
LOCATION:Park im. Jana Wojkiewicza
CATEGORIES:Wydarzenia kulturalne
END:VEVENT
BEGIN:VEVENT
DTSTART;TZID=Europe/Warsaw:20241207T160000
DTEND;TZID=Europe/Warsaw:20241207T170000
DTSTAMP:20260422T172039
CREATED:20241205T162324Z
LAST-MODIFIED:20241205T162346Z
UID:6295-1733587200-1733590800@tp.info.pl
SUMMARY:Mecz Tarnovia Volleyball vs. Krishome Września
DESCRIPTION:
URL:https://tp.info.pl/event/mecz-tarnovia-volleyball-vs-krishome-wrzesnia/
CATEGORIES:Sport
END:VEVENT
BEGIN:VEVENT
DTSTART;TZID=Europe/Warsaw:20241208T080000
DTEND;TZID=Europe/Warsaw:20241208T170000
DTSTAMP:20260422T172039
CREATED:20241129T134540Z
LAST-MODIFIED:20241129T134545Z
UID:6268-1733644800-1733677200@tp.info.pl
SUMMARY:V Puchar św. Mikołaja w Karate Tradycyjnym
DESCRIPTION:
URL:https://tp.info.pl/event/v-puchar-sw-mikolaja-w-karate-tradycyjnym/
LOCATION:Uczniowski Klub Sportowy Karate Tradycyjnego „Orzeł” Lusowo oraz Klub Karate Tradycyjnego „Orzeł” Poznań
CATEGORIES:Sport
END:VEVENT
BEGIN:VEVENT
DTSTART;TZID=Europe/Warsaw:20241214T080000
DTEND;TZID=Europe/Warsaw:20241214T170000
DTSTAMP:20260422T172039
CREATED:20241213T104949Z
LAST-MODIFIED:20241213T105040Z
UID:6348-1734163200-1734195600@tp.info.pl
SUMMARY:Lew Cup 2024
DESCRIPTION:
URL:https://tp.info.pl/event/lew-cup-2024/
CATEGORIES:Sport
END:VEVENT
BEGIN:VEVENT
DTSTART;TZID=Europe/Warsaw:20241214T140000
DTEND;TZID=Europe/Warsaw:20241214T160000
DTSTAMP:20260422T172039
CREATED:20241213T102444Z
LAST-MODIFIED:20241213T102447Z
UID:6343-1734184800-1734192000@tp.info.pl
SUMMARY:Tarnovia Volleyball vs. LUKS Wilki Wilczyn
DESCRIPTION:
URL:https://tp.info.pl/event/tarnovia-volleyball-vs-luks-wilki-wilczyn/
LOCATION:hala OSiR przy Zespole Szkół Technicznych Tarnowo Podgórne\, ul. Nowa 60
CATEGORIES:Sport
END:VEVENT
BEGIN:VEVENT
DTSTART;TZID=Europe/Warsaw:20241215T123000
DTEND;TZID=Europe/Warsaw:20241215T131500
DTSTAMP:20260422T172039
CREATED:20241113T193208Z
LAST-MODIFIED:20241113T193213Z
UID:6092-1734265800-1734268500@tp.info.pl
SUMMARY:Spektakl pt. \,\,Nad Betlejem jasna gwiazda świeciła" Teatru Mozaika
DESCRIPTION:
URL:https://tp.info.pl/event/spektakl-pt-nad-betlejem-jasna-gwiazda-swiecila-teatru-mozaika/
LOCATION:CK Przeźmierowo
CATEGORIES:Wydarzenia kulturalne
END:VEVENT
END:VCALENDAR