BEGIN:VCALENDAR
VERSION:2.0
PRODID:-//Informacje z gminy Tarnowo Podgórne - ECPv6.15.20//NONSGML v1.0//EN
CALSCALE:GREGORIAN
METHOD:PUBLISH
X-WR-CALNAME:Informacje z gminy Tarnowo Podgórne
X-ORIGINAL-URL:https://tp.info.pl
X-WR-CALDESC:Wydarzenia dla Informacje z gminy Tarnowo Podgórne
REFRESH-INTERVAL;VALUE=DURATION:PT1H
X-Robots-Tag:noindex
X-PUBLISHED-TTL:PT1H
BEGIN:VTIMEZONE
TZID:Europe/Warsaw
BEGIN:DAYLIGHT
TZOFFSETFROM:+0100
TZOFFSETTO:+0200
TZNAME:CEST
DTSTART:20230326T010000
END:DAYLIGHT
BEGIN:STANDARD
TZOFFSETFROM:+0200
TZOFFSETTO:+0100
TZNAME:CET
DTSTART:20231029T010000
END:STANDARD
BEGIN:DAYLIGHT
TZOFFSETFROM:+0100
TZOFFSETTO:+0200
TZNAME:CEST
DTSTART:20240331T010000
END:DAYLIGHT
BEGIN:STANDARD
TZOFFSETFROM:+0200
TZOFFSETTO:+0100
TZNAME:CET
DTSTART:20241027T010000
END:STANDARD
BEGIN:DAYLIGHT
TZOFFSETFROM:+0100
TZOFFSETTO:+0200
TZNAME:CEST
DTSTART:20250330T010000
END:DAYLIGHT
BEGIN:STANDARD
TZOFFSETFROM:+0200
TZOFFSETTO:+0100
TZNAME:CET
DTSTART:20251026T010000
END:STANDARD
END:VTIMEZONE
BEGIN:VEVENT
DTSTART;TZID=Europe/Warsaw:20240501T110000
DTEND;TZID=Europe/Warsaw:20240501T140000
DTSTAMP:20260422T095318
CREATED:20240301T160338Z
LAST-MODIFIED:20240301T160344Z
UID:4507-1714561200-1714572000@tp.info.pl
SUMMARY:BIEG UNIJNY W PRZEŹMIEROWIE
DESCRIPTION:
URL:https://tp.info.pl/event/bieg-unijny-w-przezmierowie/
LOCATION:hala sportowa OSiR w Przeźmierowie – ul. Kościelna 46/48
CATEGORIES:Sport
END:VEVENT
BEGIN:VEVENT
DTSTART;TZID=Europe/Warsaw:20240503T110000
DTEND;TZID=Europe/Warsaw:20240503T140000
DTSTAMP:20260422T095318
CREATED:20240430T085917Z
LAST-MODIFIED:20240430T085934Z
UID:4979-1714734000-1714744800@tp.info.pl
SUMMARY:Piknik golfowy w Rumianku
DESCRIPTION:
URL:https://tp.info.pl/event/piknik-golfowy-w-rumianku/
LOCATION:Pole golfowe Black Water Links w Rumianku\, Szkolna\, Rumianek\, wielkopolskie\, 62-080\, Poland
CATEGORIES:Sport
END:VEVENT
BEGIN:VEVENT
DTSTART;TZID=Europe/Warsaw:20240505T133500
DTEND;TZID=Europe/Warsaw:20240505T160000
DTSTAMP:20260422T095318
CREATED:20240412T104854Z
LAST-MODIFIED:20240412T104858Z
UID:4852-1714916100-1714924800@tp.info.pl
SUMMARY:Bieg Wings for Life - strefa kibica
DESCRIPTION:
URL:https://tp.info.pl/event/bieg-wings-for-life-strefa-kibica/
LOCATION:Wysogotowo\, skrzyżowanie ulic: Wierzbowej z Bukowską
CATEGORIES:Sport
END:VEVENT
BEGIN:VEVENT
DTSTART;TZID=Europe/Warsaw:20240525T100000
DTEND;TZID=Europe/Warsaw:20240525T163000
DTSTAMP:20260422T095318
CREATED:20240523T155915Z
LAST-MODIFIED:20240523T155923Z
UID:5129-1716631200-1716654600@tp.info.pl
SUMMARY:Tarnovia Cup 2024 w szermierce
DESCRIPTION:
URL:https://tp.info.pl/event/tarnovia-cup-2024-w-szermierce/
LOCATION:Hala OSiR przy ul. Nowej 15 w Tarnowie Podgórnym
CATEGORIES:Sport
END:VEVENT
BEGIN:VEVENT
DTSTART;TZID=Europe/Warsaw:20240529T170000
DTEND;TZID=Europe/Warsaw:20240529T183000
DTSTAMP:20260422T095318
CREATED:20240528T210742Z
LAST-MODIFIED:20240528T210748Z
UID:5173-1717002000-1717007400@tp.info.pl
SUMMARY:Mecz GKS Tarnovia Tarnowo Podgórne vs. Wiara Lecha Poznań
DESCRIPTION:
URL:https://tp.info.pl/event/mecz-gks-tarnovia-tarnowo-podgorne-vs-wiara-lecha-poznan/
LOCATION:Stadion Piłkarski przy ul. 23 Października 34 w Tarnowie Podgórnym
CATEGORIES:Sport
END:VEVENT
END:VCALENDAR