BEGIN:VCALENDAR
VERSION:2.0
PRODID:-//Informacje z gminy Tarnowo Podgórne - ECPv6.15.20//NONSGML v1.0//EN
CALSCALE:GREGORIAN
METHOD:PUBLISH
X-WR-CALNAME:Informacje z gminy Tarnowo Podgórne
X-ORIGINAL-URL:https://tp.info.pl
X-WR-CALDESC:Wydarzenia dla Informacje z gminy Tarnowo Podgórne
REFRESH-INTERVAL;VALUE=DURATION:PT1H
X-Robots-Tag:noindex
X-PUBLISHED-TTL:PT1H
BEGIN:VTIMEZONE
TZID:Europe/Warsaw
BEGIN:DAYLIGHT
TZOFFSETFROM:+0100
TZOFFSETTO:+0200
TZNAME:CEST
DTSTART:20240331T010000
END:DAYLIGHT
BEGIN:STANDARD
TZOFFSETFROM:+0200
TZOFFSETTO:+0100
TZNAME:CET
DTSTART:20241027T010000
END:STANDARD
BEGIN:DAYLIGHT
TZOFFSETFROM:+0100
TZOFFSETTO:+0200
TZNAME:CEST
DTSTART:20250330T010000
END:DAYLIGHT
BEGIN:STANDARD
TZOFFSETFROM:+0200
TZOFFSETTO:+0100
TZNAME:CET
DTSTART:20251026T010000
END:STANDARD
BEGIN:DAYLIGHT
TZOFFSETFROM:+0100
TZOFFSETTO:+0200
TZNAME:CEST
DTSTART:20260329T010000
END:DAYLIGHT
BEGIN:STANDARD
TZOFFSETFROM:+0200
TZOFFSETTO:+0100
TZNAME:CET
DTSTART:20261025T010000
END:STANDARD
BEGIN:DAYLIGHT
TZOFFSETFROM:+0100
TZOFFSETTO:+0200
TZNAME:CEST
DTSTART:20270328T010000
END:DAYLIGHT
BEGIN:STANDARD
TZOFFSETFROM:+0200
TZOFFSETTO:+0100
TZNAME:CET
DTSTART:20271031T010000
END:STANDARD
END:VTIMEZONE
BEGIN:VEVENT
DTSTART;TZID=Europe/Warsaw:20251202T160000
DTEND;TZID=Europe/Warsaw:20260118T190000
DTSTAMP:20260421T003225
CREATED:20251130T194515Z
LAST-MODIFIED:20251130T194522Z
UID:8807-1764691200-1768762800@tp.info.pl
SUMMARY:„Jesienny liść” – wystawa dzieci z Przeźmierowa
DESCRIPTION:
URL:https://tp.info.pl/event/jesienny-lisc-wystawa-dzieci-z-przezmierowa/
LOCATION:CK Przeźmierowo
CATEGORIES:Wydarzenia kulturalne
END:VEVENT
BEGIN:VEVENT
DTSTART;TZID=Europe/Warsaw:20251207T090000
DTEND;TZID=Europe/Warsaw:20251207T150000
DTSTAMP:20260421T003225
CREATED:20251118T101259Z
LAST-MODIFIED:20251118T101303Z
UID:8637-1765098000-1765119600@tp.info.pl
SUMMARY:Spinning - XXII Edycja Rankingu Sołectw Gminy Tarnowo Podgórne
DESCRIPTION:
URL:https://tp.info.pl/event/spinning-przezmierowo/
LOCATION:hala sportowa OSiR w Przeźmierowie – ul. Kościelna 46/48
CATEGORIES:Sport
END:VEVENT
BEGIN:VEVENT
DTSTART;TZID=Europe/Warsaw:20251207T100000
DTEND;TZID=Europe/Warsaw:20251207T160000
DTSTAMP:20260421T003225
CREATED:20251203T211615Z
LAST-MODIFIED:20251203T211619Z
UID:8861-1765101600-1765123200@tp.info.pl
SUMMARY:Turniej świąteczny w tenisie stołowym
DESCRIPTION:
URL:https://tp.info.pl/event/turniej-swiateczny-w-tenisie-stolowym/
LOCATION:hala sportowa OSiR w Przeźmierowie – ul. Kościelna 46/48
CATEGORIES:Sport
END:VEVENT
BEGIN:VEVENT
DTSTART;TZID=Europe/Warsaw:20251213T170000
DTEND;TZID=Europe/Warsaw:20251213T180000
DTSTAMP:20260421T003225
CREATED:20251123T182309Z
LAST-MODIFIED:20251123T182350Z
UID:8719-1765645200-1765648800@tp.info.pl
SUMMARY:Spektakl pt. \,\,Podróż do Bożego Narodzenia" formacji \,\,Senioritki"
DESCRIPTION:
URL:https://tp.info.pl/event/spektakl-w-ck-przezmierowo/
LOCATION:CK Przeźmierowo
CATEGORIES:Wydarzenia kulturalne
END:VEVENT
END:VCALENDAR