BEGIN:VCALENDAR
VERSION:2.0
PRODID:-//Informacje z gminy Tarnowo Podgórne - ECPv6.15.20//NONSGML v1.0//EN
CALSCALE:GREGORIAN
METHOD:PUBLISH
X-WR-CALNAME:Informacje z gminy Tarnowo Podgórne
X-ORIGINAL-URL:https://tp.info.pl
X-WR-CALDESC:Wydarzenia dla Informacje z gminy Tarnowo Podgórne
REFRESH-INTERVAL;VALUE=DURATION:PT1H
X-Robots-Tag:noindex
X-PUBLISHED-TTL:PT1H
BEGIN:VTIMEZONE
TZID:Europe/Warsaw
BEGIN:DAYLIGHT
TZOFFSETFROM:+0100
TZOFFSETTO:+0200
TZNAME:CEST
DTSTART:20230326T010000
END:DAYLIGHT
BEGIN:STANDARD
TZOFFSETFROM:+0200
TZOFFSETTO:+0100
TZNAME:CET
DTSTART:20231029T010000
END:STANDARD
BEGIN:DAYLIGHT
TZOFFSETFROM:+0100
TZOFFSETTO:+0200
TZNAME:CEST
DTSTART:20240331T010000
END:DAYLIGHT
BEGIN:STANDARD
TZOFFSETFROM:+0200
TZOFFSETTO:+0100
TZNAME:CET
DTSTART:20241027T010000
END:STANDARD
BEGIN:DAYLIGHT
TZOFFSETFROM:+0100
TZOFFSETTO:+0200
TZNAME:CEST
DTSTART:20250330T010000
END:DAYLIGHT
BEGIN:STANDARD
TZOFFSETFROM:+0200
TZOFFSETTO:+0100
TZNAME:CET
DTSTART:20251026T010000
END:STANDARD
BEGIN:DAYLIGHT
TZOFFSETFROM:+0100
TZOFFSETTO:+0200
TZNAME:CEST
DTSTART:20260329T010000
END:DAYLIGHT
BEGIN:STANDARD
TZOFFSETFROM:+0200
TZOFFSETTO:+0100
TZNAME:CET
DTSTART:20261025T010000
END:STANDARD
END:VTIMEZONE
BEGIN:VEVENT
DTSTART;TZID=Europe/Warsaw:20251205T190000
DTEND;TZID=Europe/Warsaw:20251205T200000
DTSTAMP:20260420T163421
CREATED:20251123T204549Z
LAST-MODIFIED:20251123T204552Z
UID:8733-1764961200-1764964800@tp.info.pl
SUMMARY:Obecni\, nieObecni - koncert Duetu Błogo
DESCRIPTION:
URL:https://tp.info.pl/event/koncert-duetu-blogo/
LOCATION:DK w Tarnowie Podgórnym
CATEGORIES:Wydarzenia kulturalne
END:VEVENT
BEGIN:VEVENT
DTSTART;TZID=Europe/Warsaw:20251108T180000
DTEND;TZID=Europe/Warsaw:20251108T190000
DTSTAMP:20260420T163421
CREATED:20251020T201650Z
LAST-MODIFIED:20251020T202024Z
UID:8388-1762624800-1762628400@tp.info.pl
SUMMARY:Zaduszki Jazzowe w DK Tarnowo Podgórne
DESCRIPTION:  \n 
URL:https://tp.info.pl/event/zaduszki-jazzowe/
LOCATION:DK Tarnowo Podgórne\, u. Ogrodowa 14\, Tarnowo Podgórne\, wielkopolskie\, 62-080
CATEGORIES:Wydarzenia kulturalne
END:VEVENT
BEGIN:VEVENT
DTSTART;TZID=Europe/Warsaw:20251025T110000
DTEND;TZID=Europe/Warsaw:20251025T140000
DTSTAMP:20260420T163421
CREATED:20250910T121520Z
LAST-MODIFIED:20250910T121524Z
UID:8080-1761390000-1761400800@tp.info.pl
SUMMARY:Przegląd wokalny \,\,Rozśpiewana gmina"
DESCRIPTION:dźmier
URL:https://tp.info.pl/event/przeglad-wokalny-rozspiewana-gmina-2/
LOCATION:CK Przeźmierowo
CATEGORIES:Wydarzenia kulturalne
END:VEVENT
BEGIN:VEVENT
DTSTART;TZID=Europe/Warsaw:20250803T131500
DTEND;TZID=Europe/Warsaw:20250803T141500
DTSTAMP:20260420T163421
CREATED:20250715T142839Z
LAST-MODIFIED:20250715T142843Z
UID:7676-1754226900-1754230500@tp.info.pl
SUMMARY:Lusowskie Spotkania Muzyczne
DESCRIPTION:
URL:https://tp.info.pl/event/lusowskie-spotkania-muzyczne-3/
LOCATION:Lusowo\, Kościół
CATEGORIES:Wydarzenia kulturalne
END:VEVENT
BEGIN:VEVENT
DTSTART;TZID=Europe/Warsaw:20250601T131500
DTEND;TZID=Europe/Warsaw:20250601T150000
DTSTAMP:20260420T163421
CREATED:20250505T135826Z
LAST-MODIFIED:20250505T135838Z
UID:7216-1748783700-1748790000@tp.info.pl
SUMMARY:Koncert STOKROTKI w ramach LSM
DESCRIPTION:
URL:https://tp.info.pl/event/lusowskie-spotkania-muzyczne/
LOCATION:Lusowo\, Kościół
CATEGORIES:Wydarzenia kulturalne
END:VEVENT
BEGIN:VEVENT
DTSTART;TZID=Europe/Warsaw:20250412T160000
DTEND;TZID=Europe/Warsaw:20250412T170000
DTSTAMP:20260420T163421
CREATED:20250404T175130Z
LAST-MODIFIED:20250404T175130Z
UID:7049-1744473600-1744477200@tp.info.pl
SUMMARY:Gala \,\,Wiosna z Modrakami"
DESCRIPTION:
URL:https://tp.info.pl/event/gala-wiosna-z-modrakami/
LOCATION:CK Przeźmierowo
CATEGORIES:Wydarzenia kulturalne
END:VEVENT
BEGIN:VEVENT
DTSTART;TZID=Europe/Warsaw:20250405T180000
DTEND;TZID=Europe/Warsaw:20250405T190000
DTSTAMP:20260420T163421
CREATED:20250304T141327Z
LAST-MODIFIED:20250304T141331Z
UID:6845-1743876000-1743879600@tp.info.pl
SUMMARY:Artystyczne trio w CK Przeźmierowo
DESCRIPTION:
URL:https://tp.info.pl/event/artystyczne-trio-w-ck-przezmierowo/
LOCATION:CK Przeźmierowo
CATEGORIES:Wydarzenia kulturalne
END:VEVENT
BEGIN:VEVENT
DTSTART;TZID=Europe/Warsaw:20250215T180000
DTEND;TZID=Europe/Warsaw:20250215T193000
DTSTAMP:20260420T163421
CREATED:20250124T101406Z
LAST-MODIFIED:20250124T101418Z
UID:6564-1739642400-1739647800@tp.info.pl
SUMMARY:\,\,Pałacowe Love" - koncert w Pałacu Jankowice
DESCRIPTION:
URL:https://tp.info.pl/event/palacowe-love-koncert-w-palacu-jankowice/
LOCATION:Pałac Jankowice
CATEGORIES:Wydarzenia kulturalne
END:VEVENT
BEGIN:VEVENT
DTSTART;TZID=Europe/Warsaw:20250215T180000
DTEND;TZID=Europe/Warsaw:20250215T190000
DTSTAMP:20260420T163421
CREATED:20250109T193957Z
LAST-MODIFIED:20250109T194003Z
UID:6503-1739642400-1739646000@tp.info.pl
SUMMARY:TUGA w CK Przeźmierowo
DESCRIPTION:
URL:https://tp.info.pl/event/tuga-w-ck-przezmierowo/
LOCATION:CK Przeźmierowo
CATEGORIES:Wydarzenia kulturalne
END:VEVENT
BEGIN:VEVENT
DTSTART;TZID=Europe/Warsaw:20250208T180000
DTEND;TZID=Europe/Warsaw:20250208T190000
DTSTAMP:20260420T163421
CREATED:20250108T075611Z
LAST-MODIFIED:20250108T075622Z
UID:6493-1739037600-1739041200@tp.info.pl
SUMMARY:\,\,Winter Songs" - koncert jazzowy Moniki Borzym
DESCRIPTION:
URL:https://tp.info.pl/event/winter-songs-koncert-jazzowy-moniki-borzym/
LOCATION:CK Przeźmierowo
CATEGORIES:Wydarzenia kulturalne
END:VEVENT
BEGIN:VEVENT
DTSTART;TZID=Europe/Warsaw:20250112T150000
DTEND;TZID=Europe/Warsaw:20250112T170000
DTSTAMP:20260420T163421
CREATED:20250102T113055Z
LAST-MODIFIED:20250102T113110Z
UID:6423-1736694000-1736701200@tp.info.pl
SUMMARY:\,\,Śpiewamy kolędy" - Koło Śpiewu im. Feliksa Nowowiejskiego
DESCRIPTION:
URL:https://tp.info.pl/event/spiewamy-koledy-kolo-spiewu-im-feliksa-nowowiejskiego/
LOCATION:DK w Tarnowie Podgórnym
CATEGORIES:Wydarzenia kulturalne
END:VEVENT
BEGIN:VEVENT
DTSTART;TZID=Europe/Warsaw:20241123T180000
DTEND;TZID=Europe/Warsaw:20241123T200000
DTSTAMP:20260420T163421
CREATED:20241107T100335Z
LAST-MODIFIED:20241107T100339Z
UID:6072-1732384800-1732392000@tp.info.pl
SUMMARY:Koncert Orkiestry Kameralnej Polskiego Radia Amadeus
DESCRIPTION:
URL:https://tp.info.pl/event/koncert-orkiestry-kameralnej-polskiego-radia-amadeus/
LOCATION:CK Przeźmierowo
CATEGORIES:Wydarzenia kulturalne
END:VEVENT
BEGIN:VEVENT
DTSTART;TZID=Europe/Warsaw:20241119T110000
DTEND;TZID=Europe/Warsaw:20241119T120000
DTSTAMP:20260420T163421
CREATED:20241115T152612Z
LAST-MODIFIED:20241115T153034Z
UID:6151-1732014000-1732017600@tp.info.pl
SUMMARY:Audycja muzyczna dla dzieci
DESCRIPTION:
URL:https://tp.info.pl/event/audycja-muzyczna-dla-dzieci/
LOCATION:CK Przeźmierowo
CATEGORIES:Wydarzenia kulturalne
END:VEVENT
BEGIN:VEVENT
DTSTART;TZID=Europe/Warsaw:20241027T170000
DTEND;TZID=Europe/Warsaw:20241027T183000
DTSTAMP:20260420T163421
CREATED:20241016T143921Z
LAST-MODIFIED:20241016T143925Z
UID:5923-1730048400-1730053800@tp.info.pl
SUMMARY:\,\,Lunatyk - na żywo"\, duet Bolewski&Tubis
DESCRIPTION:
URL:https://tp.info.pl/event/lunatyk-na-zywo-duet-bolewskitubis/
LOCATION:DK w Tarnowie Podgórnym
CATEGORIES:Wydarzenia kulturalne
END:VEVENT
BEGIN:VEVENT
DTSTART;TZID=Europe/Warsaw:20241019T190000
DTEND;TZID=Europe/Warsaw:20241019T210000
DTSTAMP:20260420T163421
CREATED:20240902T153628Z
LAST-MODIFIED:20240902T153628Z
UID:5562-1729364400-1729371600@tp.info.pl
SUMMARY:Koncert \,\,Sorry Boys" w CK Przeźmierowo
DESCRIPTION:
URL:https://tp.info.pl/event/koncert-sorry-boys-w-ck-przezmierowo/
LOCATION:CK Przeźmierowo
CATEGORIES:Wydarzenia kulturalne
END:VEVENT
BEGIN:VEVENT
DTSTART;TZID=Europe/Warsaw:20241006T150000
DTEND;TZID=Europe/Warsaw:20241006T170000
DTSTAMP:20260420T163421
CREATED:20240905T075226Z
LAST-MODIFIED:20240905T075229Z
UID:5601-1728226800-1728234000@tp.info.pl
SUMMARY:Jesienne Święto Pieśni
DESCRIPTION:
URL:https://tp.info.pl/event/jesienne-swieto-piesni-2/
LOCATION:DK Tarnowo Podgórne\, u. Ogrodowa 14\, Tarnowo Podgórne\, wielkopolskie\, 62-080
CATEGORIES:Wydarzenia kulturalne
END:VEVENT
BEGIN:VEVENT
DTSTART;TZID=Europe/Warsaw:20240921T170000
DTEND;TZID=Europe/Warsaw:20240921T190000
DTSTAMP:20260420T163421
CREATED:20240911T212112Z
LAST-MODIFIED:20240911T212216Z
UID:5643-1726938000-1726945200@tp.info.pl
SUMMARY:Koncert Koła Śpiewu im. Feliksa Nowowiejskiego
DESCRIPTION:
URL:https://tp.info.pl/event/koncert-kola-spiewu-im-feliksa-nowowiejskiego/
LOCATION:Park Pamięci w Tarnowie Podgórnym
CATEGORIES:Wydarzenia kulturalne
END:VEVENT
BEGIN:VEVENT
DTSTART;TZID=Europe/Warsaw:20240901T130000
DTEND;TZID=Europe/Warsaw:20240901T140000
DTSTAMP:20260420T163421
CREATED:20240621T113519Z
LAST-MODIFIED:20240621T113532Z
UID:5331-1725195600-1725199200@tp.info.pl
SUMMARY:Koncert formacji \,\,Affectus"
DESCRIPTION:
URL:https://tp.info.pl/event/koncert-formacji-affectus/
LOCATION:Lusowo\, Kościół
CATEGORIES:Wydarzenia kulturalne
END:VEVENT
BEGIN:VEVENT
DTSTART;TZID=Europe/Warsaw:20240830T203000
DTEND;TZID=Europe/Warsaw:20240830T220000
DTSTAMP:20260420T163421
CREATED:20240621T111817Z
LAST-MODIFIED:20240621T111821Z
UID:5326-1725049800-1725055200@tp.info.pl
SUMMARY:Koncert James'a Harries'a
DESCRIPTION:
URL:https://tp.info.pl/event/koncert-jamesa-harriesa/
LOCATION:Park przy CK Przeźmierowo\, ul. Ogrodowa 13a\, Przeźmierowo\, wielkopolskie\, 62-080\, Poland
CATEGORIES:Wydarzenia kulturalne
END:VEVENT
BEGIN:VEVENT
DTSTART;TZID=Europe/Warsaw:20240804T130000
DTEND;TZID=Europe/Warsaw:20240804T140000
DTSTAMP:20260420T163421
CREATED:20240620T203928Z
LAST-MODIFIED:20240620T203933Z
UID:5315-1722776400-1722780000@tp.info.pl
SUMMARY:Koncert - \,\,Duet oczywisty"
DESCRIPTION:
URL:https://tp.info.pl/event/koncert-duet-oczywisty/
LOCATION:Lusowo\, Kościół
CATEGORIES:Wydarzenia kulturalne
END:VEVENT
BEGIN:VEVENT
DTSTART;TZID=Europe/Warsaw:20240728T170000
DTEND;TZID=Europe/Warsaw:20240728T190000
DTSTAMP:20260420T163421
CREATED:20240726T130705Z
LAST-MODIFIED:20240726T130709Z
UID:5410-1722186000-1722193200@tp.info.pl
SUMMARY:Recital Mateusza Ziółki
DESCRIPTION:
URL:https://tp.info.pl/event/recital-mateusza-ziolki/
LOCATION:Pałac Jankowice
CATEGORIES:Wydarzenia kulturalne
ORGANIZER;CN="Pa%C5%82ac Jankowice":MAILTO:palac.jankowice@tarnowo-podgorne.pl
END:VEVENT
BEGIN:VEVENT
DTSTART;TZID=Europe/Warsaw:20240707T130000
DTEND;TZID=Europe/Warsaw:20240707T140000
DTSTAMP:20260420T163421
CREATED:20240620T185851Z
LAST-MODIFIED:20240620T185851Z
UID:5313-1720357200-1720360800@tp.info.pl
SUMMARY:Koncert - Muzyka srebrnego ekranu
DESCRIPTION:
URL:https://tp.info.pl/event/koncert-muzyka-srebrnego-ekranu/
LOCATION:Lusowo\, Kościół
CATEGORIES:Wydarzenia kulturalne
END:VEVENT
BEGIN:VEVENT
DTSTART;TZID=Europe/Warsaw:20240705T080000
DTEND;TZID=Europe/Warsaw:20240706T170000
DTSTAMP:20260420T163421
CREATED:20231218T200038Z
LAST-MODIFIED:20231218T200038Z
UID:4056-1720166400-1720285200@tp.info.pl
SUMMARY:Edison Festival nad Jeziorem Kierskim
DESCRIPTION:
URL:https://tp.info.pl/event/edison-festival-nad-jeziorem-kierskim/
LOCATION:Jezioro Kierskie\, Baranowo\, wielkopolskie\, 62-081
CATEGORIES:Wydarzenia kulturalne
END:VEVENT
BEGIN:VEVENT
DTSTART;TZID=Europe/Warsaw:20240602T130000
DTEND;TZID=Europe/Warsaw:20240602T140000
DTSTAMP:20260420T163421
CREATED:20240514T190901Z
LAST-MODIFIED:20240514T190901Z
UID:5079-1717333200-1717336800@tp.info.pl
SUMMARY:Kwartet Smyczkowy w ramach Lusowskich Spotkań Muzycznych
DESCRIPTION:
URL:https://tp.info.pl/event/kwartet-smyczkowy-w-ramach-lusowskich-spotkan-muzycznych/
LOCATION:Lusowo\, Kościół
CATEGORIES:Wydarzenia kulturalne
END:VEVENT
BEGIN:VEVENT
DTSTART;TZID=Europe/Warsaw:20240519T180000
DTEND;TZID=Europe/Warsaw:20240519T200000
DTSTAMP:20260420T163421
CREATED:20240509T150725Z
LAST-MODIFIED:20240509T150725Z
UID:5045-1716141600-1716148800@tp.info.pl
SUMMARY:Koncert pt. \,\,Dzieci Kwiaty" Studia Piosenki GOK Sezam
DESCRIPTION:
URL:https://tp.info.pl/event/koncert-pt-dzieci-kwiaty-studia-piosenki-gok-sezam/
LOCATION:GOK Sezam
CATEGORIES:Wydarzenia kulturalne
END:VEVENT
END:VCALENDAR