BEGIN:VCALENDAR
VERSION:2.0
PRODID:-//Informacje z gminy Tarnowo Podgórne - ECPv6.15.20//NONSGML v1.0//EN
CALSCALE:GREGORIAN
METHOD:PUBLISH
X-WR-CALNAME:Informacje z gminy Tarnowo Podgórne
X-ORIGINAL-URL:https://tp.info.pl
X-WR-CALDESC:Wydarzenia dla Informacje z gminy Tarnowo Podgórne
REFRESH-INTERVAL;VALUE=DURATION:PT1H
X-Robots-Tag:noindex
X-PUBLISHED-TTL:PT1H
BEGIN:VTIMEZONE
TZID:Europe/Warsaw
BEGIN:DAYLIGHT
TZOFFSETFROM:+0100
TZOFFSETTO:+0200
TZNAME:CEST
DTSTART:20250330T010000
END:DAYLIGHT
BEGIN:STANDARD
TZOFFSETFROM:+0200
TZOFFSETTO:+0100
TZNAME:CET
DTSTART:20251026T010000
END:STANDARD
BEGIN:DAYLIGHT
TZOFFSETFROM:+0100
TZOFFSETTO:+0200
TZNAME:CEST
DTSTART:20260329T010000
END:DAYLIGHT
BEGIN:STANDARD
TZOFFSETFROM:+0200
TZOFFSETTO:+0100
TZNAME:CET
DTSTART:20261025T010000
END:STANDARD
BEGIN:DAYLIGHT
TZOFFSETFROM:+0100
TZOFFSETTO:+0200
TZNAME:CEST
DTSTART:20270328T010000
END:DAYLIGHT
BEGIN:STANDARD
TZOFFSETFROM:+0200
TZOFFSETTO:+0100
TZNAME:CET
DTSTART:20271031T010000
END:STANDARD
END:VTIMEZONE
BEGIN:VEVENT
DTSTART;TZID=Europe/Warsaw:20260210T110000
DTEND;TZID=Europe/Warsaw:20260210T120000
DTSTAMP:20260422T042137
CREATED:20260206T131022Z
LAST-MODIFIED:20260206T131022Z
UID:9426-1770721200-1770724800@tp.info.pl
SUMMARY:Mała Akademia Wielkich Kompozytorów - Ludwig van Beethoven
DESCRIPTION:
URL:https://tp.info.pl/event/mala-akademia-wielkich-kompozytorow-ludwig-van-beethoven/
LOCATION:CK Przeźmierowo
CATEGORIES:Wydarzenia kulturalne
END:VEVENT
BEGIN:VEVENT
DTSTART;TZID=Europe/Warsaw:20260216T160000
DTEND;TZID=Europe/Warsaw:20260331T190000
DTSTAMP:20260422T042137
CREATED:20260212T231029Z
LAST-MODIFIED:20260212T231052Z
UID:9498-1771257600-1774983600@tp.info.pl
SUMMARY:Wystawa malarska pt. \,\,Chaos kontrolowany"
DESCRIPTION:
URL:https://tp.info.pl/event/wystawa-malarska-pt-chaos-kontrolowany/
CATEGORIES:Wydarzenia kulturalne
END:VEVENT
BEGIN:VEVENT
DTSTART;TZID=Europe/Warsaw:20260303T190000
DTEND;TZID=Europe/Warsaw:20260303T200000
DTSTAMP:20260422T042137
CREATED:20260120T203841Z
LAST-MODIFIED:20260120T203847Z
UID:9233-1772564400-1772568000@tp.info.pl
SUMMARY:Koncert Grzegorza Turnae
DESCRIPTION:
URL:https://tp.info.pl/event/koncert-grzegorza-turnae/
LOCATION:CK Przeźmierowo
CATEGORIES:Sport
END:VEVENT
BEGIN:VEVENT
DTSTART;TZID=Europe/Warsaw:20260314T180000
DTEND;TZID=Europe/Warsaw:20260314T190000
DTSTAMP:20260422T042137
CREATED:20260303T082540Z
LAST-MODIFIED:20260303T082545Z
UID:9728-1773511200-1773514800@tp.info.pl
SUMMARY:Koncert Wiosenny \,\,Lusowiaków"
DESCRIPTION:
URL:https://tp.info.pl/event/koncert-wiosenny-lusowiakow/
LOCATION:CK Przeźmierowo
CATEGORIES:Wydarzenia kulturalne
END:VEVENT
BEGIN:VEVENT
DTSTART;TZID=Europe/Warsaw:20260322T123000
DTEND;TZID=Europe/Warsaw:20260322T130500
DTSTAMP:20260422T042137
CREATED:20260317T205113Z
LAST-MODIFIED:20260317T205152Z
UID:9868-1774182600-1774184700@tp.info.pl
SUMMARY:\,\,Jabłonka" - Atofri
DESCRIPTION:
URL:https://tp.info.pl/event/jablonka-atofri/
LOCATION:DK Tarnowo Podgórne\, u. Ogrodowa 14\, Tarnowo Podgórne\, wielkopolskie\, 62-080
CATEGORIES:Wydarzenia kulturalne
END:VEVENT
BEGIN:VEVENT
DTSTART;TZID=Europe/Warsaw:20260401T170000
DTEND;TZID=Europe/Warsaw:20260428T190000
DTSTAMP:20260422T042137
CREATED:20260409T084601Z
LAST-MODIFIED:20260409T084607Z
UID:10062-1775062800-1777402800@tp.info.pl
SUMMARY:Wystawa malarska pt. \,\,Od sztucznej inteligencji do dziecięcego pędzla"
DESCRIPTION:
URL:https://tp.info.pl/event/wystawa-malarska-dk-tarnowo-podgorne/
LOCATION:DK w Tarnowie Podgórnym
CATEGORIES:Wydarzenia kulturalne
END:VEVENT
BEGIN:VEVENT
DTSTART;TZID=Europe/Warsaw:20260407T180000
DTEND;TZID=Europe/Warsaw:20260407T193000
DTSTAMP:20260422T042137
CREATED:20260324T191448Z
LAST-MODIFIED:20260324T191448Z
UID:9949-1775584800-1775590200@tp.info.pl
SUMMARY:Spotkanie autorskie z Borysem Tynką
DESCRIPTION:
URL:https://tp.info.pl/event/spotkanie-autorskie-z-borysem-tynka/
LOCATION:Centrum Demokracji i Integracji Obywatelskiej w Tarnowie Podgórnym\, ul. Poznańska 99\, Tarnowo Podgórne\, 62-080
CATEGORIES:Wydarzenia kulturalne
END:VEVENT
BEGIN:VEVENT
DTSTART;TZID=Europe/Warsaw:20260410T180000
DTEND;TZID=Europe/Warsaw:20260410T190000
DTSTAMP:20260422T042137
CREATED:20260311T213221Z
LAST-MODIFIED:20260311T213221Z
UID:9827-1775844000-1775847600@tp.info.pl
SUMMARY:„Między linią a kreską” – wernisaż malarstwa Andrzeja Batora
DESCRIPTION:
URL:https://tp.info.pl/event/wernisaz-andrzeja-batora/
LOCATION:V.A. Gallery Poland\, ul. Wierzbowa 162\, Wysogotowo
CATEGORIES:Wydarzenia kulturalne
END:VEVENT
BEGIN:VEVENT
DTSTART;TZID=Europe/Warsaw:20260414T110000
DTEND;TZID=Europe/Warsaw:20260414T113000
DTSTAMP:20260422T042137
CREATED:20260324T144853Z
LAST-MODIFIED:20260324T144906Z
UID:9941-1776164400-1776166200@tp.info.pl
SUMMARY:Mała Akademia Wielkich Kompozytorów: Stanisław Moniuszko
DESCRIPTION:
URL:https://tp.info.pl/event/mala-akademia-wielkich-kompozytorow-stanislaw-moniuszko/
LOCATION:CK Przeźmierowo
CATEGORIES:Wydarzenia kulturalne
END:VEVENT
BEGIN:VEVENT
DTSTART;TZID=Europe/Warsaw:20260418T180000
DTEND;TZID=Europe/Warsaw:20260418T200000
DTSTAMP:20260422T042137
CREATED:20260327T140745Z
LAST-MODIFIED:20260327T140750Z
UID:9986-1776535200-1776542400@tp.info.pl
SUMMARY:Koncert pt. \,\,Jazzowy tribute to Łucja Prus"
DESCRIPTION:
URL:https://tp.info.pl/event/koncert-pt-jazzowy-tribute-to-lucja-prus/
LOCATION:DK w Tarnowie Podgórnym
CATEGORIES:Wydarzenia kulturalne
END:VEVENT
BEGIN:VEVENT
DTSTART;TZID=Europe/Warsaw:20260423T080000
DTEND;TZID=Europe/Warsaw:20260426T170000
DTSTAMP:20260422T042137
CREATED:20260409T090426Z
LAST-MODIFIED:20260409T090430Z
UID:10066-1776931200-1777222800@tp.info.pl
SUMMARY:Wystawa malarska \,\,Ważki. Królowe przemiany"
DESCRIPTION:
URL:https://tp.info.pl/event/wystawa-malarska/
LOCATION:CK Przeźmierowo
CATEGORIES:Wydarzenia kulturalne
END:VEVENT
BEGIN:VEVENT
DTSTART;TZID=Europe/Warsaw:20260424T080000
DTEND;TZID=Europe/Warsaw:20260426T170000
DTSTAMP:20260422T042137
CREATED:20260409T092900Z
LAST-MODIFIED:20260409T092900Z
UID:10074-1777017600-1777222800@tp.info.pl
SUMMARY:Teatr w Każdej Wiosce 2026 – finał pełen emocji i młodej energii
DESCRIPTION:
URL:https://tp.info.pl/event/teatr-w-kazdej-wiosce-ck-przezmierowo/
CATEGORIES:Wydarzenia kulturalne
END:VEVENT
BEGIN:VEVENT
DTSTART;TZID=Europe/Warsaw:20260428T180000
DTEND;TZID=Europe/Warsaw:20260428T184500
DTSTAMP:20260422T042137
CREATED:20260327T134801Z
LAST-MODIFIED:20260327T134820Z
UID:9981-1777399200-1777401900@tp.info.pl
SUMMARY:\,\,A WIOSENKA NA PŁOCIE W TEJ ZIELONEJ KAPOCIE”- spektakl da dzieci 3+
DESCRIPTION:
URL:https://tp.info.pl/event/spektakl-dla-dzieci-3/
LOCATION:DK w Tarnowie Podgórnym
CATEGORIES:Wydarzenia kulturalne
END:VEVENT
BEGIN:VEVENT
DTSTART;TZID=Europe/Warsaw:20260512T110000
DTEND;TZID=Europe/Warsaw:20260512T113000
DTSTAMP:20260422T042137
CREATED:20260409T114018Z
LAST-MODIFIED:20260409T114024Z
UID:10090-1778583600-1778585400@tp.info.pl
SUMMARY:Mała Akademia Wielkich Kompozytorów: Henryk Wieniawski
DESCRIPTION:
URL:https://tp.info.pl/event/mala-akademia-wielkich-kompozytorow-henryk-wieniawski/
LOCATION:CK Przeźmierowo
CATEGORIES:Wydarzenia kulturalne
END:VEVENT
BEGIN:VEVENT
DTSTART;TZID=Europe/Warsaw:20260530T160000
DTEND;TZID=Europe/Warsaw:20260530T180000
DTSTAMP:20260422T042137
CREATED:20260418T062204Z
LAST-MODIFIED:20260418T080516Z
UID:10202-1780156800-1780164000@tp.info.pl
SUMMARY:Koncert DzZPiT \,\,Modraki"
DESCRIPTION:
URL:https://tp.info.pl/event/koncert-dzzpit-modraki/
LOCATION:CK Przeźmierowo
CATEGORIES:Wydarzenia kulturalne
END:VEVENT
BEGIN:VEVENT
DTSTART;TZID=Europe/Warsaw:20260602T170000
DTEND;TZID=Europe/Warsaw:20260602T180000
DTSTAMP:20260422T042137
CREATED:20260302T211146Z
LAST-MODIFIED:20260302T211151Z
UID:9717-1780419600-1780423200@tp.info.pl
SUMMARY:Cezik: NutkoSfera
DESCRIPTION:
URL:https://tp.info.pl/event/cezik-nutkosfera/
LOCATION:CK Przeźmierowo
CATEGORIES:Wydarzenia kulturalne
END:VEVENT
END:VCALENDAR