BEGIN:VCALENDAR
VERSION:2.0
PRODID:-//Informacje z gminy Tarnowo Podgórne - ECPv6.15.20//NONSGML v1.0//EN
CALSCALE:GREGORIAN
METHOD:PUBLISH
X-WR-CALNAME:Informacje z gminy Tarnowo Podgórne
X-ORIGINAL-URL:https://tp.info.pl
X-WR-CALDESC:Wydarzenia dla Informacje z gminy Tarnowo Podgórne
REFRESH-INTERVAL;VALUE=DURATION:PT1H
X-Robots-Tag:noindex
X-PUBLISHED-TTL:PT1H
BEGIN:VTIMEZONE
TZID:Europe/Warsaw
BEGIN:DAYLIGHT
TZOFFSETFROM:+0100
TZOFFSETTO:+0200
TZNAME:CEST
DTSTART:20240331T010000
END:DAYLIGHT
BEGIN:STANDARD
TZOFFSETFROM:+0200
TZOFFSETTO:+0100
TZNAME:CET
DTSTART:20241027T010000
END:STANDARD
BEGIN:DAYLIGHT
TZOFFSETFROM:+0100
TZOFFSETTO:+0200
TZNAME:CEST
DTSTART:20250330T010000
END:DAYLIGHT
BEGIN:STANDARD
TZOFFSETFROM:+0200
TZOFFSETTO:+0100
TZNAME:CET
DTSTART:20251026T010000
END:STANDARD
BEGIN:DAYLIGHT
TZOFFSETFROM:+0100
TZOFFSETTO:+0200
TZNAME:CEST
DTSTART:20260329T010000
END:DAYLIGHT
BEGIN:STANDARD
TZOFFSETFROM:+0200
TZOFFSETTO:+0100
TZNAME:CET
DTSTART:20261025T010000
END:STANDARD
BEGIN:DAYLIGHT
TZOFFSETFROM:+0100
TZOFFSETTO:+0200
TZNAME:CEST
DTSTART:20270328T010000
END:DAYLIGHT
BEGIN:STANDARD
TZOFFSETFROM:+0200
TZOFFSETTO:+0100
TZNAME:CET
DTSTART:20271031T010000
END:STANDARD
END:VTIMEZONE
BEGIN:VEVENT
DTSTART;TZID=Europe/Warsaw:20251206T150000
DTEND;TZID=Europe/Warsaw:20251206T170000
DTSTAMP:20260421T042503
CREATED:20251130T191018Z
LAST-MODIFIED:20251130T191018Z
UID:8802-1765033200-1765040400@tp.info.pl
SUMMARY:Mikstol Tarnovia Basket vs. Energa Basketball Elbląg
DESCRIPTION:Basket \n 
URL:https://tp.info.pl/event/mikstol-tarnovia-basket-vs-energa-basketball-elblag-2/
LOCATION:Hala OSiR przy ul. Nowej 15 Tarnowo Podgórne\, ul. Nowa 15\, Tarnowo Podgórne\, wielkopolskie\, 62-080
CATEGORIES:Sport
END:VEVENT
BEGIN:VEVENT
DTSTART;TZID=Europe/Warsaw:20251205T190000
DTEND;TZID=Europe/Warsaw:20251205T200000
DTSTAMP:20260421T042503
CREATED:20251123T204549Z
LAST-MODIFIED:20251123T204552Z
UID:8733-1764961200-1764964800@tp.info.pl
SUMMARY:Obecni\, nieObecni - koncert Duetu Błogo
DESCRIPTION:
URL:https://tp.info.pl/event/koncert-duetu-blogo/
LOCATION:DK w Tarnowie Podgórnym
CATEGORIES:Wydarzenia kulturalne
END:VEVENT
BEGIN:VEVENT
DTSTART;TZID=Europe/Warsaw:20251205T180000
DTEND;TZID=Europe/Warsaw:20251205T200000
DTSTAMP:20260421T042503
CREATED:20251125T132026Z
LAST-MODIFIED:20251125T191855Z
UID:8761-1764957600-1764964800@tp.info.pl
SUMMARY:\,\,PrezentART 2025. Mikołajkowa odsłona sztuki"
DESCRIPTION:
URL:https://tp.info.pl/event/prezentart-2025-mikolajkowa-odslona-sztuki/
LOCATION:V.A. Gallery Poland\, ul. Wierzbowa 162\, Wysogotowo
CATEGORIES:Wydarzenia kulturalne
END:VEVENT
BEGIN:VEVENT
DTSTART;TZID=Europe/Warsaw:20251203T080000
DTEND;TZID=Europe/Warsaw:20260127T170000
DTSTAMP:20260421T042503
CREATED:20251130T201358Z
LAST-MODIFIED:20251130T201419Z
UID:8816-1764748800-1769533200@tp.info.pl
SUMMARY:„OP ART” oraz perspektywa 3Dod - wystawa malarska
DESCRIPTION:
URL:https://tp.info.pl/event/op-art-3dod-wystawa-malarska-tarnowo-podgorne/
LOCATION:DK w Tarnowie Podgórnym
CATEGORIES:Wydarzenia kulturalne
END:VEVENT
BEGIN:VEVENT
DTSTART;TZID=Europe/Warsaw:20251202T180000
DTEND;TZID=Europe/Warsaw:20251202T184500
DTSTAMP:20260421T042503
CREATED:20251123T194245Z
LAST-MODIFIED:20251123T194252Z
UID:8729-1764698400-1764701100@tp.info.pl
SUMMARY:Koncert Teatru Mozaika pt. \,\,Zapomniane zwrotki kolęd"
DESCRIPTION:
URL:https://tp.info.pl/event/teatr-mozaika/
LOCATION:DK w Tarnowie Podgórnym
CATEGORIES:Wydarzenia kulturalne
END:VEVENT
BEGIN:VEVENT
DTSTART;TZID=Europe/Warsaw:20251202T160000
DTEND;TZID=Europe/Warsaw:20260118T190000
DTSTAMP:20260421T042503
CREATED:20251130T195803Z
LAST-MODIFIED:20251130T195806Z
UID:8811-1764691200-1768762800@tp.info.pl
SUMMARY:Wystawa malarska pt. \,\,Manifest Wyobraźni"
DESCRIPTION:
URL:https://tp.info.pl/event/wystawa-malarska-pt-manifest-wyobrazni/
CATEGORIES:Wydarzenia kulturalne
END:VEVENT
BEGIN:VEVENT
DTSTART;TZID=Europe/Warsaw:20251129T170000
DTEND;TZID=Europe/Warsaw:20251129T183000
DTSTAMP:20260421T042503
CREATED:20251128T130004Z
LAST-MODIFIED:20251128T130008Z
UID:8787-1764435600-1764441000@tp.info.pl
SUMMARY:Mecz Tarnovia Volleyball vs. Joker Piła
DESCRIPTION:
URL:https://tp.info.pl/event/mecz-tarnovia-volleyball-vs-joker-pila/
LOCATION:hala osir Lusówko\, Szkolna 7
CATEGORIES:Sport
END:VEVENT
BEGIN:VEVENT
DTSTART;TZID=Europe/Warsaw:20251129T170000
DTEND;TZID=Europe/Warsaw:20251129T180000
DTSTAMP:20260421T042503
CREATED:20251123T190835Z
LAST-MODIFIED:20251123T191636Z
UID:8724-1764435600-1764439200@tp.info.pl
SUMMARY:Spektakl pt. \,\,Z innej bajki" TARSON
DESCRIPTION:
URL:https://tp.info.pl/event/spektakl-tarson-tarnowo-podgorne/
LOCATION:CK Przeźmierowo
CATEGORIES:Wydarzenia kulturalne
END:VEVENT
BEGIN:VEVENT
DTSTART;TZID=Europe/Warsaw:20251129T100000
DTEND;TZID=Europe/Warsaw:20251129T200000
DTSTAMP:20260421T042503
CREATED:20251120T104526Z
LAST-MODIFIED:20251120T104535Z
UID:8685-1764410400-1764446400@tp.info.pl
SUMMARY:Akcja charytatywna dla Jasia Pietrzyńskiego w Tarnowie Podgórnym
DESCRIPTION:
URL:https://tp.info.pl/event/jas-pietrzynski-tarnowo-podgorne/
LOCATION:Centrum Demokracji i Integracji Obywatelskiej w Tarnowie Podgórnym\, ul. Poznańska 99\, Tarnowo Podgórne\, 62-080
CATEGORIES:Wydarzenia kulturalne
END:VEVENT
BEGIN:VEVENT
DTSTART;TZID=Europe/Warsaw:20251127T180000
DTEND;TZID=Europe/Warsaw:20251127T200000
DTSTAMP:20260421T042503
CREATED:20251118T184329Z
LAST-MODIFIED:20251118T184422Z
UID:8674-1764266400-1764273600@tp.info.pl
SUMMARY:Andrzejki z \,\,Lusowiakami"
DESCRIPTION:  \n 
URL:https://tp.info.pl/event/andrzejki-lusowo/
LOCATION:Lusowo\, świetlica\, Ogrodowa 3\, Lusowo\, 62-080\, Poland
CATEGORIES:Wydarzenia kulturalne
END:VEVENT
BEGIN:VEVENT
DTSTART;TZID=Europe/Warsaw:20251123T170000
DTEND;TZID=Europe/Warsaw:20251123T190000
DTSTAMP:20260421T042503
CREATED:20251123T123032Z
LAST-MODIFIED:20251123T123037Z
UID:8699-1763917200-1763924400@tp.info.pl
SUMMARY:Mikstol Tarnovia vs. Gromy Nowy Tomyśl
DESCRIPTION:
URL:https://tp.info.pl/event/mikstol-tarnovia-vs-gromy-nowy-tomysl/
LOCATION:Hala OSiR przy ul. Nowej 15 Tarnowo Podgórne\, ul. Nowa 15\, Tarnowo Podgórne\, wielkopolskie\, 62-080
CATEGORIES:Sport
END:VEVENT
BEGIN:VEVENT
DTSTART;TZID=Europe/Warsaw:20251123T170000
DTEND;TZID=Europe/Warsaw:20251123T190000
DTSTAMP:20260421T042503
CREATED:20251117T195645Z
LAST-MODIFIED:20251117T195925Z
UID:8621-1763917200-1763924400@tp.info.pl
SUMMARY:Mikstol Tarnovia Basket vs. Gromy Nowy Tomyśl - III liga
DESCRIPTION:
URL:https://tp.info.pl/event/mikstol-tarnovia-basket-vs-gromy-nowy-tomysl-iii-liga/
LOCATION:Hala OSiR przy ul. Nowej 15 Tarnowo Podgórne\, ul. Nowa 15\, Tarnowo Podgórne\, wielkopolskie\, 62-080
CATEGORIES:Sport
END:VEVENT
BEGIN:VEVENT
DTSTART;TZID=Europe/Warsaw:20251123T140000
DTEND;TZID=Europe/Warsaw:20251123T160000
DTSTAMP:20260421T042503
CREATED:20251123T122744Z
LAST-MODIFIED:20251123T122755Z
UID:8697-1763906400-1763913600@tp.info.pl
SUMMARY:Mikstol Tarnovia Basket vs. Sportowa Politechnika & Akademia Gortata
DESCRIPTION:
URL:https://tp.info.pl/event/mikstol-tarnovia-basket-5/
LOCATION:Hala OSiR przy ul. Nowej 15 Tarnowo Podgórne\, ul. Nowa 15\, Tarnowo Podgórne\, wielkopolskie\, 62-080
CATEGORIES:Sport
END:VEVENT
BEGIN:VEVENT
DTSTART;TZID=Europe/Warsaw:20251122T140000
DTEND;TZID=Europe/Warsaw:20251122T160000
DTSTAMP:20260421T042503
CREATED:20251117T201504Z
LAST-MODIFIED:20251117T201547Z
UID:8623-1763820000-1763827200@tp.info.pl
SUMMARY:Mikstol Tarnovia Basket vs. Szkoła Gortata Gdańsk - II liga
DESCRIPTION:
URL:https://tp.info.pl/event/mikstol-tarnovia-basket-vs-szkola-gortata-gdansk-ii-liga/
LOCATION:Hala OSiR przy ul. Nowej 15 w Tarnowie Podgórnym
CATEGORIES:Sport
END:VEVENT
BEGIN:VEVENT
DTSTART;TZID=Europe/Warsaw:20251117T190000
DTEND;TZID=Europe/Warsaw:20251117T210000
DTSTAMP:20260421T042503
CREATED:20251003T103731Z
LAST-MODIFIED:20251003T103735Z
UID:8282-1763406000-1763413200@tp.info.pl
SUMMARY:\,\,Scenariusz dla trzech aktorów"
DESCRIPTION:
URL:https://tp.info.pl/event/scenariusz-dla-trzech-aktorow/
LOCATION:CK Przeźmierowo
CATEGORIES:Wydarzenia kulturalne
END:VEVENT
BEGIN:VEVENT
DTSTART;TZID=Europe/Warsaw:20251115T180000
DTEND;TZID=Europe/Warsaw:20251115T200000
DTSTAMP:20260421T042503
CREATED:20250626T145109Z
LAST-MODIFIED:20250626T145112Z
UID:7572-1763229600-1763236800@tp.info.pl
SUMMARY:Koncert JUCHO
DESCRIPTION:
URL:https://tp.info.pl/event/koncert-jucho/
LOCATION:CK Przeźmierowo
CATEGORIES:Wydarzenia kulturalne
END:VEVENT
BEGIN:VEVENT
DTSTART;TZID=Europe/Warsaw:20251108T170000
DTEND;TZID=Europe/Warsaw:20251108T190000
DTSTAMP:20260421T042503
CREATED:20251103T131922Z
LAST-MODIFIED:20251103T132733Z
UID:8522-1762621200-1762628400@tp.info.pl
SUMMARY:Mikstol Tarnovia Basket vs. Energa Trefl II Sopot
DESCRIPTION:
URL:https://tp.info.pl/event/mikstol-tarnovia-basket-3/
LOCATION:Hala OSiR przy ul. Nowej 15 Tarnowo Podgórne\, ul. Nowa 15\, Tarnowo Podgórne\, wielkopolskie\, 62-080
CATEGORIES:Sport
END:VEVENT
BEGIN:VEVENT
DTSTART;TZID=Europe/Warsaw:20251108T163000
DTEND;TZID=Europe/Warsaw:20251108T200000
DTSTAMP:20260421T042503
CREATED:20251027T102631Z
LAST-MODIFIED:20251027T102635Z
UID:8464-1762619400-1762632000@tp.info.pl
SUMMARY:Mecz na szczycie I ligi tenisa stołowego
DESCRIPTION:
URL:https://tp.info.pl/event/kings-of-the-table-3/
LOCATION:hala osir Lusówko\, Szkolna 7
CATEGORIES:Sport
END:VEVENT
BEGIN:VEVENT
DTSTART;TZID=Europe/Warsaw:20251105T170000
DTEND;TZID=Europe/Warsaw:20251105T190000
DTSTAMP:20260421T042503
CREATED:20251029T103113Z
LAST-MODIFIED:20251029T103116Z
UID:8487-1762362000-1762369200@tp.info.pl
SUMMARY:Mecz Tarnovia Volleyball vs. SUS Travel Elephant Trzebiatów
DESCRIPTION:
URL:https://tp.info.pl/event/tarnovia-volleyball-2/
LOCATION:hala OSiR przy Zespole Szkół Technicznych Tarnowo Podgórne\, ul. Nowa 60
CATEGORIES:Sport
END:VEVENT
BEGIN:VEVENT
DTSTART;TZID=Europe/Warsaw:20251102T170000
DTEND;TZID=Europe/Warsaw:20251102T190000
DTSTAMP:20260421T042503
CREATED:20251021T142052Z
LAST-MODIFIED:20251021T142056Z
UID:8402-1762102800-1762110000@tp.info.pl
SUMMARY:Koncert Zespołu Pieśni i Tańća Lusowiacy ku czci świętych patronów Polski
DESCRIPTION:
URL:https://tp.info.pl/event/koncert-lusowiacy/
LOCATION:Lusowo\, Kościół
CATEGORIES:Wydarzenia kulturalne
END:VEVENT
BEGIN:VEVENT
DTSTART;TZID=Europe/Warsaw:20251029T080000
DTEND;TZID=Europe/Warsaw:20251126T170000
DTSTAMP:20260421T042503
CREATED:20251020T205233Z
LAST-MODIFIED:20251020T205240Z
UID:8392-1761724800-1764176400@tp.info.pl
SUMMARY:Wystawa malarska pt. \,\,Alternatywny świat"
DESCRIPTION:
URL:https://tp.info.pl/event/alternatywny-swiat/
LOCATION:Galeria w Rotundzie w Domu Kultury w Tarnowie Podgórnym\, ul. Ogrodowa 14\, Tarnowo Podgórne\, wielkopolskie\, 62-080
CATEGORIES:Wydarzenia kulturalne
END:VEVENT
BEGIN:VEVENT
DTSTART;TZID=Europe/Warsaw:20251026T090000
DTEND;TZID=Europe/Warsaw:20251026T140000
DTSTAMP:20260421T042503
CREATED:20251021T195108Z
LAST-MODIFIED:20251021T195114Z
UID:8420-1761469200-1761487200@tp.info.pl
SUMMARY:Turniej tenisa ziemnego dla dzieci
DESCRIPTION:
URL:https://tp.info.pl/event/turniej-tenisa-ziemnego-dla-dzieci/
LOCATION:hala sportowa OSiR w Przeźmierowie – ul. Kościelna 46/48
CATEGORIES:Sport
END:VEVENT
BEGIN:VEVENT
DTSTART;TZID=Europe/Warsaw:20251023T190000
DTEND;TZID=Europe/Warsaw:20251023T200000
DTSTAMP:20260421T042503
CREATED:20250918T152454Z
LAST-MODIFIED:20250918T152500Z
UID:8148-1761246000-1761249600@tp.info.pl
SUMMARY:Koncert Affabre Concinui
DESCRIPTION:
URL:https://tp.info.pl/event/koncert-affabre-concinui/
LOCATION:CK Przeźmierowo
CATEGORIES:Wydarzenia kulturalne
END:VEVENT
BEGIN:VEVENT
DTSTART;TZID=Europe/Warsaw:20251019T123000
DTEND;TZID=Europe/Warsaw:20251019T131000
DTSTAMP:20260421T042503
CREATED:20250929T101006Z
LAST-MODIFIED:20250929T101037Z
UID:8229-1760877000-1760879400@tp.info.pl
SUMMARY:Spektakl pt. \,\,Pinokio" w DKw Tarnowie Podgórnym
DESCRIPTION:
URL:https://tp.info.pl/event/pinokio-spektakl-tarnowo-podgorne/
LOCATION:DK w Tarnowie Podgórnym
CATEGORIES:Wydarzenia kulturalne
END:VEVENT
BEGIN:VEVENT
DTSTART;TZID=Europe/Warsaw:20251018T180000
DTEND;TZID=Europe/Warsaw:20251018T200000
DTSTAMP:20260421T042503
CREATED:20250930T180651Z
LAST-MODIFIED:20250930T180700Z
UID:8248-1760810400-1760817600@tp.info.pl
SUMMARY:Spektakl pt.: \,\,Upiór w sanatorium\, czyli Nic na serio"
DESCRIPTION:
URL:https://tp.info.pl/event/upior-w-sanatorium-tarnowo-podgorne/
LOCATION:DK w Tarnowie Podgórnym
CATEGORIES:Wydarzenia kulturalne
END:VEVENT
BEGIN:VEVENT
DTSTART;TZID=Europe/Warsaw:20251005T150000
DTEND;TZID=Europe/Warsaw:20251005T170000
DTSTAMP:20260421T042503
CREATED:20250922T180808Z
LAST-MODIFIED:20250922T180812Z
UID:8179-1759676400-1759683600@tp.info.pl
SUMMARY:Jesienne Święto Pieśni
DESCRIPTION:
URL:https://tp.info.pl/event/jesienne-swieto-piesni-3/
LOCATION:DK w Tarnowie Podgórnym
CATEGORIES:Wydarzenia kulturalne
END:VEVENT
BEGIN:VEVENT
DTSTART;TZID=Europe/Warsaw:20250928T160000
DTEND;TZID=Europe/Warsaw:20250928T173000
DTSTAMP:20260421T042503
CREATED:20250926T150728Z
LAST-MODIFIED:20250926T150733Z
UID:8212-1759075200-1759080600@tp.info.pl
SUMMARY:Mecz GKS Tarnovia vs. Iskra Szydłowo
DESCRIPTION:
URL:https://tp.info.pl/event/mecz-gks-tarnovia-vs-iskra-szydlowo/
LOCATION:stadion GKS Tarnowo Podgórne
CATEGORIES:Sport
END:VEVENT
BEGIN:VEVENT
DTSTART;TZID=Europe/Warsaw:20250927T093000
DTEND;TZID=Europe/Warsaw:20250927T190000
DTSTAMP:20260421T042503
CREATED:20250925T094129Z
LAST-MODIFIED:20250925T094132Z
UID:8204-1758965400-1758999600@tp.info.pl
SUMMARY:Rozpoczęcie sezonu koszykarskiego
DESCRIPTION:
URL:https://tp.info.pl/event/rozpoczecie-sezonu-koszykarskiego/
LOCATION:Hala OSiR przy ul. Nowej 15 Tarnowo Podgórne\, ul. Nowa 15\, Tarnowo Podgórne\, wielkopolskie\, 62-080
CATEGORIES:Sport
END:VEVENT
BEGIN:VEVENT
DTSTART;TZID=Europe/Warsaw:20250921T130000
DTEND;TZID=Europe/Warsaw:20250921T170000
DTSTAMP:20260421T042503
CREATED:20250917T085148Z
LAST-MODIFIED:20250917T085227Z
UID:8136-1758459600-1758474000@tp.info.pl
SUMMARY:\,\,Turniej o Puchar Wójta Gminy Tarnowo Podgórne Tadeusza Czajki"
DESCRIPTION:
URL:https://tp.info.pl/event/turniej-o-puchar-wojta-gminy-tarnowo-podgorne-tadeusza-czajki-2/
LOCATION:hala osir\, Lusówko\, Szkolna 7
CATEGORIES:Sport
END:VEVENT
BEGIN:VEVENT
DTSTART;TZID=Europe/Warsaw:20250920T160000
DTEND;TZID=Europe/Warsaw:20250920T180000
DTSTAMP:20260421T042503
CREATED:20250905T135426Z
LAST-MODIFIED:20250905T135434Z
UID:8043-1758384000-1758391200@tp.info.pl
SUMMARY:Kings of the Table vs AZS AWFiS Balta Gdańsk
DESCRIPTION:
URL:https://tp.info.pl/event/kings-of-the-table-vs-azs-awfis-balta-gdansk/
LOCATION:hala sportowa OSiR w Przeźmierowie – ul. Kościelna 46/48
CATEGORIES:Sport
END:VEVENT
END:VCALENDAR