BEGIN:VCALENDAR
VERSION:2.0
PRODID:-//Informacje z gminy Tarnowo Podgórne - ECPv6.15.20//NONSGML v1.0//EN
CALSCALE:GREGORIAN
METHOD:PUBLISH
X-WR-CALNAME:Informacje z gminy Tarnowo Podgórne
X-ORIGINAL-URL:https://tp.info.pl
X-WR-CALDESC:Wydarzenia dla Informacje z gminy Tarnowo Podgórne
REFRESH-INTERVAL;VALUE=DURATION:PT1H
X-Robots-Tag:noindex
X-PUBLISHED-TTL:PT1H
BEGIN:VTIMEZONE
TZID:Europe/Warsaw
BEGIN:DAYLIGHT
TZOFFSETFROM:+0100
TZOFFSETTO:+0200
TZNAME:CEST
DTSTART:20240331T010000
END:DAYLIGHT
BEGIN:STANDARD
TZOFFSETFROM:+0200
TZOFFSETTO:+0100
TZNAME:CET
DTSTART:20241027T010000
END:STANDARD
BEGIN:DAYLIGHT
TZOFFSETFROM:+0100
TZOFFSETTO:+0200
TZNAME:CEST
DTSTART:20250330T010000
END:DAYLIGHT
BEGIN:STANDARD
TZOFFSETFROM:+0200
TZOFFSETTO:+0100
TZNAME:CET
DTSTART:20251026T010000
END:STANDARD
BEGIN:DAYLIGHT
TZOFFSETFROM:+0100
TZOFFSETTO:+0200
TZNAME:CEST
DTSTART:20260329T010000
END:DAYLIGHT
BEGIN:STANDARD
TZOFFSETFROM:+0200
TZOFFSETTO:+0100
TZNAME:CET
DTSTART:20261025T010000
END:STANDARD
BEGIN:DAYLIGHT
TZOFFSETFROM:+0100
TZOFFSETTO:+0200
TZNAME:CEST
DTSTART:20270328T010000
END:DAYLIGHT
BEGIN:STANDARD
TZOFFSETFROM:+0200
TZOFFSETTO:+0100
TZNAME:CET
DTSTART:20271031T010000
END:STANDARD
END:VTIMEZONE
BEGIN:VEVENT
DTSTART;TZID=Europe/Warsaw:20260221T150000
DTEND;TZID=Europe/Warsaw:20260221T170000
DTSTAMP:20260420T231112
CREATED:20260219T182457Z
LAST-MODIFIED:20260219T182457Z
UID:9572-1771686000-1771693200@tp.info.pl
SUMMARY:Mikstol Tarnovia Basket vs. SMS PZ Kosz Władysławowo
DESCRIPTION:
URL:https://tp.info.pl/event/mikstol-tarnovia-basket-8/
LOCATION:Hala OSiR przy ul. Nowej 15 Tarnowo Podgórne\, ul. Nowa 15\, Tarnowo Podgórne\, wielkopolskie\, 62-080
CATEGORIES:Sport
END:VEVENT
BEGIN:VEVENT
DTSTART;TZID=Europe/Warsaw:20260221T150000
DTEND;TZID=Europe/Warsaw:20260221T160000
DTSTAMP:20260420T231112
CREATED:20260212T110353Z
LAST-MODIFIED:20260212T110358Z
UID:9483-1771686000-1771689600@tp.info.pl
SUMMARY:Mikstol Tarnovia Basket vs. SMS PZKosz Władysławowo
DESCRIPTION:
URL:https://tp.info.pl/event/mikstol-tarnovia-basket-7/
LOCATION:wielkopolskie
CATEGORIES:Sport
END:VEVENT
BEGIN:VEVENT
DTSTART;TZID=Europe/Warsaw:20260218T200000
DTEND;TZID=Europe/Warsaw:20260218T213000
DTSTAMP:20260420T231112
CREATED:20260216T100643Z
LAST-MODIFIED:20260216T100648Z
UID:9535-1771444800-1771450200@tp.info.pl
SUMMARY:Mikstol Tarnovia Tarnowo Podgórne vs. PGE Spójnia Vario II Stargard
DESCRIPTION:
URL:https://tp.info.pl/event/mikstol-tarnovia-tarnowo-podgorne/
LOCATION:wielkopolskie
CATEGORIES:Sport
END:VEVENT
BEGIN:VEVENT
DTSTART;TZID=Europe/Warsaw:20260218T200000
DTEND;TZID=Europe/Warsaw:20260218T210000
DTSTAMP:20260420T231112
CREATED:20260212T110043Z
LAST-MODIFIED:20260212T110101Z
UID:9481-1771444800-1771448400@tp.info.pl
SUMMARY:Mikstol Tarnovia Basket vs. PGE Spójnia Vario II Stargard
DESCRIPTION:
URL:https://tp.info.pl/event/mikstol-tarnovia-basket-vs-pge-spojnia-vario-ii-stargard/
LOCATION:Hala OSiR przy ul. Nowej 15 Tarnowo Podgórne\, ul. Nowa 15\, Tarnowo Podgórne\, wielkopolskie\, 62-080
CATEGORIES:Sport
END:VEVENT
BEGIN:VEVENT
DTSTART;TZID=Europe/Warsaw:20260216T160000
DTEND;TZID=Europe/Warsaw:20260331T190000
DTSTAMP:20260420T231112
CREATED:20260212T231029Z
LAST-MODIFIED:20260212T231052Z
UID:9498-1771257600-1774983600@tp.info.pl
SUMMARY:Wystawa malarska pt. \,\,Chaos kontrolowany"
DESCRIPTION:
URL:https://tp.info.pl/event/wystawa-malarska-pt-chaos-kontrolowany/
LOCATION:wielkopolskie
CATEGORIES:Wydarzenia kulturalne
END:VEVENT
BEGIN:VEVENT
DTSTART;TZID=Europe/Warsaw:20260210T180000
DTEND;TZID=Europe/Warsaw:20260210T184500
DTSTAMP:20260420T231112
CREATED:20260129T202226Z
LAST-MODIFIED:20260129T202232Z
UID:9337-1770746400-1770749100@tp.info.pl
SUMMARY:„Kraciaste marynary – historia rock and rolla na perkusję i gitary” - spektakl Teatru Mozaika
DESCRIPTION:
URL:https://tp.info.pl/event/spektakl-teatru-mozaika-2/
LOCATION:DK w Tarnowie Podgórnym
CATEGORIES:Wydarzenia kulturalne
END:VEVENT
BEGIN:VEVENT
DTSTART;TZID=Europe/Warsaw:20260210T110000
DTEND;TZID=Europe/Warsaw:20260210T120000
DTSTAMP:20260420T231112
CREATED:20260206T131022Z
LAST-MODIFIED:20260206T131022Z
UID:9426-1770721200-1770724800@tp.info.pl
SUMMARY:Mała Akademia Wielkich Kompozytorów - Ludwig van Beethoven
DESCRIPTION:
URL:https://tp.info.pl/event/mala-akademia-wielkich-kompozytorow-ludwig-van-beethoven/
LOCATION:CK Przeźmierowo
CATEGORIES:Wydarzenia kulturalne
END:VEVENT
BEGIN:VEVENT
DTSTART;TZID=Europe/Warsaw:20260208T180000
DTEND;TZID=Europe/Warsaw:20260208T193000
DTSTAMP:20260420T231112
CREATED:20260205T192343Z
LAST-MODIFIED:20260205T192350Z
UID:9410-1770573600-1770579000@tp.info.pl
SUMMARY:Tarnovia Volleyball vs. Wilki Wilczyn
DESCRIPTION:
URL:https://tp.info.pl/event/tarnovia-volleyball-vs-wilki-wilczyn/
LOCATION:hala osir Lusówko\, Szkolna 7
CATEGORIES:Sport
END:VEVENT
BEGIN:VEVENT
DTSTART;TZID=Europe/Warsaw:20260206T100000
DTEND;TZID=Europe/Warsaw:20260208T200000
DTSTAMP:20260420T231112
CREATED:20260201T114449Z
LAST-MODIFIED:20260201T114449Z
UID:9354-1770372000-1770580800@tp.info.pl
SUMMARY:ENEA CEYBL U-13 Tarnowo Podgórne
DESCRIPTION:
URL:https://tp.info.pl/event/enea-ceybl-u-13-tarnowo-podgorne/
LOCATION:Hala OSiR przy ul. Nowej 15 Tarnowo Podgórne\, ul. Nowa 15\, Tarnowo Podgórne\, wielkopolskie\, 62-080
CATEGORIES:Sport
END:VEVENT
BEGIN:VEVENT
DTSTART;TZID=Europe/Warsaw:20260205T200000
DTEND;TZID=Europe/Warsaw:20260205T213000
DTSTAMP:20260420T231112
CREATED:20260204T191936Z
LAST-MODIFIED:20260204T191936Z
UID:9395-1770321600-1770327000@tp.info.pl
SUMMARY:Mikstol Tarnovia Basket vs. MKK Gniezno
DESCRIPTION:
URL:https://tp.info.pl/event/mikstol-tarnovia-basket-vs-mkk-gniezno/
LOCATION:Hala OSiR przy ul. Nowej 15 Tarnowo Podgórne\, ul. Nowa 15\, Tarnowo Podgórne\, wielkopolskie\, 62-080
CATEGORIES:Sport
END:VEVENT
BEGIN:VEVENT
DTSTART;TZID=Europe/Warsaw:20260202T160000
DTEND;TZID=Europe/Warsaw:20260315T190000
DTSTAMP:20260420T231112
CREATED:20260127T210719Z
LAST-MODIFIED:20260127T210727Z
UID:9309-1770048000-1773601200@tp.info.pl
SUMMARY:Wystawa malarska: \,\,Glamour i Siła"
DESCRIPTION:Prz
URL:https://tp.info.pl/event/wystawa-malarska-glamour-i-sila/
LOCATION:CK Przeźmierowo
CATEGORIES:Wydarzenia kulturalne
END:VEVENT
BEGIN:VEVENT
DTSTART;TZID=Europe/Warsaw:20260131T083000
DTEND;TZID=Europe/Warsaw:20260131T170000
DTSTAMP:20260420T231112
CREATED:20260129T091402Z
LAST-MODIFIED:20260129T091402Z
UID:9325-1769848200-1769878800@tp.info.pl
SUMMARY:Turniej crossmintona
DESCRIPTION:
URL:https://tp.info.pl/event/turniej-crossmintona/
LOCATION:Hala OSiR przy ul. Nowej 15 w Tarnowie Podgórnym
CATEGORIES:Sport
END:VEVENT
BEGIN:VEVENT
DTSTART;TZID=Europe/Warsaw:20260128T200000
DTEND;TZID=Europe/Warsaw:20260128T220000
DTSTAMP:20260420T231112
CREATED:20260126T105536Z
LAST-MODIFIED:20260126T105546Z
UID:9293-1769630400-1769637600@tp.info.pl
SUMMARY:Tarnovia Volleyball vs. Enea Energetyk Poznań
DESCRIPTION:
URL:https://tp.info.pl/event/tarnovia-volleyball-vs-enea-energetyk-poznan/
LOCATION:hala osir Lusówko\, Szkolna 7
CATEGORIES:Sport
END:VEVENT
BEGIN:VEVENT
DTSTART;TZID=Europe/Warsaw:20260128T150000
DTEND;TZID=Europe/Warsaw:20260303T190000
DTSTAMP:20260420T231112
CREATED:20260127T211132Z
LAST-MODIFIED:20260127T211139Z
UID:9311-1769612400-1772564400@tp.info.pl
SUMMARY:Wystawa malarska \,\,Akwarelowy zawrót głowy"
DESCRIPTION:
URL:https://tp.info.pl/event/wystawa-malarska-akwarelowy-zawrot-glowy/
LOCATION:DK w Tarnowie Podgórnym
CATEGORIES:Wydarzenia kulturalne
END:VEVENT
BEGIN:VEVENT
DTSTART;TZID=Europe/Warsaw:20260124T153000
DTEND;TZID=Europe/Warsaw:20260124T170000
DTSTAMP:20260420T231112
CREATED:20260123T145637Z
LAST-MODIFIED:20260123T145637Z
UID:9259-1769268600-1769274000@tp.info.pl
SUMMARY:Kings of The Table vs. Wicher Liściec Wielki
DESCRIPTION:
URL:https://tp.info.pl/event/kings-of-the-table-vs-wicher-lisciec-wielki/
LOCATION:hala sportowa OSiR w Przeźmierowie – ul. Kościelna 46/48
CATEGORIES:Sport
END:VEVENT
BEGIN:VEVENT
DTSTART;TZID=Europe/Warsaw:20260111T090000
DTEND;TZID=Europe/Warsaw:20260111T150000
DTSTAMP:20260420T231112
CREATED:20251210T185331Z
LAST-MODIFIED:20251210T185335Z
UID:8924-1768122000-1768143600@tp.info.pl
SUMMARY:Tenis stołowy w Rankingu Sołectw 2026
DESCRIPTION:
URL:https://tp.info.pl/event/tenis-stolowy-ranking-solectw/
LOCATION:hala sportowa OSiR w Przeźmierowie – ul. Kościelna 46/48
CATEGORIES:Sport
END:VEVENT
BEGIN:VEVENT
DTSTART;TZID=Europe/Warsaw:20251231T150000
DTEND;TZID=Europe/Warsaw:20251231T200000
DTSTAMP:20260420T231112
CREATED:20251209T104103Z
LAST-MODIFIED:20251209T104120Z
UID:8908-1767193200-1767211200@tp.info.pl
SUMMARY:Koncert sylwestrowy w Pałacu Jankowice
DESCRIPTION:
URL:https://tp.info.pl/event/koncert-sylwestrowy-w-palacu-jankowice/
LOCATION:Pałac Jankowice
CATEGORIES:Wydarzenia kulturalne
END:VEVENT
BEGIN:VEVENT
DTSTART;TZID=Europe/Warsaw:20251227T180000
DTEND;TZID=Europe/Warsaw:20251228T110000
DTSTAMP:20260420T231112
CREATED:20251124T131519Z
LAST-MODIFIED:20251124T131523Z
UID:8756-1766858400-1766919600@tp.info.pl
SUMMARY:VI Ultramaraton Generała Józefa Dowbora Muśnickiego
DESCRIPTION:
URL:https://tp.info.pl/event/vi-ultramaraton-generala-jozefa-dowbora-musnickiego-2/
LOCATION:Lusowo\, świetlica\, Ogrodowa 3\, Lusowo\, 62-080\, Poland
CATEGORIES:Sport
END:VEVENT
BEGIN:VEVENT
DTSTART;TZID=Europe/Warsaw:20251220T140000
DTEND;TZID=Europe/Warsaw:20251220T160000
DTSTAMP:20260420T231112
CREATED:20251208T110210Z
LAST-MODIFIED:20251208T113920Z
UID:8877-1766239200-1766246400@tp.info.pl
SUMMARY:Mikstol Tarnovia Basket vs. GAK PORT Gdynia
DESCRIPTION:Podgórne \n 
URL:https://tp.info.pl/event/mikstol-tarnovia-basket-vs-gak-port-gdynia/
LOCATION:Hala OSiR przy ul. Nowej 15 Tarnowo Podgórne\, ul. Nowa 15\, Tarnowo Podgórne\, wielkopolskie\, 62-080
CATEGORIES:Sport
END:VEVENT
BEGIN:VEVENT
DTSTART;TZID=Europe/Warsaw:20251213T170000
DTEND;TZID=Europe/Warsaw:20251213T180000
DTSTAMP:20260420T231112
CREATED:20251123T182309Z
LAST-MODIFIED:20251123T182350Z
UID:8719-1765645200-1765648800@tp.info.pl
SUMMARY:Spektakl pt. \,\,Podróż do Bożego Narodzenia" formacji \,\,Senioritki"
DESCRIPTION:
URL:https://tp.info.pl/event/spektakl-w-ck-przezmierowo/
LOCATION:CK Przeźmierowo
CATEGORIES:Wydarzenia kulturalne
END:VEVENT
BEGIN:VEVENT
DTSTART;TZID=Europe/Warsaw:20251211T193000
DTEND;TZID=Europe/Warsaw:20251211T201000
DTSTAMP:20260420T231112
CREATED:20251208T182511Z
LAST-MODIFIED:20251208T182515Z
UID:8896-1765481400-1765483800@tp.info.pl
SUMMARY:GKS Tarnovia vs. Wiara Lecha
DESCRIPTION:dgórne
URL:https://tp.info.pl/event/gks-tarnovia-vs-wiara-lecha/
LOCATION:Hala OSiR przy ul. Nowej 15 Tarnowo Podgórne\, ul. Nowa 15\, Tarnowo Podgórne\, wielkopolskie\, 62-080
CATEGORIES:Sport
END:VEVENT
BEGIN:VEVENT
DTSTART;TZID=Europe/Warsaw:20251207T123000
DTEND;TZID=Europe/Warsaw:20251207T133000
DTSTAMP:20260420T231112
CREATED:20251124T121818Z
LAST-MODIFIED:20251124T121822Z
UID:8744-1765110600-1765114200@tp.info.pl
SUMMARY:Spektakl pt. \,\,Podarki Podarka" teatru Czerwona Walizka
DESCRIPTION:
URL:https://tp.info.pl/event/teatr-czerwona-walizka-przezmierowo/
LOCATION:CK Przeźmierowo
CATEGORIES:Wydarzenia kulturalne
END:VEVENT
BEGIN:VEVENT
DTSTART;TZID=Europe/Warsaw:20251207T100000
DTEND;TZID=Europe/Warsaw:20251207T160000
DTSTAMP:20260420T231112
CREATED:20251203T211615Z
LAST-MODIFIED:20251203T211619Z
UID:8861-1765101600-1765123200@tp.info.pl
SUMMARY:Turniej świąteczny w tenisie stołowym
DESCRIPTION:
URL:https://tp.info.pl/event/turniej-swiateczny-w-tenisie-stolowym/
LOCATION:hala sportowa OSiR w Przeźmierowie – ul. Kościelna 46/48
CATEGORIES:Sport
END:VEVENT
BEGIN:VEVENT
DTSTART;TZID=Europe/Warsaw:20251207T090000
DTEND;TZID=Europe/Warsaw:20251207T150000
DTSTAMP:20260420T231112
CREATED:20251118T101259Z
LAST-MODIFIED:20251118T101303Z
UID:8637-1765098000-1765119600@tp.info.pl
SUMMARY:Spinning - XXII Edycja Rankingu Sołectw Gminy Tarnowo Podgórne
DESCRIPTION:
URL:https://tp.info.pl/event/spinning-przezmierowo/
LOCATION:hala sportowa OSiR w Przeźmierowie – ul. Kościelna 46/48
CATEGORIES:Sport
END:VEVENT
BEGIN:VEVENT
DTSTART;TZID=Europe/Warsaw:20251206T150000
DTEND;TZID=Europe/Warsaw:20251206T170000
DTSTAMP:20260420T231112
CREATED:20251130T191018Z
LAST-MODIFIED:20251130T191018Z
UID:8802-1765033200-1765040400@tp.info.pl
SUMMARY:Mikstol Tarnovia Basket vs. Energa Basketball Elbląg
DESCRIPTION:Basket \n 
URL:https://tp.info.pl/event/mikstol-tarnovia-basket-vs-energa-basketball-elblag-2/
LOCATION:Hala OSiR przy ul. Nowej 15 Tarnowo Podgórne\, ul. Nowa 15\, Tarnowo Podgórne\, wielkopolskie\, 62-080
CATEGORIES:Sport
END:VEVENT
BEGIN:VEVENT
DTSTART;TZID=Europe/Warsaw:20251205T190000
DTEND;TZID=Europe/Warsaw:20251205T200000
DTSTAMP:20260420T231112
CREATED:20251123T204549Z
LAST-MODIFIED:20251123T204552Z
UID:8733-1764961200-1764964800@tp.info.pl
SUMMARY:Obecni\, nieObecni - koncert Duetu Błogo
DESCRIPTION:
URL:https://tp.info.pl/event/koncert-duetu-blogo/
LOCATION:DK w Tarnowie Podgórnym
CATEGORIES:Wydarzenia kulturalne
END:VEVENT
BEGIN:VEVENT
DTSTART;TZID=Europe/Warsaw:20251205T180000
DTEND;TZID=Europe/Warsaw:20251205T200000
DTSTAMP:20260420T231112
CREATED:20251125T132026Z
LAST-MODIFIED:20251125T191855Z
UID:8761-1764957600-1764964800@tp.info.pl
SUMMARY:\,\,PrezentART 2025. Mikołajkowa odsłona sztuki"
DESCRIPTION:
URL:https://tp.info.pl/event/prezentart-2025-mikolajkowa-odslona-sztuki/
LOCATION:V.A. Gallery Poland\, ul. Wierzbowa 162\, Wysogotowo
CATEGORIES:Wydarzenia kulturalne
END:VEVENT
BEGIN:VEVENT
DTSTART;TZID=Europe/Warsaw:20251203T080000
DTEND;TZID=Europe/Warsaw:20260127T170000
DTSTAMP:20260420T231112
CREATED:20251130T201358Z
LAST-MODIFIED:20251130T201419Z
UID:8816-1764748800-1769533200@tp.info.pl
SUMMARY:„OP ART” oraz perspektywa 3Dod - wystawa malarska
DESCRIPTION:
URL:https://tp.info.pl/event/op-art-3dod-wystawa-malarska-tarnowo-podgorne/
LOCATION:DK w Tarnowie Podgórnym
CATEGORIES:Wydarzenia kulturalne
END:VEVENT
BEGIN:VEVENT
DTSTART;TZID=Europe/Warsaw:20251202T180000
DTEND;TZID=Europe/Warsaw:20251202T184500
DTSTAMP:20260420T231112
CREATED:20251123T194245Z
LAST-MODIFIED:20251123T194252Z
UID:8729-1764698400-1764701100@tp.info.pl
SUMMARY:Koncert Teatru Mozaika pt. \,\,Zapomniane zwrotki kolęd"
DESCRIPTION:
URL:https://tp.info.pl/event/teatr-mozaika/
LOCATION:DK w Tarnowie Podgórnym
CATEGORIES:Wydarzenia kulturalne
END:VEVENT
BEGIN:VEVENT
DTSTART;TZID=Europe/Warsaw:20251202T160000
DTEND;TZID=Europe/Warsaw:20260118T190000
DTSTAMP:20260420T231112
CREATED:20251130T195803Z
LAST-MODIFIED:20251130T195806Z
UID:8811-1764691200-1768762800@tp.info.pl
SUMMARY:Wystawa malarska pt. \,\,Manifest Wyobraźni"
DESCRIPTION:
URL:https://tp.info.pl/event/wystawa-malarska-pt-manifest-wyobrazni/
LOCATION:wielkopolskie
CATEGORIES:Wydarzenia kulturalne
END:VEVENT
END:VCALENDAR