BEGIN:VCALENDAR
VERSION:2.0
PRODID:-//Informacje z gminy Tarnowo Podgórne - ECPv6.15.20//NONSGML v1.0//EN
CALSCALE:GREGORIAN
METHOD:PUBLISH
X-WR-CALNAME:Informacje z gminy Tarnowo Podgórne
X-ORIGINAL-URL:https://tp.info.pl
X-WR-CALDESC:Wydarzenia dla Informacje z gminy Tarnowo Podgórne
REFRESH-INTERVAL;VALUE=DURATION:PT1H
X-Robots-Tag:noindex
X-PUBLISHED-TTL:PT1H
BEGIN:VTIMEZONE
TZID:Europe/Warsaw
BEGIN:DAYLIGHT
TZOFFSETFROM:+0100
TZOFFSETTO:+0200
TZNAME:CEST
DTSTART:20230326T010000
END:DAYLIGHT
BEGIN:STANDARD
TZOFFSETFROM:+0200
TZOFFSETTO:+0100
TZNAME:CET
DTSTART:20231029T010000
END:STANDARD
BEGIN:DAYLIGHT
TZOFFSETFROM:+0100
TZOFFSETTO:+0200
TZNAME:CEST
DTSTART:20240331T010000
END:DAYLIGHT
BEGIN:STANDARD
TZOFFSETFROM:+0200
TZOFFSETTO:+0100
TZNAME:CET
DTSTART:20241027T010000
END:STANDARD
BEGIN:DAYLIGHT
TZOFFSETFROM:+0100
TZOFFSETTO:+0200
TZNAME:CEST
DTSTART:20250330T010000
END:DAYLIGHT
BEGIN:STANDARD
TZOFFSETFROM:+0200
TZOFFSETTO:+0100
TZNAME:CET
DTSTART:20251026T010000
END:STANDARD
END:VTIMEZONE
BEGIN:VEVENT
DTSTART;TZID=Europe/Warsaw:20241214T180000
DTEND;TZID=Europe/Warsaw:20241214T190000
DTSTAMP:20260421T142946
CREATED:20241115T150143Z
LAST-MODIFIED:20241115T150151Z
UID:6147-1734199200-1734202800@tp.info.pl
SUMMARY:Jasełka ZPiT \,\,Lusowiacy"
DESCRIPTION:
URL:https://tp.info.pl/event/jaselka-zpit-lusowiacy/
LOCATION:CK Przeźmierowo
CATEGORIES:Wydarzenia kulturalne
END:VEVENT
BEGIN:VEVENT
DTSTART;TZID=Europe/Warsaw:20241130T180000
DTEND;TZID=Europe/Warsaw:20241130T190000
DTSTAMP:20260421T142946
CREATED:20241107T093336Z
LAST-MODIFIED:20241107T093345Z
UID:6066-1732989600-1732993200@tp.info.pl
SUMMARY:Premiera spektaklu \,\,Droga" Teatru Tańca Sortownia
DESCRIPTION:
URL:https://tp.info.pl/event/premiera-spektaklu-droga-teatru-tanca-sortownia/
LOCATION:CK Przeźmierowo
CATEGORIES:Wydarzenia kulturalne
END:VEVENT
BEGIN:VEVENT
DTSTART;TZID=Europe/Warsaw:20241111T080000
DTEND;TZID=Europe/Warsaw:20241111T170000
DTSTAMP:20260421T142946
CREATED:20240925T194445Z
LAST-MODIFIED:20240925T194449Z
UID:5773-1731312000-1731344400@tp.info.pl
SUMMARY:21. Bieg i Marsz Niepodległości
DESCRIPTION:
URL:https://tp.info.pl/event/21-bieg-i-marsz-niepodleglosci/
LOCATION:Baranowo\, u. Wypoczynkowa 93a
CATEGORIES:Sport
END:VEVENT
BEGIN:VEVENT
DTSTART;TZID=Europe/Warsaw:20241015T180000
DTEND;TZID=Europe/Warsaw:20241015T184500
DTSTAMP:20260421T142946
CREATED:20241007T201834Z
LAST-MODIFIED:20241007T201845Z
UID:5872-1729015200-1729017900@tp.info.pl
SUMMARY:Spektakl pt. \,\,O muzyce między drzewami" teatru Mozaika
DESCRIPTION:
URL:https://tp.info.pl/event/spektakl-pt-o-muzyce-miedzy-drzewami-teatru-mozaika/
CATEGORIES:Wydarzenia kulturalne
END:VEVENT
BEGIN:VEVENT
DTSTART;TZID=Europe/Warsaw:20241015T080000
DTEND;TZID=Europe/Warsaw:20241118T170000
DTSTAMP:20260421T142946
CREATED:20241007T192638Z
LAST-MODIFIED:20241007T192642Z
UID:5866-1728979200-1731949200@tp.info.pl
SUMMARY:Wystawa malarska \,\,Od słowa do obrazu" w CK Przeźmierowo
DESCRIPTION:
URL:https://tp.info.pl/event/wystawa-malarska-od-slowa-do-obrazu-w-ck-przezmierowo/
LOCATION:CK Przeźmierowo
CATEGORIES:Wydarzenia kulturalne
END:VEVENT
BEGIN:VEVENT
DTSTART;TZID=Europe/Warsaw:20241004T100000
DTEND;TZID=Europe/Warsaw:20241004T140000
DTSTAMP:20260421T142946
CREATED:20240912T140807Z
LAST-MODIFIED:20240912T140810Z
UID:5665-1728036000-1728050400@tp.info.pl
SUMMARY:Powiatowe zawody w kolarstwie w MTB dla dzieci
DESCRIPTION:
URL:https://tp.info.pl/event/powiatowe-zawody-w-kolarstwie-w-mtb-dla-dzieci/
LOCATION:Park 700-lecia w Tarnowie Podgórnym\, Szkolna\, Tarnowo Podgórne\, wielkopolskie\, 62-080
CATEGORIES:Sport
END:VEVENT
BEGIN:VEVENT
DTSTART;TZID=Europe/Warsaw:20240920T144500
DTEND;TZID=Europe/Warsaw:20240920T180000
DTSTAMP:20260421T142946
CREATED:20240917T151551Z
LAST-MODIFIED:20240917T151555Z
UID:5697-1726843500-1726855200@tp.info.pl
SUMMARY:Święto latawca pt. \,\,Piękny świat" w Przeźmierowie
DESCRIPTION:
URL:https://tp.info.pl/event/swieto-latawca-pt-piekny-swiat-w-przezmierowie/
LOCATION:Park im. St. Kanikowskiego w Przeźmierowie
CATEGORIES:Wydarzenia kulturalne
END:VEVENT
BEGIN:VEVENT
DTSTART;TZID=Europe/Warsaw:20240901T130000
DTEND;TZID=Europe/Warsaw:20240901T140000
DTSTAMP:20260421T142946
CREATED:20240621T113519Z
LAST-MODIFIED:20240621T113532Z
UID:5331-1725195600-1725199200@tp.info.pl
SUMMARY:Koncert formacji \,\,Affectus"
DESCRIPTION:
URL:https://tp.info.pl/event/koncert-formacji-affectus/
LOCATION:Lusowo\, Kościół
CATEGORIES:Wydarzenia kulturalne
END:VEVENT
BEGIN:VEVENT
DTSTART;TZID=Europe/Warsaw:20240830T203000
DTEND;TZID=Europe/Warsaw:20240830T220000
DTSTAMP:20260421T142946
CREATED:20240621T111817Z
LAST-MODIFIED:20240621T111821Z
UID:5326-1725049800-1725055200@tp.info.pl
SUMMARY:Koncert James'a Harries'a
DESCRIPTION:
URL:https://tp.info.pl/event/koncert-jamesa-harriesa/
LOCATION:Park przy CK Przeźmierowo\, ul. Ogrodowa 13a\, Przeźmierowo\, wielkopolskie\, 62-080\, Poland
CATEGORIES:Wydarzenia kulturalne
END:VEVENT
BEGIN:VEVENT
DTSTART;TZID=Europe/Warsaw:20240822T080000
DTEND;TZID=Europe/Warsaw:20240825T170000
DTSTAMP:20260421T142946
CREATED:20240328T175419Z
LAST-MODIFIED:20240328T175424Z
UID:4717-1724313600-1724605200@tp.info.pl
SUMMARY:OFP Tarnowo Podgórne
DESCRIPTION:
URL:https://tp.info.pl/event/ofp-tarnowo-podgorne/
LOCATION:Pałac Jankowice
CATEGORIES:Wydarzenia kulturalne
END:VEVENT
BEGIN:VEVENT
DTSTART;TZID=Europe/Warsaw:20240818T120000
DTEND;TZID=Europe/Warsaw:20240818T200000
DTSTAMP:20260421T142946
CREATED:20240718T130130Z
LAST-MODIFIED:20240718T130137Z
UID:5380-1723982400-1724011200@tp.info.pl
SUMMARY:Dożynki w Gminie Tarnowo Podgórne
DESCRIPTION:
URL:https://tp.info.pl/event/dozynki-w-gminie-tarnowo-podgorne-2/
LOCATION:Lusowo\, plac \,\,U księdza za płotem”
CATEGORIES:Wydarzenia kulturalne
END:VEVENT
BEGIN:VEVENT
DTSTART;TZID=Europe/Warsaw:20240811T180000
DTEND;TZID=Europe/Warsaw:20240811T193000
DTSTAMP:20260421T142946
CREATED:20240808T151009Z
LAST-MODIFIED:20240808T151012Z
UID:5475-1723399200-1723404600@tp.info.pl
SUMMARY:Mecz GKS Tarnovia vs. Meblorz Swarzędz
DESCRIPTION:
URL:https://tp.info.pl/event/mecz-gks-tarnovia-vs-meblorz-swarzedz/
LOCATION:Stadion Piłkarski przy ul. 23 Października 34 w Tarnowie Podgórnym
END:VEVENT
BEGIN:VEVENT
DTSTART;TZID=Europe/Warsaw:20240804T090000
DTEND;TZID=Europe/Warsaw:20240804T140000
DTSTAMP:20260421T142946
CREATED:20240726T134508Z
LAST-MODIFIED:20240726T134508Z
UID:5414-1722762000-1722780000@tp.info.pl
SUMMARY:Powiatowy Turniej Siatkówki Plażowej
DESCRIPTION:
URL:https://tp.info.pl/event/powiatowy-turniej-siatkowki-plazowej-2/
LOCATION:Plaża Lusowo
CATEGORIES:Sport
END:VEVENT
BEGIN:VEVENT
DTSTART;TZID=Europe/Warsaw:20240728T170000
DTEND;TZID=Europe/Warsaw:20240728T190000
DTSTAMP:20260421T142946
CREATED:20240726T130705Z
LAST-MODIFIED:20240726T130709Z
UID:5410-1722186000-1722193200@tp.info.pl
SUMMARY:Recital Mateusza Ziółki
DESCRIPTION:
URL:https://tp.info.pl/event/recital-mateusza-ziolki/
LOCATION:Pałac Jankowice
CATEGORIES:Wydarzenia kulturalne
ORGANIZER;CN="Pa%C5%82ac Jankowice":MAILTO:palac.jankowice@tarnowo-podgorne.pl
END:VEVENT
BEGIN:VEVENT
DTSTART;TZID=Europe/Warsaw:20240705T080000
DTEND;TZID=Europe/Warsaw:20240706T170000
DTSTAMP:20260421T142946
CREATED:20231218T200038Z
LAST-MODIFIED:20231218T200038Z
UID:4056-1720166400-1720285200@tp.info.pl
SUMMARY:Edison Festival nad Jeziorem Kierskim
DESCRIPTION:
URL:https://tp.info.pl/event/edison-festival-nad-jeziorem-kierskim/
LOCATION:Jezioro Kierskie\, Baranowo\, wielkopolskie\, 62-081
CATEGORIES:Wydarzenia kulturalne
END:VEVENT
BEGIN:VEVENT
DTSTART;TZID=Europe/Warsaw:20240602T130000
DTEND;TZID=Europe/Warsaw:20240602T140000
DTSTAMP:20260421T142946
CREATED:20240514T190901Z
LAST-MODIFIED:20240514T190901Z
UID:5079-1717333200-1717336800@tp.info.pl
SUMMARY:Kwartet Smyczkowy w ramach Lusowskich Spotkań Muzycznych
DESCRIPTION:
URL:https://tp.info.pl/event/kwartet-smyczkowy-w-ramach-lusowskich-spotkan-muzycznych/
LOCATION:Lusowo\, Kościół
CATEGORIES:Wydarzenia kulturalne
END:VEVENT
BEGIN:VEVENT
DTSTART;TZID=Europe/Warsaw:20240526T160000
DTEND;TZID=Europe/Warsaw:20240526T190000
DTSTAMP:20260421T142946
CREATED:20240416T143955Z
LAST-MODIFIED:20240416T144359Z
UID:4877-1716739200-1716750000@tp.info.pl
SUMMARY:Gala Finałowa - Festiwal Talentów i Pasji
DESCRIPTION:
URL:https://tp.info.pl/event/gala-finalowa-festiwal-talentow-i-pasji/
LOCATION:Pałac Jankowice
CATEGORIES:Wydarzenia kulturalne
END:VEVENT
BEGIN:VEVENT
DTSTART;TZID=Europe/Warsaw:20240523T180000
DTEND;TZID=Europe/Warsaw:20240523T190000
DTSTAMP:20260421T142946
CREATED:20240509T154727Z
LAST-MODIFIED:20240509T154731Z
UID:5051-1716487200-1716490800@tp.info.pl
SUMMARY:Spektakl \,\,Strzy(e)ż się seniorze" Senioritek
DESCRIPTION:
URL:https://tp.info.pl/event/spektakl-strzyez-sie-seniorze-senioritek/
LOCATION:CK Przeźmierowo
CATEGORIES:Wydarzenia kulturalne
END:VEVENT
BEGIN:VEVENT
DTSTART;TZID=Europe/Warsaw:20240512T120000
DTEND;TZID=Europe/Warsaw:20240512T150000
DTSTAMP:20260421T142946
CREATED:20240510T105211Z
LAST-MODIFIED:20240510T105225Z
UID:5056-1715515200-1715526000@tp.info.pl
SUMMARY:Finał II Ligi Mężczyzn w Tenisie Stołowym
DESCRIPTION:
URL:https://tp.info.pl/event/final-ii-ligi-mezczyzn-w-tenisie-stolowym/
LOCATION:hala sportowa OSiR w Przeźmierowie – ul. Kościelna 46/48
CATEGORIES:Sport
END:VEVENT
BEGIN:VEVENT
DTSTART;TZID=Europe/Warsaw:20240503T110000
DTEND;TZID=Europe/Warsaw:20240503T140000
DTSTAMP:20260421T142946
CREATED:20240430T085917Z
LAST-MODIFIED:20240430T085934Z
UID:4979-1714734000-1714744800@tp.info.pl
SUMMARY:Piknik golfowy w Rumianku
DESCRIPTION:
URL:https://tp.info.pl/event/piknik-golfowy-w-rumianku/
LOCATION:Pole golfowe Black Water Links w Rumianku\, Szkolna\, Rumianek\, wielkopolskie\, 62-080\, Poland
CATEGORIES:Sport
END:VEVENT
BEGIN:VEVENT
DTSTART;TZID=Europe/Warsaw:20240501T110000
DTEND;TZID=Europe/Warsaw:20240501T140000
DTSTAMP:20260421T142946
CREATED:20240301T160338Z
LAST-MODIFIED:20240301T160344Z
UID:4507-1714561200-1714572000@tp.info.pl
SUMMARY:BIEG UNIJNY W PRZEŹMIEROWIE
DESCRIPTION:
URL:https://tp.info.pl/event/bieg-unijny-w-przezmierowie/
LOCATION:hala sportowa OSiR w Przeźmierowie – ul. Kościelna 46/48
CATEGORIES:Sport
END:VEVENT
BEGIN:VEVENT
DTSTART;TZID=Europe/Warsaw:20240424T080000
DTEND;TZID=Europe/Warsaw:20240616T170000
DTSTAMP:20260421T142946
CREATED:20240411T074155Z
LAST-MODIFIED:20240411T074201Z
UID:4811-1713945600-1718557200@tp.info.pl
SUMMARY:Wystawa malarska pt. \,\,Na krańcu świata"
DESCRIPTION:
URL:https://tp.info.pl/event/wystawa-malarska-pt-na-krancu-swiata/
LOCATION:Galeria w Rotundzie w Domu Kultury w Tarnowie Podgórnym\, ul. Ogrodowa 14\, Tarnowo Podgórne\, wielkopolskie\, 62-080
CATEGORIES:Wydarzenia kulturalne
END:VEVENT
BEGIN:VEVENT
DTSTART;TZID=Europe/Warsaw:20240420T080000
DTEND;TZID=Europe/Warsaw:20240421T170000
DTSTAMP:20260421T142946
CREATED:20240411T135128Z
LAST-MODIFIED:20240411T135133Z
UID:4825-1713600000-1713718800@tp.info.pl
SUMMARY:Mistrzostwa Strefy Poznań w koszykówce
DESCRIPTION:
URL:https://tp.info.pl/event/mistrzostwa-strefy-poznan-w-koszykowce/
LOCATION:Hala OSiR przy ul. Nowej 15 Tarnowo Podgórne\, ul. Nowa 15\, Tarnowo Podgórne\, wielkopolskie\, 62-080
CATEGORIES:Sport
END:VEVENT
BEGIN:VEVENT
DTSTART;TZID=Europe/Warsaw:20240320T090000
DTEND;TZID=Europe/Warsaw:20240423T170000
DTSTAMP:20260421T142946
CREATED:20240315T144013Z
LAST-MODIFIED:20240315T144019Z
UID:4603-1710925200-1713891600@tp.info.pl
SUMMARY:Wystawa malarska pt.: \,\,Bo kolor jest w nas"
DESCRIPTION:
URL:https://tp.info.pl/event/wystawa-malarska-pt-bo-kolor-jest-w-nas/
LOCATION:Galeria w Rotundzie w Domu Kultury w Tarnowie Podgórnym\, ul. Ogrodowa 14\, Tarnowo Podgórne\, wielkopolskie\, 62-080
CATEGORIES:Wydarzenia kulturalne
END:VEVENT
END:VCALENDAR