BEGIN:VCALENDAR
VERSION:2.0
PRODID:-//Informacje z gminy Tarnowo Podgórne - ECPv6.15.20//NONSGML v1.0//EN
CALSCALE:GREGORIAN
METHOD:PUBLISH
X-WR-CALNAME:Informacje z gminy Tarnowo Podgórne
X-ORIGINAL-URL:https://tp.info.pl
X-WR-CALDESC:Wydarzenia dla Informacje z gminy Tarnowo Podgórne
REFRESH-INTERVAL;VALUE=DURATION:PT1H
X-Robots-Tag:noindex
X-PUBLISHED-TTL:PT1H
BEGIN:VTIMEZONE
TZID:Europe/Warsaw
BEGIN:DAYLIGHT
TZOFFSETFROM:+0100
TZOFFSETTO:+0200
TZNAME:CEST
DTSTART:20230326T010000
END:DAYLIGHT
BEGIN:STANDARD
TZOFFSETFROM:+0200
TZOFFSETTO:+0100
TZNAME:CET
DTSTART:20231029T010000
END:STANDARD
BEGIN:DAYLIGHT
TZOFFSETFROM:+0100
TZOFFSETTO:+0200
TZNAME:CEST
DTSTART:20240331T010000
END:DAYLIGHT
BEGIN:STANDARD
TZOFFSETFROM:+0200
TZOFFSETTO:+0100
TZNAME:CET
DTSTART:20241027T010000
END:STANDARD
BEGIN:DAYLIGHT
TZOFFSETFROM:+0100
TZOFFSETTO:+0200
TZNAME:CEST
DTSTART:20250330T010000
END:DAYLIGHT
BEGIN:STANDARD
TZOFFSETFROM:+0200
TZOFFSETTO:+0100
TZNAME:CET
DTSTART:20251026T010000
END:STANDARD
BEGIN:DAYLIGHT
TZOFFSETFROM:+0100
TZOFFSETTO:+0200
TZNAME:CEST
DTSTART:20260329T010000
END:DAYLIGHT
BEGIN:STANDARD
TZOFFSETFROM:+0200
TZOFFSETTO:+0100
TZNAME:CET
DTSTART:20261025T010000
END:STANDARD
END:VTIMEZONE
BEGIN:VEVENT
DTSTART;TZID=Europe/Warsaw:20241015T080000
DTEND;TZID=Europe/Warsaw:20241118T170000
DTSTAMP:20260422T012522
CREATED:20241007T192638Z
LAST-MODIFIED:20241007T192642Z
UID:5866-1728979200-1731949200@tp.info.pl
SUMMARY:Wystawa malarska \,\,Od słowa do obrazu" w CK Przeźmierowo
DESCRIPTION:
URL:https://tp.info.pl/event/wystawa-malarska-od-slowa-do-obrazu-w-ck-przezmierowo/
LOCATION:CK Przeźmierowo
CATEGORIES:Wydarzenia kulturalne
END:VEVENT
BEGIN:VEVENT
DTSTART;TZID=Europe/Warsaw:20241105T190000
DTEND;TZID=Europe/Warsaw:20241105T202000
DTSTAMP:20260422T012522
CREATED:20240924T063406Z
LAST-MODIFIED:20240924T063406Z
UID:5744-1730833200-1730838000@tp.info.pl
SUMMARY:Benefis \,\,Klubu Szyderców Bis" pt. \,\,Czyj ten benefis"?
DESCRIPTION:
URL:https://tp.info.pl/event/benefis-klubu-szydercow-bis-pt-czyj-ten-benefis/
LOCATION:DK Tarnowo Podgórne\, u. Ogrodowa 14\, Tarnowo Podgórne\, wielkopolskie\, 62-080
CATEGORIES:Wydarzenia kulturalne
END:VEVENT
BEGIN:VEVENT
DTSTART;TZID=Europe/Warsaw:20241111T170000
DTEND;TZID=Europe/Warsaw:20241111T190000
DTSTAMP:20260422T012522
CREATED:20241011T110633Z
LAST-MODIFIED:20241011T110637Z
UID:5904-1731344400-1731351600@tp.info.pl
SUMMARY:Koncert \,\,Polska Niepodległa" - Poznański Chór Chłopięcy
DESCRIPTION:
URL:https://tp.info.pl/event/koncert-polska-niepodlegla-poznanski-chor-chlopiecy/
LOCATION:CK Przeźmierowo
CATEGORIES:Wydarzenia kulturalne
END:VEVENT
BEGIN:VEVENT
DTSTART;TZID=Europe/Warsaw:20241119T080000
DTEND;TZID=Europe/Warsaw:20250107T170000
DTSTAMP:20260422T012522
CREATED:20241113T211902Z
LAST-MODIFIED:20241113T211906Z
UID:6103-1732003200-1736269200@tp.info.pl
SUMMARY:\,\,Opowieści duszy" - wystawa prac Koła Plastyczno-ceramicznego z CK Przeźmierowo
DESCRIPTION:
URL:https://tp.info.pl/event/wystawa-opowiesci-duszy/
LOCATION:CK Przeźmierowo
CATEGORIES:Wydarzenia kulturalne
END:VEVENT
BEGIN:VEVENT
DTSTART;TZID=Europe/Warsaw:20241119T110000
DTEND;TZID=Europe/Warsaw:20241119T120000
DTSTAMP:20260422T012522
CREATED:20241115T152612Z
LAST-MODIFIED:20241115T153034Z
UID:6151-1732014000-1732017600@tp.info.pl
SUMMARY:Audycja muzyczna dla dzieci
DESCRIPTION:
URL:https://tp.info.pl/event/audycja-muzyczna-dla-dzieci/
LOCATION:CK Przeźmierowo
CATEGORIES:Wydarzenia kulturalne
END:VEVENT
BEGIN:VEVENT
DTSTART;TZID=Europe/Warsaw:20241123T180000
DTEND;TZID=Europe/Warsaw:20241123T200000
DTSTAMP:20260422T012522
CREATED:20241107T100335Z
LAST-MODIFIED:20241107T100339Z
UID:6072-1732384800-1732392000@tp.info.pl
SUMMARY:Koncert Orkiestry Kameralnej Polskiego Radia Amadeus
DESCRIPTION:
URL:https://tp.info.pl/event/koncert-orkiestry-kameralnej-polskiego-radia-amadeus/
LOCATION:CK Przeźmierowo
CATEGORIES:Wydarzenia kulturalne
END:VEVENT
BEGIN:VEVENT
DTSTART;TZID=Europe/Warsaw:20241130T180000
DTEND;TZID=Europe/Warsaw:20241130T190000
DTSTAMP:20260422T012522
CREATED:20241107T093336Z
LAST-MODIFIED:20241107T093345Z
UID:6066-1732989600-1732993200@tp.info.pl
SUMMARY:Premiera spektaklu \,\,Droga" Teatru Tańca Sortownia
DESCRIPTION:
URL:https://tp.info.pl/event/premiera-spektaklu-droga-teatru-tanca-sortownia/
LOCATION:CK Przeźmierowo
CATEGORIES:Wydarzenia kulturalne
END:VEVENT
END:VCALENDAR