BEGIN:VCALENDAR
VERSION:2.0
PRODID:-//Informacje z gminy Tarnowo Podgórne - ECPv6.15.20//NONSGML v1.0//EN
CALSCALE:GREGORIAN
METHOD:PUBLISH
X-WR-CALNAME:Informacje z gminy Tarnowo Podgórne
X-ORIGINAL-URL:https://tp.info.pl
X-WR-CALDESC:Wydarzenia dla Informacje z gminy Tarnowo Podgórne
REFRESH-INTERVAL;VALUE=DURATION:PT1H
X-Robots-Tag:noindex
X-PUBLISHED-TTL:PT1H
BEGIN:VTIMEZONE
TZID:Europe/Warsaw
BEGIN:DAYLIGHT
TZOFFSETFROM:+0100
TZOFFSETTO:+0200
TZNAME:CEST
DTSTART:20230326T010000
END:DAYLIGHT
BEGIN:STANDARD
TZOFFSETFROM:+0200
TZOFFSETTO:+0100
TZNAME:CET
DTSTART:20231029T010000
END:STANDARD
BEGIN:DAYLIGHT
TZOFFSETFROM:+0100
TZOFFSETTO:+0200
TZNAME:CEST
DTSTART:20240331T010000
END:DAYLIGHT
BEGIN:STANDARD
TZOFFSETFROM:+0200
TZOFFSETTO:+0100
TZNAME:CET
DTSTART:20241027T010000
END:STANDARD
BEGIN:DAYLIGHT
TZOFFSETFROM:+0100
TZOFFSETTO:+0200
TZNAME:CEST
DTSTART:20250330T010000
END:DAYLIGHT
BEGIN:STANDARD
TZOFFSETFROM:+0200
TZOFFSETTO:+0100
TZNAME:CET
DTSTART:20251026T010000
END:STANDARD
END:VTIMEZONE
BEGIN:VEVENT
DTSTART;TZID=Europe/Warsaw:20241215T123000
DTEND;TZID=Europe/Warsaw:20241215T131500
DTSTAMP:20260420T151112
CREATED:20241113T193208Z
LAST-MODIFIED:20241113T193213Z
UID:6092-1734265800-1734268500@tp.info.pl
SUMMARY:Spektakl pt. \,\,Nad Betlejem jasna gwiazda świeciła" Teatru Mozaika
DESCRIPTION:
URL:https://tp.info.pl/event/spektakl-pt-nad-betlejem-jasna-gwiazda-swiecila-teatru-mozaika/
LOCATION:CK Przeźmierowo
CATEGORIES:Wydarzenia kulturalne
END:VEVENT
BEGIN:VEVENT
DTSTART;TZID=Europe/Warsaw:20241214T180000
DTEND;TZID=Europe/Warsaw:20241214T190000
DTSTAMP:20260420T151112
CREATED:20241115T150143Z
LAST-MODIFIED:20241115T150151Z
UID:6147-1734199200-1734202800@tp.info.pl
SUMMARY:Jasełka ZPiT \,\,Lusowiacy"
DESCRIPTION:
URL:https://tp.info.pl/event/jaselka-zpit-lusowiacy/
LOCATION:CK Przeźmierowo
CATEGORIES:Wydarzenia kulturalne
END:VEVENT
BEGIN:VEVENT
DTSTART;TZID=Europe/Warsaw:20241207T140000
DTEND;TZID=Europe/Warsaw:20241207T230000
DTSTAMP:20260420T151112
CREATED:20241205T161916Z
LAST-MODIFIED:20241205T161932Z
UID:6291-1733580000-1733612400@tp.info.pl
SUMMARY:Jarmark Świętego Mikołaja
DESCRIPTION:
URL:https://tp.info.pl/event/jarmark-swietego-mikolaja/
LOCATION:Park im. Jana Wojkiewicza
CATEGORIES:Wydarzenia kulturalne
END:VEVENT
BEGIN:VEVENT
DTSTART;TZID=Europe/Warsaw:20241203T180000
DTEND;TZID=Europe/Warsaw:20241203T184500
DTSTAMP:20260420T151112
CREATED:20241115T162905Z
LAST-MODIFIED:20241115T163012Z
UID:6162-1733248800-1733251500@tp.info.pl
SUMMARY:\,\,Panie Gospodarzu\, masz w domu gości"\, spektakl Teatru Mozaika
DESCRIPTION:
URL:https://tp.info.pl/event/panie-gospodarzu-masz-w-domu-gosci-spektakl-teatru-mozaika/
LOCATION:DK w Tarnowie Podgórnym
CATEGORIES:Wydarzenia kulturalne
END:VEVENT
END:VCALENDAR