BEGIN:VCALENDAR
VERSION:2.0
PRODID:-//Informacje z gminy Tarnowo Podgórne - ECPv6.15.20//NONSGML v1.0//EN
CALSCALE:GREGORIAN
METHOD:PUBLISH
X-WR-CALNAME:Informacje z gminy Tarnowo Podgórne
X-ORIGINAL-URL:https://tp.info.pl
X-WR-CALDESC:Wydarzenia dla Informacje z gminy Tarnowo Podgórne
REFRESH-INTERVAL;VALUE=DURATION:PT1H
X-Robots-Tag:noindex
X-PUBLISHED-TTL:PT1H
BEGIN:VTIMEZONE
TZID:Europe/Warsaw
BEGIN:DAYLIGHT
TZOFFSETFROM:+0100
TZOFFSETTO:+0200
TZNAME:CEST
DTSTART:20240331T010000
END:DAYLIGHT
BEGIN:STANDARD
TZOFFSETFROM:+0200
TZOFFSETTO:+0100
TZNAME:CET
DTSTART:20241027T010000
END:STANDARD
BEGIN:DAYLIGHT
TZOFFSETFROM:+0100
TZOFFSETTO:+0200
TZNAME:CEST
DTSTART:20250330T010000
END:DAYLIGHT
BEGIN:STANDARD
TZOFFSETFROM:+0200
TZOFFSETTO:+0100
TZNAME:CET
DTSTART:20251026T010000
END:STANDARD
BEGIN:DAYLIGHT
TZOFFSETFROM:+0100
TZOFFSETTO:+0200
TZNAME:CEST
DTSTART:20260329T010000
END:DAYLIGHT
BEGIN:STANDARD
TZOFFSETFROM:+0200
TZOFFSETTO:+0100
TZNAME:CET
DTSTART:20261025T010000
END:STANDARD
END:VTIMEZONE
BEGIN:VEVENT
DTSTART;TZID=Europe/Warsaw:20250513T080000
DTEND;TZID=Europe/Warsaw:20250613T170000
DTSTAMP:20260421T034506
CREATED:20250430T120708Z
LAST-MODIFIED:20250430T120708Z
UID:7207-1747123200-1749834000@tp.info.pl
SUMMARY:Wystawa malarska \,\,Było sobie drzewo"
DESCRIPTION:
URL:https://tp.info.pl/event/wystawa-malarska-ck-przezmierowo-2/
LOCATION:CK Przeźmierowo
CATEGORIES:Wydarzenia kulturalne
END:VEVENT
BEGIN:VEVENT
DTSTART;TZID=Europe/Warsaw:20250601T131500
DTEND;TZID=Europe/Warsaw:20250601T150000
DTSTAMP:20260421T034506
CREATED:20250505T135826Z
LAST-MODIFIED:20250505T135838Z
UID:7216-1748783700-1748790000@tp.info.pl
SUMMARY:Koncert STOKROTKI w ramach LSM
DESCRIPTION:
URL:https://tp.info.pl/event/lusowskie-spotkania-muzyczne/
LOCATION:Lusowo\, Kościół
CATEGORIES:Wydarzenia kulturalne
END:VEVENT
BEGIN:VEVENT
DTSTART;TZID=Europe/Warsaw:20250601T170000
DTEND;TZID=Europe/Warsaw:20250601T170000
DTSTAMP:20260421T034506
CREATED:20250514T155452Z
LAST-MODIFIED:20250514T155518Z
UID:7255-1748797200-1748797200@tp.info.pl
SUMMARY:Gala Filmowych Hitów - koncert Studia Piosenki
DESCRIPTION:
URL:https://tp.info.pl/event/gala-filmowych-hitow-koncert-studia-piosenki/
LOCATION:CK Przeźmierowo
CATEGORIES:Wydarzenia kulturalne
END:VEVENT
BEGIN:VEVENT
DTSTART;TZID=Europe/Warsaw:20250602T160000
DTEND;TZID=Europe/Warsaw:20250602T180000
DTSTAMP:20260421T034506
CREATED:20250424T141759Z
LAST-MODIFIED:20250424T141832Z
UID:7169-1748880000-1748887200@tp.info.pl
SUMMARY:Kings of The Table vs. III KS AZS AWFiS Balta Gdańsk - rewanż
DESCRIPTION:
URL:https://tp.info.pl/event/kings-of-the-table-2/
LOCATION:hala sportowa OSiR w Przeźmierowie – ul. Kościelna 46/48
CATEGORIES:Sport
END:VEVENT
BEGIN:VEVENT
DTSTART;TZID=Europe/Warsaw:20250603T080000
DTEND;TZID=Europe/Warsaw:20250914T170000
DTSTAMP:20260421T034506
CREATED:20250521T091337Z
LAST-MODIFIED:20250521T091340Z
UID:7289-1748937600-1757869200@tp.info.pl
SUMMARY:Wystawa malarska pt. \,\,Świat surrealistycznej fantazji"
DESCRIPTION:
URL:https://tp.info.pl/event/wystawa-malarska-w-ck-przezmierowo/
LOCATION:CK Przeźmierowo
CATEGORIES:Wydarzenia kulturalne
END:VEVENT
BEGIN:VEVENT
DTSTART;TZID=Europe/Warsaw:20250610T180000
DTEND;TZID=Europe/Warsaw:20250610T184500
DTSTAMP:20260421T034506
CREATED:20250521T082846Z
LAST-MODIFIED:20250521T094310Z
UID:7284-1749578400-1749581100@tp.info.pl
SUMMARY:Spektakl Teatru Mozaika
DESCRIPTION:
URL:https://tp.info.pl/event/spektakl-teatru-mozaika/
LOCATION:DK w Tarnowie Podgórnym
CATEGORIES:Wydarzenia kulturalne
END:VEVENT
BEGIN:VEVENT
DTSTART;TZID=Europe/Warsaw:20250614T120000
DTEND;TZID=Europe/Warsaw:20250614T160000
DTSTAMP:20260421T034506
CREATED:20250604T134643Z
LAST-MODIFIED:20250604T134647Z
UID:7393-1749902400-1749916800@tp.info.pl
SUMMARY:Puchar Polski w Kolarstwie Szosowym
DESCRIPTION:
URL:https://tp.info.pl/event/puchar-polski-w-kolarstwie-szosowym/
LOCATION:Lusowo\, ul. Nowa
CATEGORIES:Sport
END:VEVENT
BEGIN:VEVENT
DTSTART;TZID=Europe/Warsaw:20250614T160000
DTEND;TZID=Europe/Warsaw:20250614T170000
DTSTAMP:20260421T034506
CREATED:20250521T094231Z
LAST-MODIFIED:20250521T094235Z
UID:7294-1749916800-1749920400@tp.info.pl
SUMMARY:\,\,Wiosna z Modrakami" na bis
DESCRIPTION:
URL:https://tp.info.pl/event/wiosna-z-modrakami/
LOCATION:CK Przeźmierowo
CATEGORIES:Wydarzenia kulturalne
END:VEVENT
BEGIN:VEVENT
DTSTART;TZID=Europe/Warsaw:20250617T180000
DTEND;TZID=Europe/Warsaw:20250930T170000
DTSTAMP:20260421T034506
CREATED:20250520T154957Z
LAST-MODIFIED:20250520T155001Z
UID:7277-1750183200-1759251600@tp.info.pl
SUMMARY:Wernisaż \,\,Sesje i plenery" Koła Fotograficznego \,\,Kadr"
DESCRIPTION:
URL:https://tp.info.pl/event/wernisaz-sesje-i-plenery-kola-fotograficznego-kadr/
LOCATION:Galeria w Rotundzie w Domu Kultury w Tarnowie Podgórnym\, ul. Ogrodowa 14\, Tarnowo Podgórne\, wielkopolskie\, 62-080
CATEGORIES:Wydarzenia kulturalne
END:VEVENT
END:VCALENDAR