BEGIN:VCALENDAR
VERSION:2.0
PRODID:-//Informacje z gminy Tarnowo Podgórne - ECPv6.15.20//NONSGML v1.0//EN
CALSCALE:GREGORIAN
METHOD:PUBLISH
X-WR-CALNAME:Informacje z gminy Tarnowo Podgórne
X-ORIGINAL-URL:https://tp.info.pl
X-WR-CALDESC:Wydarzenia dla Informacje z gminy Tarnowo Podgórne
REFRESH-INTERVAL;VALUE=DURATION:PT1H
X-Robots-Tag:noindex
X-PUBLISHED-TTL:PT1H
BEGIN:VTIMEZONE
TZID:Europe/Warsaw
BEGIN:DAYLIGHT
TZOFFSETFROM:+0100
TZOFFSETTO:+0200
TZNAME:CEST
DTSTART:20240331T010000
END:DAYLIGHT
BEGIN:STANDARD
TZOFFSETFROM:+0200
TZOFFSETTO:+0100
TZNAME:CET
DTSTART:20241027T010000
END:STANDARD
BEGIN:DAYLIGHT
TZOFFSETFROM:+0100
TZOFFSETTO:+0200
TZNAME:CEST
DTSTART:20250330T010000
END:DAYLIGHT
BEGIN:STANDARD
TZOFFSETFROM:+0200
TZOFFSETTO:+0100
TZNAME:CET
DTSTART:20251026T010000
END:STANDARD
BEGIN:DAYLIGHT
TZOFFSETFROM:+0100
TZOFFSETTO:+0200
TZNAME:CEST
DTSTART:20260329T010000
END:DAYLIGHT
BEGIN:STANDARD
TZOFFSETFROM:+0200
TZOFFSETTO:+0100
TZNAME:CET
DTSTART:20261025T010000
END:STANDARD
END:VTIMEZONE
BEGIN:VEVENT
DTSTART;TZID=Europe/Warsaw:20250401T080000
DTEND;TZID=Europe/Warsaw:20250530T170000
DTSTAMP:20260421T051726
CREATED:20250325T114114Z
LAST-MODIFIED:20250325T114121Z
UID:6980-1743494400-1748624400@tp.info.pl
SUMMARY:Wystawa malarska pt. \,\,Świat zatrzymany cz. 2"
DESCRIPTION:
URL:https://tp.info.pl/event/wystawa-malarska-pt-swiat-zatrzymany-cz-2/
LOCATION:CK Przeźmierowo
CATEGORIES:Wydarzenia kulturalne
END:VEVENT
BEGIN:VEVENT
DTSTART;TZID=Europe/Warsaw:20250501T110000
DTEND;TZID=Europe/Warsaw:20250501T130000
DTSTAMP:20260421T051726
CREATED:20250303T203624Z
LAST-MODIFIED:20250303T203627Z
UID:6824-1746097200-1746104400@tp.info.pl
SUMMARY:Bieg Unijny 2025
DESCRIPTION:
URL:https://tp.info.pl/event/bieg-unijny-2025/
LOCATION:Przeźmierowo\, ul. Kościelna 46/48
CATEGORIES:Sport
END:VEVENT
BEGIN:VEVENT
DTSTART;TZID=Europe/Warsaw:20250506T180000
DTEND;TZID=Europe/Warsaw:20250506T190000
DTSTAMP:20260421T051726
CREATED:20250410T103419Z
LAST-MODIFIED:20250410T103424Z
UID:7070-1746554400-1746558000@tp.info.pl
SUMMARY:Spotkanie z fotografem Waldemarem Woźniakiem
DESCRIPTION:
URL:https://tp.info.pl/event/spotkanie-z-fotografem-waldemarem-wozniakiem/
LOCATION:DK w Tarnowie Podgórnym
CATEGORIES:Wydarzenia kulturalne
END:VEVENT
BEGIN:VEVENT
DTSTART;TZID=Europe/Warsaw:20250510T170000
DTEND;TZID=Europe/Warsaw:20250510T193000
DTSTAMP:20260421T051726
CREATED:20250508T162347Z
LAST-MODIFIED:20250508T162356Z
UID:7242-1746896400-1746905400@tp.info.pl
SUMMARY:Mecz GKS Tarnovia vs. Lechia - 25 kolejka V Red Box Liga
DESCRIPTION:
URL:https://tp.info.pl/event/mecz-gks-tarnovia-vs-lechia/
LOCATION:boisko GKS Tarnowo Podgórne\, ul. 23 Października 34\, Tarnowo Podgórne\, wielkopolskie\, 62-080
CATEGORIES:Sport
END:VEVENT
BEGIN:VEVENT
DTSTART;TZID=Europe/Warsaw:20250512T180000
DTEND;TZID=Europe/Warsaw:20250512T190000
DTSTAMP:20260421T051726
CREATED:20250507T151144Z
LAST-MODIFIED:20250507T151153Z
UID:7236-1747072800-1747076400@tp.info.pl
SUMMARY:Spotkanie autorskie z Arturem Barcisiem
DESCRIPTION:
URL:https://tp.info.pl/event/artur-barcis-tarnowo-podgorne/
LOCATION:Biblioteka Publiczna w Tarnowie Podgórnym\, Ogrodowa 2a\, Tarnowo Podgórne\, wielkopolskie\, 62-080
CATEGORIES:Wydarzenia kulturalne
END:VEVENT
BEGIN:VEVENT
DTSTART;TZID=Europe/Warsaw:20250513T080000
DTEND;TZID=Europe/Warsaw:20250613T170000
DTSTAMP:20260421T051726
CREATED:20250430T120708Z
LAST-MODIFIED:20250430T120708Z
UID:7207-1747123200-1749834000@tp.info.pl
SUMMARY:Wystawa malarska \,\,Było sobie drzewo"
DESCRIPTION:
URL:https://tp.info.pl/event/wystawa-malarska-ck-przezmierowo-2/
LOCATION:CK Przeźmierowo
CATEGORIES:Wydarzenia kulturalne
END:VEVENT
BEGIN:VEVENT
DTSTART;TZID=Europe/Warsaw:20250516T170000
DTEND;TZID=Europe/Warsaw:20250516T190000
DTSTAMP:20260421T051726
CREATED:20250423T084431Z
LAST-MODIFIED:20250423T084435Z
UID:7145-1747414800-1747422000@tp.info.pl
SUMMARY:Finał Teatru w Każdej Wiosce 2025
DESCRIPTION:
URL:https://tp.info.pl/event/final-teatru-w-kazdej-wiosce-2025/
LOCATION:CK Przeźmierowo
CATEGORIES:Wydarzenia kulturalne
END:VEVENT
BEGIN:VEVENT
DTSTART;TZID=Europe/Warsaw:20250517T110000
DTEND;TZID=Europe/Warsaw:20250517T150000
DTSTAMP:20260421T051726
CREATED:20250423T085622Z
LAST-MODIFIED:20250423T085629Z
UID:7147-1747479600-1747494000@tp.info.pl
SUMMARY:Finał Teatru w Każdej Wiosce cz. II
DESCRIPTION:
URL:https://tp.info.pl/event/final-teatru-w-kazdej-wiosce-cz-ii/
LOCATION:CK Przeźmierowo
CATEGORIES:Wydarzenia kulturalne
END:VEVENT
BEGIN:VEVENT
DTSTART;TZID=Europe/Warsaw:20250518T110000
DTEND;TZID=Europe/Warsaw:20250518T180000
DTSTAMP:20260421T051726
CREATED:20250423T094707Z
LAST-MODIFIED:20250423T094718Z
UID:7153-1747566000-1747591200@tp.info.pl
SUMMARY:Finał Teatru w Każdej Wiosce cz. III i IV
DESCRIPTION:
URL:https://tp.info.pl/event/final-teatru-w-kazdej-wiosce-cz-iii-i-iv/
LOCATION:CK Przeźmierowo
CATEGORIES:Wydarzenia kulturalne
END:VEVENT
BEGIN:VEVENT
DTSTART;TZID=Europe/Warsaw:20250520T110000
DTEND;TZID=Europe/Warsaw:20250520T120000
DTSTAMP:20260421T051726
CREATED:20250512T141131Z
LAST-MODIFIED:20250512T141131Z
UID:7250-1747738800-1747742400@tp.info.pl
SUMMARY:Muzyczna audycja dla dzieci
DESCRIPTION:
URL:https://tp.info.pl/event/muzyczna-audycja-dla-dzieci/
LOCATION:CK Przeźmierowo
CATEGORIES:Wydarzenia kulturalne
END:VEVENT
BEGIN:VEVENT
DTSTART;TZID=Europe/Warsaw:20250524T120000
DTEND;TZID=Europe/Warsaw:20250524T223000
DTSTAMP:20260421T051726
CREATED:20250523T084533Z
LAST-MODIFIED:20250523T084538Z
UID:7306-1748088000-1748125800@tp.info.pl
SUMMARY:Bieg Lwa Gmina Gmina Tarnowo Podgórne 2025
DESCRIPTION:
URL:https://tp.info.pl/event/bieg-lwa-gmina-gmina-tarnowo-podgorne-2025/
CATEGORIES:Sport
END:VEVENT
BEGIN:VEVENT
DTSTART;TZID=Europe/Warsaw:20250524T160000
DTEND;TZID=Europe/Warsaw:20250524T180000
DTSTAMP:20260421T051726
CREATED:20250424T141423Z
LAST-MODIFIED:20250424T141436Z
UID:7167-1748102400-1748109600@tp.info.pl
SUMMARY:Kings of The Table vs. III KS AZS AWFiS Balta Gdańsk
DESCRIPTION:
URL:https://tp.info.pl/event/kings-of-the-table/
LOCATION:hala sportowa OSiR w Przeźmierowie – ul. Kościelna 46/48
CATEGORIES:Sport
END:VEVENT
BEGIN:VEVENT
DTSTART;TZID=Europe/Warsaw:20250525T170000
DTEND;TZID=Europe/Warsaw:20250525T170000
DTSTAMP:20260421T051726
CREATED:20250523T150830Z
LAST-MODIFIED:20250523T150830Z
UID:7319-1748192400-1748192400@tp.info.pl
SUMMARY:Mecz GS Tarnovia vs. KS Wełna Skoki
DESCRIPTION:
URL:https://tp.info.pl/event/mecz-gs-tarnovia-vs-ks-welna-skoki/
LOCATION:boisko GKS Tarnowo Podgórne\, ul. 23 Października 34\, Tarnowo Podgórne\, wielkopolskie\, 62-080
CATEGORIES:Sport
END:VEVENT
BEGIN:VEVENT
DTSTART;TZID=Europe/Warsaw:20250530T120000
DTEND;TZID=Europe/Warsaw:20250530T180000
DTSTAMP:20260421T051726
CREATED:20250523T095724Z
LAST-MODIFIED:20250523T095750Z
UID:7315-1748606400-1748628000@tp.info.pl
SUMMARY:Miasteczko Wojskowe
DESCRIPTION:
URL:https://tp.info.pl/event/miasteczko-wojskowe-w-lusowie/
LOCATION:Leśny Zakątek\, Lusowo\, 62-080\, Poland
CATEGORIES:Wydarzenia kulturalne
END:VEVENT
BEGIN:VEVENT
DTSTART;TZID=Europe/Warsaw:20250531T100000
DTEND;TZID=Europe/Warsaw:20250531T150000
DTSTAMP:20260421T051726
CREATED:20250530T094534Z
LAST-MODIFIED:20250530T094538Z
UID:7356-1748685600-1748703600@tp.info.pl
SUMMARY:Turniej Koszykówki 3x3 Quest
DESCRIPTION:
URL:https://tp.info.pl/event/turniej-koszykowki-3x3-quest/
LOCATION:Swadzim\, ul. św. Antoniego 5\, Swadzim\, wielkopolskie\, 62-080\, Poland
CATEGORIES:Sport
END:VEVENT
END:VCALENDAR