BEGIN:VCALENDAR
VERSION:2.0
PRODID:-//Informacje z gminy Tarnowo Podgórne - ECPv6.15.20//NONSGML v1.0//EN
CALSCALE:GREGORIAN
METHOD:PUBLISH
X-ORIGINAL-URL:https://tp.info.pl
X-WR-CALDESC:Wydarzenia dla Informacje z gminy Tarnowo Podgórne
REFRESH-INTERVAL;VALUE=DURATION:PT1H
X-Robots-Tag:noindex
X-PUBLISHED-TTL:PT1H
BEGIN:VTIMEZONE
TZID:Europe/Warsaw
BEGIN:DAYLIGHT
TZOFFSETFROM:+0100
TZOFFSETTO:+0200
TZNAME:CEST
DTSTART:20230326T010000
END:DAYLIGHT
BEGIN:STANDARD
TZOFFSETFROM:+0200
TZOFFSETTO:+0100
TZNAME:CET
DTSTART:20231029T010000
END:STANDARD
BEGIN:DAYLIGHT
TZOFFSETFROM:+0100
TZOFFSETTO:+0200
TZNAME:CEST
DTSTART:20240331T010000
END:DAYLIGHT
BEGIN:STANDARD
TZOFFSETFROM:+0200
TZOFFSETTO:+0100
TZNAME:CET
DTSTART:20241027T010000
END:STANDARD
BEGIN:DAYLIGHT
TZOFFSETFROM:+0100
TZOFFSETTO:+0200
TZNAME:CEST
DTSTART:20250330T010000
END:DAYLIGHT
BEGIN:STANDARD
TZOFFSETFROM:+0200
TZOFFSETTO:+0100
TZNAME:CET
DTSTART:20251026T010000
END:STANDARD
BEGIN:DAYLIGHT
TZOFFSETFROM:+0100
TZOFFSETTO:+0200
TZNAME:CEST
DTSTART:20260329T010000
END:DAYLIGHT
BEGIN:STANDARD
TZOFFSETFROM:+0200
TZOFFSETTO:+0100
TZNAME:CET
DTSTART:20261025T010000
END:STANDARD
END:VTIMEZONE
BEGIN:VEVENT
DTSTART;TZID=Europe/Warsaw:20241015T080000
DTEND;TZID=Europe/Warsaw:20241118T170000
DTSTAMP:20260421T163457
CREATED:20241007T192638Z
LAST-MODIFIED:20241007T192642Z
UID:5866-1728979200-1731949200@tp.info.pl
SUMMARY:Wystawa malarska \,\,Od słowa do obrazu" w CK Przeźmierowo
DESCRIPTION:
URL:https://tp.info.pl/event/wystawa-malarska-od-slowa-do-obrazu-w-ck-przezmierowo/
LOCATION:CK Przeźmierowo
CATEGORIES:Wydarzenia kulturalne
END:VEVENT
BEGIN:VEVENT
DTSTART;TZID=Europe/Warsaw:20241105T190000
DTEND;TZID=Europe/Warsaw:20241105T202000
DTSTAMP:20260421T163457
CREATED:20240924T063406Z
LAST-MODIFIED:20240924T063406Z
UID:5744-1730833200-1730838000@tp.info.pl
SUMMARY:Benefis \,\,Klubu Szyderców Bis" pt. \,\,Czyj ten benefis"?
DESCRIPTION:
URL:https://tp.info.pl/event/benefis-klubu-szydercow-bis-pt-czyj-ten-benefis/
LOCATION:DK Tarnowo Podgórne\, u. Ogrodowa 14\, Tarnowo Podgórne\, wielkopolskie\, 62-080
CATEGORIES:Wydarzenia kulturalne
END:VEVENT
BEGIN:VEVENT
DTSTART;TZID=Europe/Warsaw:20241106T080000
DTEND;TZID=Europe/Warsaw:20241203T170000
DTSTAMP:20260421T163457
CREATED:20241104T111652Z
LAST-MODIFIED:20241104T111656Z
UID:6033-1730880000-1733245200@tp.info.pl
SUMMARY:Wystawa malarska pt. \,\,Kobiety" w DK w Tarnowie Podgórnym
DESCRIPTION:
URL:https://tp.info.pl/event/wystawa-malarska-pt-kobiety-w-dk-w-tarnowie-podgornym/
LOCATION:Galeria w Rotundzie w Domu Kultury w Tarnowie Podgórnym\, ul. Ogrodowa 14\, Tarnowo Podgórne\, wielkopolskie\, 62-080
CATEGORIES:Wydarzenia kulturalne
END:VEVENT
BEGIN:VEVENT
DTSTART;TZID=Europe/Warsaw:20241106T190000
DTEND;TZID=Europe/Warsaw:20241106T210000
DTSTAMP:20260421T163457
CREATED:20241104T135328Z
LAST-MODIFIED:20241104T135336Z
UID:6037-1730919600-1730926800@tp.info.pl
SUMMARY:Mecz Tarnovia Volleyball vs. Enea Energetyk Poznań
DESCRIPTION:
URL:https://tp.info.pl/event/mecz-tarnovia-volleyball-vs-enea-energetyk-poznan-2/
LOCATION:hala OSiR przy Zespole Szkół Technicznych Tarnowo Podgórne\, ul. Nowa 60
CATEGORIES:Sport
END:VEVENT
BEGIN:VEVENT
DTSTART;TZID=Europe/Warsaw:20241109T110000
DTEND;TZID=Europe/Warsaw:20241109T123000
DTSTAMP:20260421T163457
CREATED:20241106T201322Z
LAST-MODIFIED:20241106T201325Z
UID:6056-1731150000-1731155400@tp.info.pl
SUMMARY:Mecz GKS Tarnovia vs. Warta Sieraków
DESCRIPTION:
URL:https://tp.info.pl/event/mecz-gks-tarnovia-vs-warta-sierakow/
LOCATION:Stadion Piłkarski przy ul. 23 Października 34 w Tarnowie Podgórnym
CATEGORIES:Sport
END:VEVENT
BEGIN:VEVENT
DTSTART;TZID=Europe/Warsaw:20241111T080000
DTEND;TZID=Europe/Warsaw:20241111T170000
DTSTAMP:20260421T163457
CREATED:20240925T194445Z
LAST-MODIFIED:20240925T194449Z
UID:5773-1731312000-1731344400@tp.info.pl
SUMMARY:21. Bieg i Marsz Niepodległości
DESCRIPTION:
URL:https://tp.info.pl/event/21-bieg-i-marsz-niepodleglosci/
LOCATION:Baranowo\, u. Wypoczynkowa 93a
CATEGORIES:Sport
END:VEVENT
BEGIN:VEVENT
DTSTART;TZID=Europe/Warsaw:20241111T170000
DTEND;TZID=Europe/Warsaw:20241111T190000
DTSTAMP:20260421T163457
CREATED:20241011T110633Z
LAST-MODIFIED:20241011T110637Z
UID:5904-1731344400-1731351600@tp.info.pl
SUMMARY:Koncert \,\,Polska Niepodległa" - Poznański Chór Chłopięcy
DESCRIPTION:
URL:https://tp.info.pl/event/koncert-polska-niepodlegla-poznanski-chor-chlopiecy/
LOCATION:CK Przeźmierowo
CATEGORIES:Wydarzenia kulturalne
END:VEVENT
BEGIN:VEVENT
DTSTART;TZID=Europe/Warsaw:20241112T180000
DTEND;TZID=Europe/Warsaw:20241112T184500
DTSTAMP:20260421T163457
CREATED:20241028T165703Z
LAST-MODIFIED:20241028T165707Z
UID:5999-1731434400-1731437100@tp.info.pl
SUMMARY:Spektakl \,\,Legenda o rogalach świętomarcińskich" Teatru Mozaika
DESCRIPTION:
URL:https://tp.info.pl/event/spektakl-legenda-o-rogalach-swietomarcinskich-teatru-mozaika/
LOCATION:DK w Tarnowie Podgórnym
CATEGORIES:Wydarzenia kulturalne
END:VEVENT
BEGIN:VEVENT
DTSTART;TZID=Europe/Warsaw:20241116T080000
DTEND;TZID=Europe/Warsaw:20241116T200000
DTSTAMP:20260421T163457
CREATED:20241114T210119Z
LAST-MODIFIED:20241114T210127Z
UID:6124-1731744000-1731787200@tp.info.pl
SUMMARY:Mistrzostwa Polski w Taekwondo Olimpijskim
DESCRIPTION:
URL:https://tp.info.pl/event/mistrzostwa-polski-w-taekwondo-olimpijskim/
LOCATION:Hala OSiR przy ul. Nowej 15 w Tarnowie Podgórnym
CATEGORIES:Sport
END:VEVENT
BEGIN:VEVENT
DTSTART;TZID=Europe/Warsaw:20241116T170000
DTEND;TZID=Europe/Warsaw:20241116T190000
DTSTAMP:20260421T163457
CREATED:20241114T192745Z
LAST-MODIFIED:20241114T192751Z
UID:6117-1731776400-1731783600@tp.info.pl
SUMMARY:Mecz Tarnovia Volleyball vs. Trefl Gdańsk II
DESCRIPTION:
URL:https://tp.info.pl/event/mecz-tarnovia-volleyball-vs-trefl-gdansk-ii/
LOCATION:hala OSiR przy Zespole Szkół Technicznych Tarnowo Podgórne\, ul. Nowa 60
CATEGORIES:Sport
END:VEVENT
BEGIN:VEVENT
DTSTART;TZID=Europe/Warsaw:20241116T180000
DTEND;TZID=Europe/Warsaw:20241116T193000
DTSTAMP:20260421T163457
CREATED:20240925T190223Z
LAST-MODIFIED:20240925T190223Z
UID:5767-1731780000-1731785400@tp.info.pl
SUMMARY:\,\,Republikacje" - koncert Tymona Tymańskiego
DESCRIPTION:
URL:https://tp.info.pl/event/republikacje-koncert-tymona-tymanskiego/
LOCATION:DK w Tarnowie Podgórnym
CATEGORIES:Wydarzenia kulturalne
END:VEVENT
BEGIN:VEVENT
DTSTART;TZID=Europe/Warsaw:20241117T140000
DTEND;TZID=Europe/Warsaw:20241117T153000
DTSTAMP:20260421T163457
CREATED:20241115T165041Z
LAST-MODIFIED:20241115T165045Z
UID:6167-1731852000-1731857400@tp.info.pl
SUMMARY:Mecz GKS Tarnovia vs. Olimpia Koło
DESCRIPTION:
URL:https://tp.info.pl/event/mecz-gks-tarnovia-vs-olimpia-kolo/
LOCATION:Stadion Piłkarski przy ul. 23 Października 34 w Tarnowie Podgórnym
CATEGORIES:Sport
END:VEVENT
BEGIN:VEVENT
DTSTART;TZID=Europe/Warsaw:20241119T080000
DTEND;TZID=Europe/Warsaw:20250107T170000
DTSTAMP:20260421T163457
CREATED:20241113T211902Z
LAST-MODIFIED:20241113T211906Z
UID:6103-1732003200-1736269200@tp.info.pl
SUMMARY:\,\,Opowieści duszy" - wystawa prac Koła Plastyczno-ceramicznego z CK Przeźmierowo
DESCRIPTION:
URL:https://tp.info.pl/event/wystawa-opowiesci-duszy/
LOCATION:CK Przeźmierowo
CATEGORIES:Wydarzenia kulturalne
END:VEVENT
BEGIN:VEVENT
DTSTART;TZID=Europe/Warsaw:20241119T110000
DTEND;TZID=Europe/Warsaw:20241119T120000
DTSTAMP:20260421T163457
CREATED:20241115T152612Z
LAST-MODIFIED:20241115T153034Z
UID:6151-1732014000-1732017600@tp.info.pl
SUMMARY:Audycja muzyczna dla dzieci
DESCRIPTION:
URL:https://tp.info.pl/event/audycja-muzyczna-dla-dzieci/
LOCATION:CK Przeźmierowo
CATEGORIES:Wydarzenia kulturalne
END:VEVENT
BEGIN:VEVENT
DTSTART;TZID=Europe/Warsaw:20241120T200000
DTEND;TZID=Europe/Warsaw:20241120T210000
DTSTAMP:20260421T163457
CREATED:20241119T173917Z
LAST-MODIFIED:20241119T173917Z
UID:6205-1732132800-1732136400@tp.info.pl
SUMMARY:Mecz Mikstol Tarnovia Basket vs. Basket Gorzów Wlkp.
DESCRIPTION:
URL:https://tp.info.pl/event/mecz-mikstol-tarnovia-basket-vs-basket-gorzow-wlkp/
LOCATION:Hala OSiR przy ul. Nowej 15 Tarnowo Podgórne\, ul. Nowa 15\, Tarnowo Podgórne\, wielkopolskie\, 62-080
CATEGORIES:Sport
END:VEVENT
BEGIN:VEVENT
DTSTART;TZID=Europe/Warsaw:20241123T100000
DTEND;TZID=Europe/Warsaw:20241123T160000
DTSTAMP:20260421T163457
CREATED:20241122T153345Z
LAST-MODIFIED:20241122T153357Z
UID:6226-1732356000-1732377600@tp.info.pl
SUMMARY:Finał Hobby Horse w Tarnowie Podgórnym
DESCRIPTION:
URL:https://tp.info.pl/event/final-hobby-horse-w-tarnowie-podgornym/
LOCATION:Hala OSiR przy ul. Nowej 15 Tarnowo Podgórne\, ul. Nowa 15\, Tarnowo Podgórne\, wielkopolskie\, 62-080
CATEGORIES:Sport
END:VEVENT
BEGIN:VEVENT
DTSTART;TZID=Europe/Warsaw:20241123T180000
DTEND;TZID=Europe/Warsaw:20241123T200000
DTSTAMP:20260421T163457
CREATED:20241107T100335Z
LAST-MODIFIED:20241107T100339Z
UID:6072-1732384800-1732392000@tp.info.pl
SUMMARY:Koncert Orkiestry Kameralnej Polskiego Radia Amadeus
DESCRIPTION:
URL:https://tp.info.pl/event/koncert-orkiestry-kameralnej-polskiego-radia-amadeus/
LOCATION:CK Przeźmierowo
CATEGORIES:Wydarzenia kulturalne
END:VEVENT
BEGIN:VEVENT
DTSTART;TZID=Europe/Warsaw:20241124T123000
DTEND;TZID=Europe/Warsaw:20241124T131500
DTSTAMP:20260421T163457
CREATED:20241107T085133Z
LAST-MODIFIED:20241107T085133Z
UID:6061-1732451400-1732454100@tp.info.pl
SUMMARY:Spektakl pt. \,\,Owieczka Bella" teatru GiliGili
DESCRIPTION:
URL:https://tp.info.pl/event/spektakl-pt-owieczka-bella-teatru-giligili/
LOCATION:DK w Tarnowie Podgórnym
CATEGORIES:Wydarzenia kulturalne
END:VEVENT
BEGIN:VEVENT
DTSTART;TZID=Europe/Warsaw:20241127T180000
DTEND;TZID=Europe/Warsaw:20241127T190000
DTSTAMP:20260421T163457
CREATED:20241115T140026Z
LAST-MODIFIED:20241115T140030Z
UID:6139-1732730400-1732734000@tp.info.pl
SUMMARY:Spotkanie autorskie z Urszulą Dudziak
DESCRIPTION:
URL:https://tp.info.pl/event/spotkanie-autorskie-z-urszula-dudziak/
LOCATION:Centrum Demokracji i Integracji Obywatelskiej w Tarnowie Podgórnym\, ul. Poznańska 99\, Tarnowo Podgórne\, 62-080
CATEGORIES:Wydarzenia kulturalne
END:VEVENT
BEGIN:VEVENT
DTSTART;TZID=Europe/Warsaw:20241129T180000
DTEND;TZID=Europe/Warsaw:20241129T190000
DTSTAMP:20260421T163457
CREATED:20241125T165608Z
LAST-MODIFIED:20241125T165621Z
UID:6246-1732903200-1732906800@tp.info.pl
SUMMARY:Wystawa \,\,Pop Fiction" Oskara Jaska
DESCRIPTION:
URL:https://tp.info.pl/event/wystawa-oskara-jaska-pop-fiction/
LOCATION:V.A. Gallery Poland\, ul. Wierzbowa 162\, Wysogotowo
CATEGORIES:Wydarzenia kulturalne
END:VEVENT
BEGIN:VEVENT
DTSTART;TZID=Europe/Warsaw:20241130T180000
DTEND;TZID=Europe/Warsaw:20241130T190000
DTSTAMP:20260421T163457
CREATED:20241107T093336Z
LAST-MODIFIED:20241107T093345Z
UID:6066-1732989600-1732993200@tp.info.pl
SUMMARY:Premiera spektaklu \,\,Droga" Teatru Tańca Sortownia
DESCRIPTION:
URL:https://tp.info.pl/event/premiera-spektaklu-droga-teatru-tanca-sortownia/
LOCATION:CK Przeźmierowo
CATEGORIES:Wydarzenia kulturalne
END:VEVENT
END:VCALENDAR