BEGIN:VCALENDAR
VERSION:2.0
PRODID:-//Informacje z gminy Tarnowo Podgórne - ECPv6.15.20//NONSGML v1.0//EN
CALSCALE:GREGORIAN
METHOD:PUBLISH
X-ORIGINAL-URL:https://tp.info.pl
X-WR-CALDESC:Wydarzenia dla Informacje z gminy Tarnowo Podgórne
REFRESH-INTERVAL;VALUE=DURATION:PT1H
X-Robots-Tag:noindex
X-PUBLISHED-TTL:PT1H
BEGIN:VTIMEZONE
TZID:Europe/Warsaw
BEGIN:DAYLIGHT
TZOFFSETFROM:+0100
TZOFFSETTO:+0200
TZNAME:CEST
DTSTART:20230326T010000
END:DAYLIGHT
BEGIN:STANDARD
TZOFFSETFROM:+0200
TZOFFSETTO:+0100
TZNAME:CET
DTSTART:20231029T010000
END:STANDARD
BEGIN:DAYLIGHT
TZOFFSETFROM:+0100
TZOFFSETTO:+0200
TZNAME:CEST
DTSTART:20240331T010000
END:DAYLIGHT
BEGIN:STANDARD
TZOFFSETFROM:+0200
TZOFFSETTO:+0100
TZNAME:CET
DTSTART:20241027T010000
END:STANDARD
BEGIN:DAYLIGHT
TZOFFSETFROM:+0100
TZOFFSETTO:+0200
TZNAME:CEST
DTSTART:20250330T010000
END:DAYLIGHT
BEGIN:STANDARD
TZOFFSETFROM:+0200
TZOFFSETTO:+0100
TZNAME:CET
DTSTART:20251026T010000
END:STANDARD
END:VTIMEZONE
BEGIN:VEVENT
DTSTART;TZID=Europe/Warsaw:20240604T080000
DTEND;TZID=Europe/Warsaw:20240831T170000
DTSTAMP:20260421T212201
CREATED:20240523T220650Z
LAST-MODIFIED:20240523T220657Z
UID:5143-1717488000-1725123600@tp.info.pl
SUMMARY:Wystawa malarska pt. \,\,Jak z pocztówki"
DESCRIPTION:
URL:https://tp.info.pl/event/wystawa-malarska-pt-jak-z-pocztowki/
LOCATION:CK Przeźmierowo
CATEGORIES:Wydarzenia kulturalne
END:VEVENT
BEGIN:VEVENT
DTSTART;TZID=Europe/Warsaw:20240619T180000
DTEND;TZID=Europe/Warsaw:20240831T170000
DTSTAMP:20260421T212201
CREATED:20240523T220140Z
LAST-MODIFIED:20240523T220148Z
UID:5141-1718820000-1725123600@tp.info.pl
SUMMARY:Wystawa fotograficzna pt. \,\,Ulotne chwile"
DESCRIPTION:
URL:https://tp.info.pl/event/wystawa-fotograficzna-pt-ulotne-chwile/
LOCATION:Galeria w Rotundzie w Domu Kultury w Tarnowie Podgórnym\, ul. Ogrodowa 14\, Tarnowo Podgórne\, wielkopolskie\, 62-080
CATEGORIES:Wydarzenia kulturalne
END:VEVENT
BEGIN:VEVENT
DTSTART;TZID=Europe/Warsaw:20240804T090000
DTEND;TZID=Europe/Warsaw:20240804T140000
DTSTAMP:20260421T212201
CREATED:20240726T134508Z
LAST-MODIFIED:20240726T134508Z
UID:5414-1722762000-1722780000@tp.info.pl
SUMMARY:Powiatowy Turniej Siatkówki Plażowej
DESCRIPTION:
URL:https://tp.info.pl/event/powiatowy-turniej-siatkowki-plazowej-2/
LOCATION:Plaża Lusowo
CATEGORIES:Sport
END:VEVENT
BEGIN:VEVENT
DTSTART;TZID=Europe/Warsaw:20240804T130000
DTEND;TZID=Europe/Warsaw:20240804T140000
DTSTAMP:20260421T212201
CREATED:20240620T203928Z
LAST-MODIFIED:20240620T203933Z
UID:5315-1722776400-1722780000@tp.info.pl
SUMMARY:Koncert - \,\,Duet oczywisty"
DESCRIPTION:
URL:https://tp.info.pl/event/koncert-duet-oczywisty/
LOCATION:Lusowo\, Kościół
CATEGORIES:Wydarzenia kulturalne
END:VEVENT
BEGIN:VEVENT
DTSTART;TZID=Europe/Warsaw:20240811T160000
DTEND;TZID=Europe/Warsaw:20240811T170000
DTSTAMP:20260421T212201
CREATED:20240621T105357Z
LAST-MODIFIED:20240621T105401Z
UID:5321-1723392000-1723395600@tp.info.pl
SUMMARY:Spektakl plenerowy pt. \,\,Kubusiowe granie"
DESCRIPTION:
URL:https://tp.info.pl/event/spektakl-plenerowy-pt-kubusiowe-granie/
LOCATION:Park przy CK Przeźmierowo\, ul. Ogrodowa 13a\, Przeźmierowo\, wielkopolskie\, 62-080\, Poland
CATEGORIES:Wydarzenia kulturalne
END:VEVENT
BEGIN:VEVENT
DTSTART;TZID=Europe/Warsaw:20240811T180000
DTEND;TZID=Europe/Warsaw:20240811T193000
DTSTAMP:20260421T212201
CREATED:20240808T151009Z
LAST-MODIFIED:20240808T151012Z
UID:5475-1723399200-1723404600@tp.info.pl
SUMMARY:Mecz GKS Tarnovia vs. Meblorz Swarzędz
DESCRIPTION:
URL:https://tp.info.pl/event/mecz-gks-tarnovia-vs-meblorz-swarzedz/
LOCATION:Stadion Piłkarski przy ul. 23 Października 34 w Tarnowie Podgórnym
END:VEVENT
BEGIN:VEVENT
DTSTART;TZID=Europe/Warsaw:20240817T120000
DTEND;TZID=Europe/Warsaw:20240817T170000
DTSTAMP:20260421T212201
CREATED:20240807T094211Z
LAST-MODIFIED:20240807T094211Z
UID:5460-1723896000-1723914000@tp.info.pl
SUMMARY:Mistrzostwa Wielkopolski oraz Grand Prix Wielkopolski w pływaniu długodystansowym
DESCRIPTION:
URL:https://tp.info.pl/event/mistrzostwa-wielkopolski-oraz-grand-prix-wielkopolski-w-plywaniu-dlugodystansowym/
LOCATION:Przystań Lusówko\, Ogrodowa 9 lok. 2\, Lusówko\, wielkopolskie\, 62-080\, Poland
CATEGORIES:Sport
END:VEVENT
BEGIN:VEVENT
DTSTART;TZID=Europe/Warsaw:20240818T120000
DTEND;TZID=Europe/Warsaw:20240818T200000
DTSTAMP:20260421T212201
CREATED:20240718T130130Z
LAST-MODIFIED:20240718T130137Z
UID:5380-1723982400-1724011200@tp.info.pl
SUMMARY:Dożynki w Gminie Tarnowo Podgórne
DESCRIPTION:
URL:https://tp.info.pl/event/dozynki-w-gminie-tarnowo-podgorne-2/
LOCATION:Lusowo\, plac \,\,U księdza za płotem”
CATEGORIES:Wydarzenia kulturalne
END:VEVENT
BEGIN:VEVENT
DTSTART;TZID=Europe/Warsaw:20240822T080000
DTEND;TZID=Europe/Warsaw:20240825T170000
DTSTAMP:20260421T212201
CREATED:20240328T175419Z
LAST-MODIFIED:20240328T175424Z
UID:4717-1724313600-1724605200@tp.info.pl
SUMMARY:OFP Tarnowo Podgórne
DESCRIPTION:
URL:https://tp.info.pl/event/ofp-tarnowo-podgorne/
LOCATION:Pałac Jankowice
CATEGORIES:Wydarzenia kulturalne
END:VEVENT
BEGIN:VEVENT
DTSTART;TZID=Europe/Warsaw:20240822T173000
DTEND;TZID=Europe/Warsaw:20240822T203000
DTSTAMP:20260421T212201
CREATED:20240808T134623Z
LAST-MODIFIED:20240808T140426Z
UID:5467-1724347800-1724358600@tp.info.pl
SUMMARY:Warszaty \,\,Szyfry dla każdego"
DESCRIPTION:
URL:https://tp.info.pl/event/warszaty-szyfry-dla-kazdego/
LOCATION:CK Przeźmierowo
CATEGORIES:Wydarzenia kulturalne
END:VEVENT
BEGIN:VEVENT
DTSTART;TZID=Europe/Warsaw:20240824T110000
DTEND;TZID=Europe/Warsaw:20240824T140000
DTSTAMP:20260421T212201
CREATED:20240808T140329Z
LAST-MODIFIED:20240808T140329Z
UID:5470-1724497200-1724508000@tp.info.pl
SUMMARY:Warsztaty \,\,Szyfry dla każdego"
DESCRIPTION:
URL:https://tp.info.pl/event/warsztaty-szyfry-dla-kazdego/
LOCATION:DK Tarnowo Podgórne\, u. Ogrodowa 14\, Tarnowo Podgórne\, wielkopolskie\, 62-080
CATEGORIES:Wydarzenia kulturalne
END:VEVENT
BEGIN:VEVENT
DTSTART;TZID=Europe/Warsaw:20240825T090000
DTEND;TZID=Europe/Warsaw:20240825T160000
DTSTAMP:20260421T212201
CREATED:20240802T150400Z
LAST-MODIFIED:20240802T150405Z
UID:5441-1724576400-1724601600@tp.info.pl
SUMMARY:Golf w ramach 20. Edycji Rankingu Sołectw
DESCRIPTION:
URL:https://tp.info.pl/event/golf-w-ramach-20-edycji-rankingu-solectw/
LOCATION:Pole golfowe Black Water Links w Rumianku\, Szkolna\, Rumianek\, wielkopolskie\, 62-080\, Poland
CATEGORIES:Sport
END:VEVENT
BEGIN:VEVENT
DTSTART;TZID=Europe/Warsaw:20240825T170000
DTEND;TZID=Europe/Warsaw:20240825T200000
DTSTAMP:20260421T212201
CREATED:20240718T124816Z
LAST-MODIFIED:20240718T124819Z
UID:5377-1724605200-1724616000@tp.info.pl
SUMMARY:IV Ogólnopolski Festiwal Piosenki Tarnowo Podgórne
DESCRIPTION:
URL:https://tp.info.pl/event/iv-ogolnopolski-festiwal-piosenki-tarnowo-podgorne/
LOCATION:Pałac Jankowice
CATEGORIES:Wydarzenia kulturalne
END:VEVENT
BEGIN:VEVENT
DTSTART;TZID=Europe/Warsaw:20240830T203000
DTEND;TZID=Europe/Warsaw:20240830T220000
DTSTAMP:20260421T212201
CREATED:20240621T111817Z
LAST-MODIFIED:20240621T111821Z
UID:5326-1725049800-1725055200@tp.info.pl
SUMMARY:Koncert James'a Harries'a
DESCRIPTION:
URL:https://tp.info.pl/event/koncert-jamesa-harriesa/
LOCATION:Park przy CK Przeźmierowo\, ul. Ogrodowa 13a\, Przeźmierowo\, wielkopolskie\, 62-080\, Poland
CATEGORIES:Wydarzenia kulturalne
END:VEVENT
BEGIN:VEVENT
DTSTART;TZID=Europe/Warsaw:20240831T100000
DTEND;TZID=Europe/Warsaw:20240831T170000
DTSTAMP:20260421T212201
CREATED:20240828T081236Z
LAST-MODIFIED:20240828T081244Z
UID:5527-1725098400-1725123600@tp.info.pl
SUMMARY:Turniej tenisa stołowego o Puchar Wójta Gminy Tarnowo Podgórne
DESCRIPTION:
URL:https://tp.info.pl/event/turniej-tenisa-stolowego-o-puchar-wojta-gminy-tarnowo-podgorne/
LOCATION:hala sportowa OSiR w Przeźmierowie – ul. Kościelna 46/48
CATEGORIES:Sport
END:VEVENT
END:VCALENDAR