BEGIN:VCALENDAR
VERSION:2.0
PRODID:-//Informacje z gminy Tarnowo Podgórne - ECPv6.15.20//NONSGML v1.0//EN
CALSCALE:GREGORIAN
METHOD:PUBLISH
X-ORIGINAL-URL:https://tp.info.pl
X-WR-CALDESC:Wydarzenia dla Informacje z gminy Tarnowo Podgórne
REFRESH-INTERVAL;VALUE=DURATION:PT1H
X-Robots-Tag:noindex
X-PUBLISHED-TTL:PT1H
BEGIN:VTIMEZONE
TZID:Europe/Warsaw
BEGIN:DAYLIGHT
TZOFFSETFROM:+0100
TZOFFSETTO:+0200
TZNAME:CEST
DTSTART:20230326T010000
END:DAYLIGHT
BEGIN:STANDARD
TZOFFSETFROM:+0200
TZOFFSETTO:+0100
TZNAME:CET
DTSTART:20231029T010000
END:STANDARD
BEGIN:DAYLIGHT
TZOFFSETFROM:+0100
TZOFFSETTO:+0200
TZNAME:CEST
DTSTART:20240331T010000
END:DAYLIGHT
BEGIN:STANDARD
TZOFFSETFROM:+0200
TZOFFSETTO:+0100
TZNAME:CET
DTSTART:20241027T010000
END:STANDARD
BEGIN:DAYLIGHT
TZOFFSETFROM:+0100
TZOFFSETTO:+0200
TZNAME:CEST
DTSTART:20250330T010000
END:DAYLIGHT
BEGIN:STANDARD
TZOFFSETFROM:+0200
TZOFFSETTO:+0100
TZNAME:CET
DTSTART:20251026T010000
END:STANDARD
BEGIN:DAYLIGHT
TZOFFSETFROM:+0100
TZOFFSETTO:+0200
TZNAME:CEST
DTSTART:20260329T010000
END:DAYLIGHT
BEGIN:STANDARD
TZOFFSETFROM:+0200
TZOFFSETTO:+0100
TZNAME:CET
DTSTART:20261025T010000
END:STANDARD
END:VTIMEZONE
BEGIN:VEVENT
DTSTART;TZID=Europe/Warsaw:20250221T180000
DTEND;TZID=Europe/Warsaw:20250221T190000
DTSTAMP:20260421T220913
CREATED:20250220T182740Z
LAST-MODIFIED:20250220T182740Z
UID:6759-1740160800-1740164400@tp.info.pl
SUMMARY:Uroczyste otwarcie nowej szkoły w Lusówku
DESCRIPTION:
URL:https://tp.info.pl/event/uroczyste-otwarcie-nowej-szkoly-w-lusowku/
CATEGORIES:Wydarzenia kulturalne
END:VEVENT
BEGIN:VEVENT
DTSTART;TZID=Europe/Warsaw:20250216T123000
DTEND;TZID=Europe/Warsaw:20250216T131000
DTSTAMP:20260421T220913
CREATED:20250102T193131Z
LAST-MODIFIED:20250102T193205Z
UID:6446-1739709000-1739711400@tp.info.pl
SUMMARY:Spektakl pt. \,\,3X Królewna \,3X Smok"\, teatru \,\,Pod Orzełkiem"
DESCRIPTION:
URL:https://tp.info.pl/event/spektakl-pt-3x-krolewna-3x-smok-teatru-pod-orzelkiem/
LOCATION:DK Tarnowo Podgórne\, u. Ogrodowa 14\, Tarnowo Podgórne\, wielkopolskie\, 62-080
CATEGORIES:Wydarzenia kulturalne
END:VEVENT
BEGIN:VEVENT
DTSTART;TZID=Europe/Warsaw:20250215T180000
DTEND;TZID=Europe/Warsaw:20250215T193000
DTSTAMP:20260421T220913
CREATED:20250124T101406Z
LAST-MODIFIED:20250124T101418Z
UID:6564-1739642400-1739647800@tp.info.pl
SUMMARY:\,\,Pałacowe Love" - koncert w Pałacu Jankowice
DESCRIPTION:
URL:https://tp.info.pl/event/palacowe-love-koncert-w-palacu-jankowice/
LOCATION:Pałac Jankowice
CATEGORIES:Wydarzenia kulturalne
END:VEVENT
BEGIN:VEVENT
DTSTART;TZID=Europe/Warsaw:20250215T180000
DTEND;TZID=Europe/Warsaw:20250215T190000
DTSTAMP:20260421T220913
CREATED:20250109T193957Z
LAST-MODIFIED:20250109T194003Z
UID:6503-1739642400-1739646000@tp.info.pl
SUMMARY:TUGA w CK Przeźmierowo
DESCRIPTION:
URL:https://tp.info.pl/event/tuga-w-ck-przezmierowo/
LOCATION:CK Przeźmierowo
CATEGORIES:Wydarzenia kulturalne
END:VEVENT
BEGIN:VEVENT
DTSTART;TZID=Europe/Warsaw:20250215T170000
DTEND;TZID=Europe/Warsaw:20250215T190000
DTSTAMP:20260421T220913
CREATED:20250215T100345Z
LAST-MODIFIED:20250215T100353Z
UID:6716-1739638800-1739646000@tp.info.pl
SUMMARY:Tarnovia Volleyball vs. KS Stilon Gorzów Wlkp
DESCRIPTION:
URL:https://tp.info.pl/event/tarnovia-volleyball-vs-ks-stilon-gorzow-wlkp/
LOCATION:hala OSiR przy Zespole Szkół Technicznych Tarnowo Podgórne\, ul. Nowa 60
CATEGORIES:Sport
END:VEVENT
BEGIN:VEVENT
DTSTART;TZID=Europe/Warsaw:20250215T143000
DTEND;TZID=Europe/Warsaw:20250215T163000
DTSTAMP:20260421T220913
CREATED:20250215T095102Z
LAST-MODIFIED:20250215T095109Z
UID:6714-1739629800-1739637000@tp.info.pl
SUMMARY:MIKSTOL Tarnovia Basket vs. Energa Basketball Elbląg
DESCRIPTION:
URL:https://tp.info.pl/event/mikstol-tarnovia-basket-vs-energa-basketball-elblag/
LOCATION:Hala OSiR przy ul. Nowej 15 w Tarnowie Podgórnym
CATEGORIES:Sport
END:VEVENT
BEGIN:VEVENT
DTSTART;TZID=Europe/Warsaw:20250215T120000
DTEND;TZID=Europe/Warsaw:20250215T140000
DTSTAMP:20260421T220913
CREATED:20250215T093535Z
LAST-MODIFIED:20250215T093902Z
UID:6711-1739620800-1739628000@tp.info.pl
SUMMARY:Mikstol Tarnovia Basket vs. Basket Team Suchy Las
DESCRIPTION:
URL:https://tp.info.pl/event/mikstol-tarnovia-basket-vs-basket-team-suchy-las/
LOCATION:Hala OSiR przy ul. Nowej 15 w Tarnowie Podgórnym
CATEGORIES:Sport
END:VEVENT
BEGIN:VEVENT
DTSTART;TZID=Europe/Warsaw:20250215T080000
DTEND;TZID=Europe/Warsaw:20250331T170000
DTSTAMP:20260421T220913
CREATED:20250214T120237Z
LAST-MODIFIED:20250214T120242Z
UID:6699-1739606400-1743440400@tp.info.pl
SUMMARY:Wystawa malarska pt. \,\,Świat zatrzymany" w CK Przeźmierowo
DESCRIPTION:
URL:https://tp.info.pl/event/wystawa-malarska-ck-przezmierowo/
LOCATION:CK Przeźmierowo
CATEGORIES:Wydarzenia kulturalne
END:VEVENT
BEGIN:VEVENT
DTSTART;TZID=Europe/Warsaw:20250208T190000
DTEND;TZID=Europe/Warsaw:20250208T233000
DTSTAMP:20260421T220913
CREATED:20250131T181428Z
LAST-MODIFIED:20250131T181434Z
UID:6618-1739041200-1739057400@tp.info.pl
SUMMARY:FIGHT NIGHT 3 TARNOWO PODGÓRNE
DESCRIPTION:
URL:https://tp.info.pl/event/fight-night-3-tarnowo-podgorne/
LOCATION:Hala OSiR przy ul. Nowej 15 Tarnowo Podgórne\, ul. Nowa 15\, Tarnowo Podgórne\, wielkopolskie\, 62-080
CATEGORIES:Sport
END:VEVENT
BEGIN:VEVENT
DTSTART;TZID=Europe/Warsaw:20250208T180000
DTEND;TZID=Europe/Warsaw:20250208T190000
DTSTAMP:20260421T220913
CREATED:20250108T075611Z
LAST-MODIFIED:20250108T075622Z
UID:6493-1739037600-1739041200@tp.info.pl
SUMMARY:\,\,Winter Songs" - koncert jazzowy Moniki Borzym
DESCRIPTION:
URL:https://tp.info.pl/event/winter-songs-koncert-jazzowy-moniki-borzym/
LOCATION:CK Przeźmierowo
CATEGORIES:Wydarzenia kulturalne
END:VEVENT
BEGIN:VEVENT
DTSTART;TZID=Europe/Warsaw:20250205T200000
DTEND;TZID=Europe/Warsaw:20250205T213000
DTSTAMP:20260421T220913
CREATED:20250203T163400Z
LAST-MODIFIED:20250203T163403Z
UID:6627-1738785600-1738791000@tp.info.pl
SUMMARY:Mikstol Tarnovia Basket vs. Basket 2010 Kruszwica
DESCRIPTION:
URL:https://tp.info.pl/event/mikstol-tarnovia-basket-vs-basket-2010-kruszwica/
LOCATION:Hala OSiR przy ul. Nowej 15 Tarnowo Podgórne\, ul. Nowa 15\, Tarnowo Podgórne\, wielkopolskie\, 62-080
CATEGORIES:Sport
END:VEVENT
BEGIN:VEVENT
DTSTART;TZID=Europe/Warsaw:20250204T180000
DTEND;TZID=Europe/Warsaw:20250204T184500
DTSTAMP:20260421T220913
CREATED:20250120T164846Z
LAST-MODIFIED:20250120T164855Z
UID:6550-1738692000-1738694700@tp.info.pl
SUMMARY:\,\,Muzyczne wygibasy" z Teatrem Mozaika
DESCRIPTION:
URL:https://tp.info.pl/event/muzyczne-wygibasy-teatr-mozaika/
LOCATION:DK Tarnowo Podgórne\, u. Ogrodowa 14\, Tarnowo Podgórne\, wielkopolskie\, 62-080
CATEGORIES:Wydarzenia kulturalne
END:VEVENT
BEGIN:VEVENT
DTSTART;TZID=Europe/Warsaw:20250203T180000
DTEND;TZID=Europe/Warsaw:20250203T200000
DTSTAMP:20260421T220913
CREATED:20250116T155744Z
LAST-MODIFIED:20250116T155748Z
UID:6532-1738605600-1738612800@tp.info.pl
SUMMARY:Spotkanie autorskie z Michałem Koterskim
DESCRIPTION:
URL:https://tp.info.pl/event/spotkanie-autorskie-z-michalem-koterskim/
LOCATION:Pałac Jankowice
CATEGORIES:Wydarzenia kulturalne
END:VEVENT
BEGIN:VEVENT
DTSTART;TZID=Europe/Warsaw:20250201T093000
DTEND;TZID=Europe/Warsaw:20250201T160000
DTSTAMP:20260421T220913
CREATED:20250130T174846Z
LAST-MODIFIED:20250130T174855Z
UID:6593-1738402200-1738425600@tp.info.pl
SUMMARY:Kolejna edycjia Knockout Art League
DESCRIPTION:
URL:https://tp.info.pl/event/kolejna-edycjia-knockout-art-league/
LOCATION:Hala OSiR przy ul. Nowej 15 Tarnowo Podgórne\, ul. Nowa 15\, Tarnowo Podgórne\, wielkopolskie\, 62-080
CATEGORIES:Sport
END:VEVENT
BEGIN:VEVENT
DTSTART;TZID=Europe/Warsaw:20250125T170000
DTEND;TZID=Europe/Warsaw:20250125T190000
DTSTAMP:20260421T220913
CREATED:20250109T190249Z
LAST-MODIFIED:20250109T190254Z
UID:6499-1737824400-1737831600@tp.info.pl
SUMMARY:Koncert Noworoczny i Gala \,\,Aktywni lokalnie"
DESCRIPTION:
URL:https://tp.info.pl/event/koncert-noworoczny-i-gala-aktywni-lokalnie-2/
LOCATION:hala OSiR przy Zespole Szkół Technicznych Tarnowo Podgórne\, ul. Nowa 60
CATEGORIES:Wydarzenia kulturalne
END:VEVENT
BEGIN:VEVENT
DTSTART;TZID=Europe/Warsaw:20250119T123000
DTEND;TZID=Europe/Warsaw:20250119T131000
DTSTAMP:20260421T220913
CREATED:20250102T183138Z
LAST-MODIFIED:20250102T183157Z
UID:6440-1737289800-1737292200@tp.info.pl
SUMMARY:Spektakl teatru \,\,Mozaika" pt. \,\,Dobry żart tynfa wart"
DESCRIPTION:
URL:https://tp.info.pl/event/spektakl-teatru-mozaika-pt-dobry-zart-tynfa-wart/
LOCATION:DK w Tarnowie Podgórnym
CATEGORIES:Wydarzenia kulturalne
END:VEVENT
BEGIN:VEVENT
DTSTART;TZID=Europe/Warsaw:20250118T180000
DTEND;TZID=Europe/Warsaw:20250118T190000
DTSTAMP:20260421T220913
CREATED:20250102T175754Z
LAST-MODIFIED:20250102T175757Z
UID:6436-1737223200-1737226800@tp.info.pl
SUMMARY:Spektakl ZAMIAST pt. \,\,Zrobię wam katharsis"
DESCRIPTION:
URL:https://tp.info.pl/event/spektakl-zamiast-pt-zrobie-wam-katharsis/
LOCATION:CK Przeźmierowo
CATEGORIES:Wydarzenia kulturalne
END:VEVENT
BEGIN:VEVENT
DTSTART;TZID=Europe/Warsaw:20250114T180000
DTEND;TZID=Europe/Warsaw:20250114T190000
DTSTAMP:20260421T220913
CREATED:20250102T120436Z
LAST-MODIFIED:20250103T162729Z
UID:6427-1736877600-1736881200@tp.info.pl
SUMMARY:Spotkanie z Darią Bielienkow
DESCRIPTION:
URL:https://tp.info.pl/event/spotkanie-z-daria-bielienkow/
LOCATION:DK Tarnowo Podgórne\, u. Ogrodowa 14\, Tarnowo Podgórne\, wielkopolskie\, 62-080
CATEGORIES:Wydarzenia kulturalne
END:VEVENT
BEGIN:VEVENT
DTSTART;TZID=Europe/Warsaw:20250114T110000
DTEND;TZID=Europe/Warsaw:20250114T120000
DTSTAMP:20260421T220913
CREATED:20250102T172437Z
LAST-MODIFIED:20250102T172440Z
UID:6432-1736852400-1736856000@tp.info.pl
SUMMARY:\,\,Nutki w białym puchu..." – Muziaki – przedszkolaki i muzyczątka
DESCRIPTION:
URL:https://tp.info.pl/event/nutki-w-bialym-puchu-muziaki-przedszkolaki-i-muzyczatka/
LOCATION:CK Przeźmierowo
CATEGORIES:Wydarzenia kulturalne
END:VEVENT
BEGIN:VEVENT
DTSTART;TZID=Europe/Warsaw:20250112T150000
DTEND;TZID=Europe/Warsaw:20250112T170000
DTSTAMP:20260421T220913
CREATED:20250102T113055Z
LAST-MODIFIED:20250102T113110Z
UID:6423-1736694000-1736701200@tp.info.pl
SUMMARY:\,\,Śpiewamy kolędy" - Koło Śpiewu im. Feliksa Nowowiejskiego
DESCRIPTION:
URL:https://tp.info.pl/event/spiewamy-koledy-kolo-spiewu-im-feliksa-nowowiejskiego/
LOCATION:DK w Tarnowie Podgórnym
CATEGORIES:Wydarzenia kulturalne
END:VEVENT
BEGIN:VEVENT
DTSTART;TZID=Europe/Warsaw:20250112T093000
DTEND;TZID=Europe/Warsaw:20250112T160000
DTSTAMP:20260421T220913
CREATED:20241217T183116Z
LAST-MODIFIED:20241217T183201Z
UID:6388-1736674200-1736697600@tp.info.pl
SUMMARY:Tenis stołowy - 21. Edycja Rankingu Sołectw
DESCRIPTION:
URL:https://tp.info.pl/event/tenis-stolowy-21-edycja-rankingu-solectw/
LOCATION:hala sportowa OSiR w Przeźmierowie – ul. Kościelna 46/48
CATEGORIES:Sport
END:VEVENT
BEGIN:VEVENT
DTSTART;TZID=Europe/Warsaw:20250109T080000
DTEND;TZID=Europe/Warsaw:20250304T170000
DTSTAMP:20260421T220913
CREATED:20250102T105445Z
LAST-MODIFIED:20250102T105810Z
UID:6416-1736409600-1741107600@tp.info.pl
SUMMARY:Wystawa malarska \,\,Kwiaty w wazonie"
DESCRIPTION:
URL:https://tp.info.pl/event/wystawa-malarska-kwiaty-w-wazonie/
LOCATION:Galeria w Rotundzie w Domu Kultury w Tarnowie Podgórnym\, ul. Ogrodowa 14\, Tarnowo Podgórne\, wielkopolskie\, 62-080
CATEGORIES:Wydarzenia kulturalne
END:VEVENT
BEGIN:VEVENT
DTSTART;TZID=Europe/Warsaw:20250108T180000
DTEND;TZID=Europe/Warsaw:20250108T190000
DTSTAMP:20260421T220913
CREATED:20250108T080111Z
LAST-MODIFIED:20250108T080117Z
UID:6495-1736359200-1736362800@tp.info.pl
SUMMARY:Koncert Eleni
DESCRIPTION:
URL:https://tp.info.pl/event/koncert-eleni/
LOCATION:Lusowo\, Kościół
CATEGORIES:Wydarzenia kulturalne
END:VEVENT
BEGIN:VEVENT
DTSTART;TZID=Europe/Warsaw:20250104T160000
DTEND;TZID=Europe/Warsaw:20250104T170000
DTSTAMP:20260421T220913
CREATED:20250103T162429Z
LAST-MODIFIED:20250103T162432Z
UID:6467-1736006400-1736010000@tp.info.pl
SUMMARY:Tarnovii Volleyball vs.  KPS Płock
DESCRIPTION:
URL:https://tp.info.pl/event/tarnovii-volleyball-vs-kps-plock/
LOCATION:hala OSiR przy Zespole Szkół Technicznych Tarnowo Podgórne\, ul. Nowa 60
CATEGORIES:Sport
END:VEVENT
BEGIN:VEVENT
DTSTART;TZID=Europe/Warsaw:20250104T150000
DTEND;TZID=Europe/Warsaw:20250104T170000
DTSTAMP:20260421T220913
CREATED:20250103T161705Z
LAST-MODIFIED:20250103T162542Z
UID:6465-1736002800-1736010000@tp.info.pl
SUMMARY:Mecz MIKSTOL Tarnovia Basket vs. KING Szczecin (II liga)
DESCRIPTION:
URL:https://tp.info.pl/event/koszykowka-tarnowo-podgorne-2/
LOCATION:Hala OSiR przy ul. Nowej 15 Tarnowo Podgórne\, ul. Nowa 15\, Tarnowo Podgórne\, wielkopolskie\, 62-080
CATEGORIES:Sport
END:VEVENT
BEGIN:VEVENT
DTSTART;TZID=Europe/Warsaw:20250104T120000
DTEND;TZID=Europe/Warsaw:20250104T140000
DTSTAMP:20260421T220913
CREATED:20250103T161029Z
LAST-MODIFIED:20250103T162622Z
UID:6463-1735992000-1735999200@tp.info.pl
SUMMARY:Mecz Mikstol Tarnovia Basket vs. Rawia RAWAG Rawicz (III liga)
DESCRIPTION:
URL:https://tp.info.pl/event/koszykowka-tarnowo-podgorne/
LOCATION:Hala OSiR przy ul. Nowej 15 Tarnowo Podgórne\, ul. Nowa 15\, Tarnowo Podgórne\, wielkopolskie\, 62-080
CATEGORIES:Sport
END:VEVENT
BEGIN:VEVENT
DTSTART;TZID=Europe/Warsaw:20241227T180000
DTEND;TZID=Europe/Warsaw:20241228T110000
DTSTAMP:20260421T220913
CREATED:20241216T200105Z
LAST-MODIFIED:20241216T200108Z
UID:6375-1735322400-1735383600@tp.info.pl
SUMMARY:VI Ultramaraton Generała Józefa Dowbora Muśnickiego
DESCRIPTION:
URL:https://tp.info.pl/event/vi-ultramaraton-generala-jozefa-dowbora-musnickiego/
LOCATION:Lusowo\, świetlica\, Ogrodowa 3\, Lusowo\, 62-080\, Poland
CATEGORIES:Sport
END:VEVENT
BEGIN:VEVENT
DTSTART;TZID=Europe/Warsaw:20241218T200000
DTEND;TZID=Europe/Warsaw:20241218T210000
DTSTAMP:20260421T220913
CREATED:20241213T091633Z
LAST-MODIFIED:20241213T091638Z
UID:6338-1734552000-1734555600@tp.info.pl
SUMMARY:Mikstol Tarnovia vs. SMS PZkosz Władysławowo
DESCRIPTION:
URL:https://tp.info.pl/event/mikstol-tarnovia-vs-sms-pzkosz-wladyslawowo/
LOCATION:Hala OSiR przy ul. Nowej 15 Tarnowo Podgórne\, ul. Nowa 15\, Tarnowo Podgórne\, wielkopolskie\, 62-080
CATEGORIES:Sport
END:VEVENT
BEGIN:VEVENT
DTSTART;TZID=Europe/Warsaw:20241215T123000
DTEND;TZID=Europe/Warsaw:20241215T131500
DTSTAMP:20260421T220913
CREATED:20241113T193208Z
LAST-MODIFIED:20241113T193213Z
UID:6092-1734265800-1734268500@tp.info.pl
SUMMARY:Spektakl pt. \,\,Nad Betlejem jasna gwiazda świeciła" Teatru Mozaika
DESCRIPTION:
URL:https://tp.info.pl/event/spektakl-pt-nad-betlejem-jasna-gwiazda-swiecila-teatru-mozaika/
LOCATION:CK Przeźmierowo
CATEGORIES:Wydarzenia kulturalne
END:VEVENT
BEGIN:VEVENT
DTSTART;TZID=Europe/Warsaw:20241214T180000
DTEND;TZID=Europe/Warsaw:20241214T190000
DTSTAMP:20260421T220913
CREATED:20241115T150143Z
LAST-MODIFIED:20241115T150151Z
UID:6147-1734199200-1734202800@tp.info.pl
SUMMARY:Jasełka ZPiT \,\,Lusowiacy"
DESCRIPTION:
URL:https://tp.info.pl/event/jaselka-zpit-lusowiacy/
LOCATION:CK Przeźmierowo
CATEGORIES:Wydarzenia kulturalne
END:VEVENT
END:VCALENDAR