BEGIN:VCALENDAR
VERSION:2.0
PRODID:-//Informacje z gminy Tarnowo Podgórne - ECPv6.15.20//NONSGML v1.0//EN
CALSCALE:GREGORIAN
METHOD:PUBLISH
X-ORIGINAL-URL:https://tp.info.pl
X-WR-CALDESC:Wydarzenia dla Informacje z gminy Tarnowo Podgórne
REFRESH-INTERVAL;VALUE=DURATION:PT1H
X-Robots-Tag:noindex
X-PUBLISHED-TTL:PT1H
BEGIN:VTIMEZONE
TZID:Europe/Warsaw
BEGIN:DAYLIGHT
TZOFFSETFROM:+0100
TZOFFSETTO:+0200
TZNAME:CEST
DTSTART:20240331T010000
END:DAYLIGHT
BEGIN:STANDARD
TZOFFSETFROM:+0200
TZOFFSETTO:+0100
TZNAME:CET
DTSTART:20241027T010000
END:STANDARD
BEGIN:DAYLIGHT
TZOFFSETFROM:+0100
TZOFFSETTO:+0200
TZNAME:CEST
DTSTART:20250330T010000
END:DAYLIGHT
BEGIN:STANDARD
TZOFFSETFROM:+0200
TZOFFSETTO:+0100
TZNAME:CET
DTSTART:20251026T010000
END:STANDARD
BEGIN:DAYLIGHT
TZOFFSETFROM:+0100
TZOFFSETTO:+0200
TZNAME:CEST
DTSTART:20260329T010000
END:DAYLIGHT
BEGIN:STANDARD
TZOFFSETFROM:+0200
TZOFFSETTO:+0100
TZNAME:CET
DTSTART:20261025T010000
END:STANDARD
END:VTIMEZONE
BEGIN:VEVENT
DTSTART;TZID=Europe/Warsaw:20250512T180000
DTEND;TZID=Europe/Warsaw:20250512T190000
DTSTAMP:20260421T152333
CREATED:20250507T151144Z
LAST-MODIFIED:20250507T151153Z
UID:7236-1747072800-1747076400@tp.info.pl
SUMMARY:Spotkanie autorskie z Arturem Barcisiem
DESCRIPTION:
URL:https://tp.info.pl/event/artur-barcis-tarnowo-podgorne/
LOCATION:Biblioteka Publiczna w Tarnowie Podgórnym\, Ogrodowa 2a\, Tarnowo Podgórne\, wielkopolskie\, 62-080
CATEGORIES:Wydarzenia kulturalne
END:VEVENT
BEGIN:VEVENT
DTSTART;TZID=Europe/Warsaw:20250510T170000
DTEND;TZID=Europe/Warsaw:20250510T193000
DTSTAMP:20260421T152333
CREATED:20250508T162347Z
LAST-MODIFIED:20250508T162356Z
UID:7242-1746896400-1746905400@tp.info.pl
SUMMARY:Mecz GKS Tarnovia vs. Lechia - 25 kolejka V Red Box Liga
DESCRIPTION:
URL:https://tp.info.pl/event/mecz-gks-tarnovia-vs-lechia/
LOCATION:boisko GKS Tarnowo Podgórne\, ul. 23 Października 34\, Tarnowo Podgórne\, wielkopolskie\, 62-080
CATEGORIES:Sport
END:VEVENT
BEGIN:VEVENT
DTSTART;TZID=Europe/Warsaw:20250506T180000
DTEND;TZID=Europe/Warsaw:20250506T190000
DTSTAMP:20260421T152333
CREATED:20250410T103419Z
LAST-MODIFIED:20250410T103424Z
UID:7070-1746554400-1746558000@tp.info.pl
SUMMARY:Spotkanie z fotografem Waldemarem Woźniakiem
DESCRIPTION:
URL:https://tp.info.pl/event/spotkanie-z-fotografem-waldemarem-wozniakiem/
LOCATION:DK w Tarnowie Podgórnym
CATEGORIES:Wydarzenia kulturalne
END:VEVENT
BEGIN:VEVENT
DTSTART;TZID=Europe/Warsaw:20250501T110000
DTEND;TZID=Europe/Warsaw:20250501T130000
DTSTAMP:20260421T152333
CREATED:20250303T203624Z
LAST-MODIFIED:20250303T203627Z
UID:6824-1746097200-1746104400@tp.info.pl
SUMMARY:Bieg Unijny 2025
DESCRIPTION:
URL:https://tp.info.pl/event/bieg-unijny-2025/
LOCATION:Przeźmierowo\, ul. Kościelna 46/48
CATEGORIES:Sport
END:VEVENT
BEGIN:VEVENT
DTSTART;TZID=Europe/Warsaw:20250426T170000
DTEND;TZID=Europe/Warsaw:20250426T183000
DTSTAMP:20260421T152333
CREATED:20250425T160712Z
LAST-MODIFIED:20250425T160716Z
UID:7194-1745686800-1745692200@tp.info.pl
SUMMARY:Mecz GKS Tarnovia vs. UKS Lider Swarzędz - 23. kolejka V Red Box Liga
DESCRIPTION:
URL:https://tp.info.pl/event/mecz-gks-tarnovia-vs-uks-lider-swarzedz-23-kolejka-v-red-box-liga/
LOCATION:stadion GKS Tarnowo Podgórne
CATEGORIES:Sport
END:VEVENT
BEGIN:VEVENT
DTSTART;TZID=Europe/Warsaw:20250425T190000
DTEND;TZID=Europe/Warsaw:20250425T210000
DTSTAMP:20260421T152333
CREATED:20250402T211627Z
LAST-MODIFIED:20250402T211627Z
UID:7040-1745607600-1745614800@tp.info.pl
SUMMARY:Koncert operetkowy pt.:  \,\,Najpiękniejsze melodie świata"
DESCRIPTION:
URL:https://tp.info.pl/event/koncert-operetkowy-tarnowo-podgorne/
LOCATION:DK Tarnowo Podgórne\, u. Ogrodowa 14\, Tarnowo Podgórne\, wielkopolskie\, 62-080
CATEGORIES:Wydarzenia kulturalne
END:VEVENT
BEGIN:VEVENT
DTSTART;TZID=Europe/Warsaw:20250415T110000
DTEND;TZID=Europe/Warsaw:20250415T120000
DTSTAMP:20260421T152333
CREATED:20250409T104932Z
LAST-MODIFIED:20250409T104936Z
UID:7063-1744714800-1744718400@tp.info.pl
SUMMARY:Audycja muzyczna dla dzieci
DESCRIPTION:
URL:https://tp.info.pl/event/audycja-muzyczna-dla-dzieci-2/
LOCATION:CK Przeźmierowo
CATEGORIES:Wydarzenia kulturalne
END:VEVENT
BEGIN:VEVENT
DTSTART;TZID=Europe/Warsaw:20250413T123000
DTEND;TZID=Europe/Warsaw:20250413T170000
DTSTAMP:20260421T152333
CREATED:20250409T094024Z
LAST-MODIFIED:20250409T094028Z
UID:7059-1744547400-1744563600@tp.info.pl
SUMMARY:\,\,Wiosenna przygoda" teatru TeatRyle
DESCRIPTION:
URL:https://tp.info.pl/event/wiosenna-przygoda-teatru-teatryle/
LOCATION:DK w Tarnowie Podgórnym
CATEGORIES:Wydarzenia kulturalne
END:VEVENT
BEGIN:VEVENT
DTSTART;TZID=Europe/Warsaw:20250412T170000
DTEND;TZID=Europe/Warsaw:20250412T180000
DTSTAMP:20260421T152333
CREATED:20250411T100330Z
LAST-MODIFIED:20250411T100701Z
UID:7077-1744477200-1744480800@tp.info.pl
SUMMARY:Mikstol Tarnovia vs AZS AWF Mickiewicz Romus Katowice
DESCRIPTION:
URL:https://tp.info.pl/event/mikstol-tarnovia-basket/
LOCATION:hala OSiR przy Zespole Szkół Technicznych Tarnowo Podgórne\, ul. Nowa 60
CATEGORIES:Sport
END:VEVENT
BEGIN:VEVENT
DTSTART;TZID=Europe/Warsaw:20250412T160000
DTEND;TZID=Europe/Warsaw:20250412T173000
DTSTAMP:20260421T152333
CREATED:20250411T121538Z
LAST-MODIFIED:20250411T162927Z
UID:7082-1744473600-1744479000@tp.info.pl
SUMMARY:GKS Tarnovia vs. UKS Śrem - 5. liga\, 21. kolejka
DESCRIPTION:
URL:https://tp.info.pl/event/gks-tarnovia-vs-uks-srem/
LOCATION:stadion GKS Tarnowo Podgórne
CATEGORIES:Sport
END:VEVENT
BEGIN:VEVENT
DTSTART;TZID=Europe/Warsaw:20250412T160000
DTEND;TZID=Europe/Warsaw:20250412T170000
DTSTAMP:20260421T152333
CREATED:20250404T175130Z
LAST-MODIFIED:20250404T175130Z
UID:7049-1744473600-1744477200@tp.info.pl
SUMMARY:Gala \,\,Wiosna z Modrakami"
DESCRIPTION:
URL:https://tp.info.pl/event/gala-wiosna-z-modrakami/
LOCATION:CK Przeźmierowo
CATEGORIES:Wydarzenia kulturalne
END:VEVENT
BEGIN:VEVENT
DTSTART;TZID=Europe/Warsaw:20250409T200000
DTEND;TZID=Europe/Warsaw:20250409T210000
DTSTAMP:20260421T152333
CREATED:20250328T150342Z
LAST-MODIFIED:20250328T150359Z
UID:7012-1744228800-1744232400@tp.info.pl
SUMMARY:Mecz MIKSTOL Tarnovia Basket vs.??? :)
DESCRIPTION:
URL:https://tp.info.pl/event/mecz-mikstol-tarnovia-basket-vs/
LOCATION:Hala OSiR przy ul. Nowej 15 Tarnowo Podgórne\, ul. Nowa 15\, Tarnowo Podgórne\, wielkopolskie\, 62-080
CATEGORIES:Sport
END:VEVENT
BEGIN:VEVENT
DTSTART;TZID=Europe/Warsaw:20250408T180000
DTEND;TZID=Europe/Warsaw:20250408T184500
DTSTAMP:20260421T152333
CREATED:20250320T222925Z
LAST-MODIFIED:20250320T222929Z
UID:6940-1744135200-1744137900@tp.info.pl
SUMMARY:Musical pt. \,\,Jesteś cudem"! Teatru Mozaika
DESCRIPTION:
URL:https://tp.info.pl/event/musical-pt-jestes-cudem-teatru-mozaika/
LOCATION:DK w Tarnowie Podgórnym
CATEGORIES:Wydarzenia kulturalne
END:VEVENT
BEGIN:VEVENT
DTSTART;TZID=Europe/Warsaw:20250406T170000
DTEND;TZID=Europe/Warsaw:20250406T180000
DTSTAMP:20260421T152333
CREATED:20250304T110500Z
LAST-MODIFIED:20250304T110509Z
UID:6840-1743958800-1743962400@tp.info.pl
SUMMARY:Koncert Zariny Zaradnej
DESCRIPTION:
URL:https://tp.info.pl/event/zarina-zaradna-tarnowo-podgorne/
LOCATION:DK w Tarnowie Podgórnym
CATEGORIES:Wydarzenia kulturalne
END:VEVENT
BEGIN:VEVENT
DTSTART;TZID=Europe/Warsaw:20250405T180000
DTEND;TZID=Europe/Warsaw:20250405T190000
DTSTAMP:20260421T152333
CREATED:20250304T141327Z
LAST-MODIFIED:20250304T141331Z
UID:6845-1743876000-1743879600@tp.info.pl
SUMMARY:Artystyczne trio w CK Przeźmierowo
DESCRIPTION:
URL:https://tp.info.pl/event/artystyczne-trio-w-ck-przezmierowo/
LOCATION:CK Przeźmierowo
CATEGORIES:Wydarzenia kulturalne
END:VEVENT
BEGIN:VEVENT
DTSTART;TZID=Europe/Warsaw:20250401T080000
DTEND;TZID=Europe/Warsaw:20250530T170000
DTSTAMP:20260421T152333
CREATED:20250325T114114Z
LAST-MODIFIED:20250325T114121Z
UID:6980-1743494400-1748624400@tp.info.pl
SUMMARY:Wystawa malarska pt. \,\,Świat zatrzymany cz. 2"
DESCRIPTION:
URL:https://tp.info.pl/event/wystawa-malarska-pt-swiat-zatrzymany-cz-2/
LOCATION:CK Przeźmierowo
CATEGORIES:Wydarzenia kulturalne
END:VEVENT
BEGIN:VEVENT
DTSTART;TZID=Europe/Warsaw:20250330T140000
DTEND;TZID=Europe/Warsaw:20250330T153000
DTSTAMP:20260421T152333
CREATED:20250328T144846Z
LAST-MODIFIED:20250328T144853Z
UID:7008-1743343200-1743348600@tp.info.pl
SUMMARY:GKS Tarnovia II vs KS Zjednoczeni Września (klasa okręgowa RED BOX)
DESCRIPTION:
URL:https://tp.info.pl/event/gks-tarnovia-vs-zjednoczeni-wrzesnia/
LOCATION:stadion GKS Tarnowo Podgórne
CATEGORIES:Sport
END:VEVENT
BEGIN:VEVENT
DTSTART;TZID=Europe/Warsaw:20250329T160000
DTEND;TZID=Europe/Warsaw:20250329T173000
DTSTAMP:20260421T152333
CREATED:20250328T144120Z
LAST-MODIFIED:20250328T144123Z
UID:7006-1743264000-1743269400@tp.info.pl
SUMMARY:GKS Tarnovia vs. GKS Dopiewo (5. liga Red Box 19. kolejka)
DESCRIPTION:
URL:https://tp.info.pl/event/gks-tarnovia-vs-gks-dopiewo-5-liga-red-box-19-kolejka/
LOCATION:Stadion GKS w Tarnowie Podgórnym
CATEGORIES:Sport
END:VEVENT
BEGIN:VEVENT
DTSTART;TZID=Europe/Warsaw:20250329T110000
DTEND;TZID=Europe/Warsaw:20250329T170000
DTSTAMP:20260421T152333
CREATED:20250325T143153Z
LAST-MODIFIED:20250325T143200Z
UID:6986-1743246000-1743267600@tp.info.pl
SUMMARY:Przegląd Wokalny \,\,Rozśpiewana Gmina Przedszkolaka"
DESCRIPTION:
URL:https://tp.info.pl/event/przeglad-wokalny-rozspiewana-gmina-przedszkolaka-2/
LOCATION:DK w Tarnowie Podgórnym
CATEGORIES:Wydarzenia kulturalne
END:VEVENT
BEGIN:VEVENT
DTSTART;TZID=Europe/Warsaw:20250323T123000
DTEND;TZID=Europe/Warsaw:20250323T131000
DTSTAMP:20260421T152333
CREATED:20250304T205653Z
LAST-MODIFIED:20250304T205710Z
UID:6856-1742733000-1742735400@tp.info.pl
SUMMARY:Bajka improwizowana w DK Tarnowo Podgórne
DESCRIPTION:
URL:https://tp.info.pl/event/teatr-niestworzone-rzeczy-tarnowo-podgorne/
LOCATION:DK w Tarnowie Podgórnym
CATEGORIES:Wydarzenia kulturalne
END:VEVENT
BEGIN:VEVENT
DTSTART;TZID=Europe/Warsaw:20250323T100000
DTEND;TZID=Europe/Warsaw:20250323T170000
DTSTAMP:20260421T152333
CREATED:20250303T203207Z
LAST-MODIFIED:20250303T203212Z
UID:6822-1742724000-1742749200@tp.info.pl
SUMMARY:Pływanie w 21. Edycji Rankingu Sołectw
DESCRIPTION:
URL:https://tp.info.pl/event/plywanie-w-21-edycji-rankingu-solectw/
LOCATION:Termy Tarnowskie\, ul. Nowa 54\, Tarnowo Podgórne\, wielkopolskie\, 62-081
CATEGORIES:Sport
END:VEVENT
BEGIN:VEVENT
DTSTART;TZID=Europe/Warsaw:20250322T180000
DTEND;TZID=Europe/Warsaw:20250322T200000
DTSTAMP:20260421T152333
CREATED:20250211T093336Z
LAST-MODIFIED:20250211T093416Z
UID:6690-1742666400-1742673600@tp.info.pl
SUMMARY:\,\,Tango Show"- Królewski Balet Klasyczny
DESCRIPTION:
URL:https://tp.info.pl/event/tango-show-krolewski-balet-klasyczny/
LOCATION:CK Przeźmierowo
END:VEVENT
BEGIN:VEVENT
DTSTART;TZID=Europe/Warsaw:20250322T150000
DTEND;TZID=Europe/Warsaw:20250322T170000
DTSTAMP:20260421T152333
CREATED:20250321T161410Z
LAST-MODIFIED:20250321T161414Z
UID:6957-1742655600-1742662800@tp.info.pl
SUMMARY:Tarnovia Volleyball vs. GKS Stoczniowiec Politechnika Gdańska
DESCRIPTION:
URL:https://tp.info.pl/event/tarnovia-volleyball-vs-gks-stoczniowiec-politechnika-gdanska/
LOCATION:hala OSiR przy Zespole Szkół Technicznych Tarnowo Podgórne\, ul. Nowa 60
CATEGORIES:Sport
END:VEVENT
BEGIN:VEVENT
DTSTART;TZID=Europe/Warsaw:20250315T180000
DTEND;TZID=Europe/Warsaw:20250315T200000
DTSTAMP:20260421T152333
CREATED:20250207T154130Z
LAST-MODIFIED:20250207T154134Z
UID:6672-1742061600-1742068800@tp.info.pl
SUMMARY:Koncert Wiosenny ZPiT \,\,Lusowiacy"
DESCRIPTION:
URL:https://tp.info.pl/event/koncert-wiosenny-zpit-lusowiacy/
LOCATION:CK Przeźmierowo
CATEGORIES:Wydarzenia kulturalne
END:VEVENT
BEGIN:VEVENT
DTSTART;TZID=Europe/Warsaw:20250315T140000
DTEND;TZID=Europe/Warsaw:20250315T150000
DTSTAMP:20260421T152333
CREATED:20250312T211848Z
LAST-MODIFIED:20250312T211852Z
UID:6886-1742047200-1742050800@tp.info.pl
SUMMARY:Mecz Tarnovia Volleyball vs Elephant Trzebiatów
DESCRIPTION:
URL:https://tp.info.pl/event/tarnovia-volleyball-vs-elephant-trzebiatow/
LOCATION:hala OSiR przy Zespole Szkół Technicznych Tarnowo Podgórne\, ul. Nowa 60
CATEGORIES:Sport
END:VEVENT
BEGIN:VEVENT
DTSTART;TZID=Europe/Warsaw:20250314T180000
DTEND;TZID=Europe/Warsaw:20250420T170000
DTSTAMP:20260421T152333
CREATED:20250227T132030Z
LAST-MODIFIED:20250227T132049Z
UID:6782-1741975200-1745168400@tp.info.pl
SUMMARY:"XXI WIEK BEZ FILTRA" - wernisaż w V.A. Gallery Poland
DESCRIPTION:
URL:https://tp.info.pl/event/wernisaz-galeria-wysogotowo/
LOCATION:V.A. Gallery Poland\, ul. Wierzbowa 162\, Wysogotowo
END:VEVENT
BEGIN:VEVENT
DTSTART;TZID=Europe/Warsaw:20250309T160000
DTEND;TZID=Europe/Warsaw:20250309T180000
DTSTAMP:20260421T152333
CREATED:20250213T202351Z
LAST-MODIFIED:20250213T202405Z
UID:6695-1741536000-1741543200@tp.info.pl
SUMMARY:Monika Mrozowska w Pałacu Jankowice
DESCRIPTION:
URL:https://tp.info.pl/event/monika-mrozowska-w-palacu-jankowice/
LOCATION:Pałac Jankowice
CATEGORIES:Wydarzenia kulturalne
END:VEVENT
BEGIN:VEVENT
DTSTART;TZID=Europe/Warsaw:20250308T180000
DTEND;TZID=Europe/Warsaw:20250308T200000
DTSTAMP:20260421T152333
CREATED:20250307T083207Z
LAST-MODIFIED:20250307T083211Z
UID:6870-1741456800-1741464000@tp.info.pl
SUMMARY:MIKSTOL Tarnovia Basket vs. MKS Sokół Międzychód
DESCRIPTION:
URL:https://tp.info.pl/event/mikstol-tarnovia-basket-vs-mks-sokol-miedzychod/
LOCATION:Hala OSiR przy ul. Nowej 15 Tarnowo Podgórne\, ul. Nowa 15\, Tarnowo Podgórne\, wielkopolskie\, 62-080
CATEGORIES:Sport
END:VEVENT
BEGIN:VEVENT
DTSTART;TZID=Europe/Warsaw:20250308T180000
DTEND;TZID=Europe/Warsaw:20250308T200000
DTSTAMP:20260421T152333
CREATED:20250203T174645Z
LAST-MODIFIED:20250203T174651Z
UID:6633-1741456800-1741464000@tp.info.pl
SUMMARY:MOD w CK Przeźmierowo na Dzień Kobiet
DESCRIPTION:
URL:https://tp.info.pl/event/mod-w-ck-przezmierowo-na-dzien-kobiet/
LOCATION:CK Przeźmierowo
CATEGORIES:Wydarzenia kulturalne
END:VEVENT
BEGIN:VEVENT
DTSTART;TZID=Europe/Warsaw:20250308T100000
DTEND;TZID=Europe/Warsaw:20250308T170000
DTSTAMP:20260421T152333
CREATED:20250307T080715Z
LAST-MODIFIED:20250307T080719Z
UID:6865-1741428000-1741453200@tp.info.pl
SUMMARY:Turniej JKA Nakayama Cup
DESCRIPTION:
URL:https://tp.info.pl/event/turniej-jka-nakayama-cup/
LOCATION:hala OSiR przy Zespole Szkół Technicznych Tarnowo Podgórne\, ul. Nowa 60
CATEGORIES:Sport
END:VEVENT
END:VCALENDAR