BEGIN:VCALENDAR
VERSION:2.0
PRODID:-//Informacje z gminy Tarnowo Podgórne - ECPv6.15.20//NONSGML v1.0//EN
CALSCALE:GREGORIAN
METHOD:PUBLISH
X-WR-CALNAME:Informacje z gminy Tarnowo Podgórne
X-ORIGINAL-URL:https://tp.info.pl
X-WR-CALDESC:Wydarzenia dla Informacje z gminy Tarnowo Podgórne
REFRESH-INTERVAL;VALUE=DURATION:PT1H
X-Robots-Tag:noindex
X-PUBLISHED-TTL:PT1H
BEGIN:VTIMEZONE
TZID:Europe/Warsaw
BEGIN:DAYLIGHT
TZOFFSETFROM:+0100
TZOFFSETTO:+0200
TZNAME:CEST
DTSTART:20240331T010000
END:DAYLIGHT
BEGIN:STANDARD
TZOFFSETFROM:+0200
TZOFFSETTO:+0100
TZNAME:CET
DTSTART:20241027T010000
END:STANDARD
BEGIN:DAYLIGHT
TZOFFSETFROM:+0100
TZOFFSETTO:+0200
TZNAME:CEST
DTSTART:20250330T010000
END:DAYLIGHT
BEGIN:STANDARD
TZOFFSETFROM:+0200
TZOFFSETTO:+0100
TZNAME:CET
DTSTART:20251026T010000
END:STANDARD
BEGIN:DAYLIGHT
TZOFFSETFROM:+0100
TZOFFSETTO:+0200
TZNAME:CEST
DTSTART:20260329T010000
END:DAYLIGHT
BEGIN:STANDARD
TZOFFSETFROM:+0200
TZOFFSETTO:+0100
TZNAME:CET
DTSTART:20261025T010000
END:STANDARD
END:VTIMEZONE
BEGIN:VEVENT
DTSTART;TZID=Europe/Warsaw:20250603T080000
DTEND;TZID=Europe/Warsaw:20250914T170000
DTSTAMP:20260421T001956
CREATED:20250521T091337Z
LAST-MODIFIED:20250521T091340Z
UID:7289-1748937600-1757869200@tp.info.pl
SUMMARY:Wystawa malarska pt. \,\,Świat surrealistycznej fantazji"
DESCRIPTION:
URL:https://tp.info.pl/event/wystawa-malarska-w-ck-przezmierowo/
LOCATION:CK Przeźmierowo
CATEGORIES:Wydarzenia kulturalne
END:VEVENT
BEGIN:VEVENT
DTSTART;TZID=Europe/Warsaw:20250617T180000
DTEND;TZID=Europe/Warsaw:20250930T170000
DTSTAMP:20260421T001956
CREATED:20250520T154957Z
LAST-MODIFIED:20250520T155001Z
UID:7277-1750183200-1759251600@tp.info.pl
SUMMARY:Wernisaż \,\,Sesje i plenery" Koła Fotograficznego \,\,Kadr"
DESCRIPTION:
URL:https://tp.info.pl/event/wernisaz-sesje-i-plenery-kola-fotograficznego-kadr/
LOCATION:Galeria w Rotundzie w Domu Kultury w Tarnowie Podgórnym\, ul. Ogrodowa 14\, Tarnowo Podgórne\, wielkopolskie\, 62-080
CATEGORIES:Wydarzenia kulturalne
END:VEVENT
BEGIN:VEVENT
DTSTART;TZID=Europe/Warsaw:20250906T110000
DTEND;TZID=Europe/Warsaw:20250906T130000
DTSTAMP:20260421T001956
CREATED:20250904T080012Z
LAST-MODIFIED:20250904T080017Z
UID:8032-1757156400-1757163600@tp.info.pl
SUMMARY:Narodowe Czytanie
DESCRIPTION:
URL:https://tp.info.pl/event/narodowe-czytanie-tarnowo-podgorne/
LOCATION:Biblioteka Publiczna w Tarnowie Podgórnym\, Ogrodowa 2a\, Tarnowo Podgórne\, wielkopolskie\, 62-080
CATEGORIES:Wydarzenia kulturalne
END:VEVENT
BEGIN:VEVENT
DTSTART;TZID=Europe/Warsaw:20250907T180000
DTEND;TZID=Europe/Warsaw:20250907T190000
DTSTAMP:20260421T001956
CREATED:20250818T142523Z
LAST-MODIFIED:20250818T142536Z
UID:7878-1757268000-1757271600@tp.info.pl
SUMMARY:150 Lusowskie Spotkanie Muzyczne
DESCRIPTION:
URL:https://tp.info.pl/event/150-lusowskie-spotkanie-muzyczne/
LOCATION:Lusowo\, Kościół
CATEGORIES:Wydarzenia kulturalne
END:VEVENT
BEGIN:VEVENT
DTSTART;TZID=Europe/Warsaw:20250913T150000
DTEND;TZID=Europe/Warsaw:20250913T163000
DTSTAMP:20260421T001956
CREATED:20250912T160040Z
LAST-MODIFIED:20250912T161342Z
UID:8099-1757775600-1757781000@tp.info.pl
SUMMARY:Mecz GKS Tarnovia vs. Płomień Przyprostynia
DESCRIPTION:nowonowtAR
URL:https://tp.info.pl/event/mecz-gks-tarnovia-vs-plomien-przyprostynia/
LOCATION:boisko GKS Tarnowo Podgórne\, ul. 23 Października 34\, Tarnowo Podgórne\, wielkopolskie\, 62-080
CATEGORIES:Sport
END:VEVENT
BEGIN:VEVENT
DTSTART;TZID=Europe/Warsaw:20250915T170000
DTEND;TZID=Europe/Warsaw:20250915T190000
DTSTAMP:20260421T001956
CREATED:20250910T141046Z
LAST-MODIFIED:20250910T141049Z
UID:8084-1757955600-1757962800@tp.info.pl
SUMMARY:Wernisaż wystawy\,\,Wspomnienia"
DESCRIPTION:
URL:https://tp.info.pl/event/wernisaz-wystawywspomnienia/
LOCATION:CK Przeźmierowo
CATEGORIES:Wydarzenia kulturalne
END:VEVENT
BEGIN:VEVENT
DTSTART;TZID=Europe/Warsaw:20250919T180000
DTEND;TZID=Europe/Warsaw:20250919T200000
DTSTAMP:20260421T001956
CREATED:20250908T105819Z
LAST-MODIFIED:20250908T105833Z
UID:8060-1758304800-1758312000@tp.info.pl
SUMMARY:Wernisaż Przemysława Kaleńskiego
DESCRIPTION:
URL:https://tp.info.pl/event/wernisaz-przemyslawa-kalenskiego/
LOCATION:V.A. Gallery Poland\, ul. Wierzbowa 162\, Wysogotowo
CATEGORIES:Wydarzenia kulturalne
END:VEVENT
BEGIN:VEVENT
DTSTART;TZID=Europe/Warsaw:20250920T080000
DTEND;TZID=Europe/Warsaw:20250920T150000
DTSTAMP:20260421T001956
CREATED:20250715T135435Z
LAST-MODIFIED:20250715T135440Z
UID:7670-1758355200-1758380400@tp.info.pl
SUMMARY:Tarnovia RUN 2025
DESCRIPTION:
URL:https://tp.info.pl/event/tarnovia-run-2025/
LOCATION:stadion LA w Tarnowie Podgórnym\, 23 Października 34\, Tarnowo Podgórne\, wielkopolskie\, 62-080\, Poland
CATEGORIES:Sport
END:VEVENT
BEGIN:VEVENT
DTSTART;TZID=Europe/Warsaw:20250920T160000
DTEND;TZID=Europe/Warsaw:20250920T180000
DTSTAMP:20260421T001956
CREATED:20250905T135426Z
LAST-MODIFIED:20250905T135434Z
UID:8043-1758384000-1758391200@tp.info.pl
SUMMARY:Kings of the Table vs AZS AWFiS Balta Gdańsk
DESCRIPTION:
URL:https://tp.info.pl/event/kings-of-the-table-vs-azs-awfis-balta-gdansk/
LOCATION:hala sportowa OSiR w Przeźmierowie – ul. Kościelna 46/48
CATEGORIES:Sport
END:VEVENT
BEGIN:VEVENT
DTSTART;TZID=Europe/Warsaw:20250920T170000
DTEND;TZID=Europe/Warsaw:20250920T180000
DTSTAMP:20260421T001956
CREATED:20250916T115557Z
LAST-MODIFIED:20250916T115601Z
UID:8132-1758387600-1758391200@tp.info.pl
SUMMARY:Międzynarodowy Dzień Pokoju
DESCRIPTION:Międzynarodowy Dzień PokojuPodg o
URL:https://tp.info.pl/event/miedzynarodowy-dzien-pokoju/
LOCATION:Park Pamięci\, Cmentarz Ewangelicki Tarnowo Podgórne
CATEGORIES:Wydarzenia kulturalne
END:VEVENT
BEGIN:VEVENT
DTSTART;TZID=Europe/Warsaw:20250920T180000
DTEND;TZID=Europe/Warsaw:20250920T190000
DTSTAMP:20260421T001956
CREATED:20250818T152058Z
LAST-MODIFIED:20250818T152101Z
UID:7889-1758391200-1758394800@tp.info.pl
SUMMARY:Jazz z Agą Maciaszczyk- koncert
DESCRIPTION:
URL:https://tp.info.pl/event/jazz-z-aga-maciaszczyk-koncert/
LOCATION:DK w Tarnowie Podgórnym
CATEGORIES:Wydarzenia kulturalne
END:VEVENT
BEGIN:VEVENT
DTSTART;TZID=Europe/Warsaw:20250921T130000
DTEND;TZID=Europe/Warsaw:20250921T170000
DTSTAMP:20260421T001956
CREATED:20250917T085148Z
LAST-MODIFIED:20250917T085227Z
UID:8136-1758459600-1758474000@tp.info.pl
SUMMARY:\,\,Turniej o Puchar Wójta Gminy Tarnowo Podgórne Tadeusza Czajki"
DESCRIPTION:
URL:https://tp.info.pl/event/turniej-o-puchar-wojta-gminy-tarnowo-podgorne-tadeusza-czajki-2/
LOCATION:hala osir\, Lusówko\, Szkolna 7
CATEGORIES:Sport
END:VEVENT
BEGIN:VEVENT
DTSTART;TZID=Europe/Warsaw:20250927T093000
DTEND;TZID=Europe/Warsaw:20250927T190000
DTSTAMP:20260421T001956
CREATED:20250925T094129Z
LAST-MODIFIED:20250925T094132Z
UID:8204-1758965400-1758999600@tp.info.pl
SUMMARY:Rozpoczęcie sezonu koszykarskiego
DESCRIPTION:
URL:https://tp.info.pl/event/rozpoczecie-sezonu-koszykarskiego/
LOCATION:Hala OSiR przy ul. Nowej 15 Tarnowo Podgórne\, ul. Nowa 15\, Tarnowo Podgórne\, wielkopolskie\, 62-080
CATEGORIES:Sport
END:VEVENT
BEGIN:VEVENT
DTSTART;TZID=Europe/Warsaw:20250927T180000
DTEND;TZID=Europe/Warsaw:20250927T190000
DTSTAMP:20260421T001956
CREATED:20250904T144550Z
LAST-MODIFIED:20250904T144610Z
UID:8036-1758996000-1758999600@tp.info.pl
SUMMARY:Spektakl pt. \,\,Alicja" Teatru Novi z Ramą
DESCRIPTION:vi \n 
URL:https://tp.info.pl/event/spektakl-pt-alicja-teatru-novi-z-rama/
LOCATION:CK Przeźmierowo
CATEGORIES:Wydarzenia kulturalne
END:VEVENT
BEGIN:VEVENT
DTSTART;TZID=Europe/Warsaw:20250928T123000
DTEND;TZID=Europe/Warsaw:20250928T131500
DTSTAMP:20260421T001956
CREATED:20250902T201702Z
LAST-MODIFIED:20250902T201702Z
UID:8023-1759062600-1759065300@tp.info.pl
SUMMARY:Spektakl pt. \,\,Włoszczyzna" Teatryle
DESCRIPTION:Tar Podgórne
URL:https://tp.info.pl/event/wloszczyzna-teatryle-tarnowo-podgorne/
LOCATION:DK w Tarnowie Podgórnym
CATEGORIES:Wydarzenia kulturalne
END:VEVENT
BEGIN:VEVENT
DTSTART;TZID=Europe/Warsaw:20250928T160000
DTEND;TZID=Europe/Warsaw:20250928T173000
DTSTAMP:20260421T001956
CREATED:20250926T150728Z
LAST-MODIFIED:20250926T150733Z
UID:8212-1759075200-1759080600@tp.info.pl
SUMMARY:Mecz GKS Tarnovia vs. Iskra Szydłowo
DESCRIPTION:
URL:https://tp.info.pl/event/mecz-gks-tarnovia-vs-iskra-szydlowo/
LOCATION:stadion GKS Tarnowo Podgórne
CATEGORIES:Sport
END:VEVENT
BEGIN:VEVENT
DTSTART;TZID=Europe/Warsaw:20251004T170000
DTEND;TZID=Europe/Warsaw:20251004T190000
DTSTAMP:20260421T001956
CREATED:20251003T094329Z
LAST-MODIFIED:20251003T094340Z
UID:8271-1759597200-1759604400@tp.info.pl
SUMMARY:Tarnovia Volleyball vs. PGE Akademia Siatkówki Stilon
DESCRIPTION:
URL:https://tp.info.pl/event/tarnovia-volleyball/
LOCATION:hala osir Lusówko\, Szkolna 7
CATEGORIES:Sport
END:VEVENT
BEGIN:VEVENT
DTSTART;TZID=Europe/Warsaw:20251005T150000
DTEND;TZID=Europe/Warsaw:20251005T170000
DTSTAMP:20260421T001956
CREATED:20250922T180808Z
LAST-MODIFIED:20250922T180812Z
UID:8179-1759676400-1759683600@tp.info.pl
SUMMARY:Jesienne Święto Pieśni
DESCRIPTION:
URL:https://tp.info.pl/event/jesienne-swieto-piesni-3/
LOCATION:DK w Tarnowie Podgórnym
CATEGORIES:Wydarzenia kulturalne
END:VEVENT
BEGIN:VEVENT
DTSTART;TZID=Europe/Warsaw:20251007T080000
DTEND;TZID=Europe/Warsaw:20251116T180000
DTSTAMP:20260421T001956
CREATED:20250929T095654Z
LAST-MODIFIED:20250929T095707Z
UID:8225-1759824000-1763316000@tp.info.pl
SUMMARY:Wystawa malarska pt. \,\,Kwiatowe impresje"
DESCRIPTION:
URL:https://tp.info.pl/event/wystawa-malarska-pt-kwiatowe-impresje/
LOCATION:CK Przeźmierowo
CATEGORIES:Wydarzenia kulturalne
END:VEVENT
BEGIN:VEVENT
DTSTART;TZID=Europe/Warsaw:20251007T180000
DTEND;TZID=Europe/Warsaw:20251007T184500
DTSTAMP:20260421T001956
CREATED:20250825T160103Z
LAST-MODIFIED:20250825T160107Z
UID:7940-1759860000-1759862700@tp.info.pl
SUMMARY:\,\,Wielka podróż papugi – czyli przygoda z papugą za Atlantykiem" teatru Mozaika
DESCRIPTION:TT
URL:https://tp.info.pl/event/spektakl-dla-dzieci-w-dk-w-tarnowie-podgornym/
CATEGORIES:Wydarzenia kulturalne
END:VEVENT
BEGIN:VEVENT
DTSTART;TZID=Europe/Warsaw:20251008T160000
DTEND;TZID=Europe/Warsaw:20251104T190000
DTSTAMP:20260421T001956
CREATED:20251007T192804Z
LAST-MODIFIED:20251007T192808Z
UID:8314-1759939200-1762282800@tp.info.pl
SUMMARY:Wystawa malarska pt. \,\,Poszukiwania" Seweryna Jankowskiego
DESCRIPTION:
URL:https://tp.info.pl/event/wystawa-malarska-seweryn-jankowski/
LOCATION:CK Przeźmierowo
CATEGORIES:Wydarzenia kulturalne
END:VEVENT
BEGIN:VEVENT
DTSTART;TZID=Europe/Warsaw:20251011T090000
DTEND;TZID=Europe/Warsaw:20251011T140000
DTSTAMP:20260421T001956
CREATED:20251010T113137Z
LAST-MODIFIED:20251010T113202Z
UID:8340-1760173200-1760191200@tp.info.pl
SUMMARY:Zawody w brazylijskim jiu jitsu - COPA POLAND Gi & No Gi
DESCRIPTION:jiu j
URL:https://tp.info.pl/event/brazylijskie-jiu-jitsu/
LOCATION:Hala OSiR przy ul. Nowej 15 Tarnowo Podgórne\, ul. Nowa 15\, Tarnowo Podgórne\, wielkopolskie\, 62-080
CATEGORIES:Sport
END:VEVENT
BEGIN:VEVENT
DTSTART;TZID=Europe/Warsaw:20251011T140000
DTEND;TZID=Europe/Warsaw:20251011T160000
DTSTAMP:20260421T001956
CREATED:20251007T203753Z
LAST-MODIFIED:20251007T203756Z
UID:8321-1760191200-1760198400@tp.info.pl
SUMMARY:Mecz Mikstol Tarnovia Basket vs. KS Kosz Ciepłomax Kompaktowy Pleszew
DESCRIPTION:
URL:https://tp.info.pl/event/mikstol-tarnovia-vs-pleszew/
LOCATION:hala OSiR przy Zespole Szkół Technicznych Tarnowo Podgórne\, ul. Nowa 60
CATEGORIES:Sport
END:VEVENT
BEGIN:VEVENT
DTSTART;TZID=Europe/Warsaw:20251011T170000
DTEND;TZID=Europe/Warsaw:20251011T190000
DTSTAMP:20260421T001956
CREATED:20251001T175315Z
LAST-MODIFIED:20251001T175319Z
UID:8257-1760202000-1760209200@tp.info.pl
SUMMARY:Spektakle \,\,Senioritek" i Amatorski zespół teatralny Animusz – Chludowska Mazelonka.
DESCRIPTION:
URL:https://tp.info.pl/event/senioritki-animusz-ck-przezmierowo/
LOCATION:CK Przeźmierowo
CATEGORIES:Wydarzenia kulturalne
END:VEVENT
BEGIN:VEVENT
DTSTART;TZID=Europe/Warsaw:20251012T150000
DTEND;TZID=Europe/Warsaw:20251012T163000
DTSTAMP:20260421T001956
CREATED:20251008T132302Z
LAST-MODIFIED:20251008T132306Z
UID:8332-1760281200-1760286600@tp.info.pl
SUMMARY:Mecz GKS Tarnovia vs. Nasza Dyskobolia Grodzisk Wlkp.
DESCRIPTION:
URL:https://tp.info.pl/event/mecz-gks-tarnovia-vs-nasza-dyskobolia-grodzisk-wlkp/
LOCATION:stadion GKS Tarnowo Podgórne
CATEGORIES:Sport
END:VEVENT
BEGIN:VEVENT
DTSTART;TZID=Europe/Warsaw:20251015T200000
DTEND;TZID=Europe/Warsaw:20251015T220000
DTSTAMP:20260421T001956
CREATED:20251007T205803Z
LAST-MODIFIED:20251007T205803Z
UID:8325-1760558400-1760565600@tp.info.pl
SUMMARY:II liga koszykówki: Mikstol Tarnovia Basket vs. MKS ManaLake Sokół Marbo Międzychód
DESCRIPTION:
URL:https://tp.info.pl/event/mikstol-tarnovia-basket-2/
LOCATION:hala OSiR przy Zespole Szkół Technicznych Tarnowo Podgórne\, ul. Nowa 60
CATEGORIES:Sport
END:VEVENT
BEGIN:VEVENT
DTSTART;TZID=Europe/Warsaw:20251018T170000
DTEND;TZID=Europe/Warsaw:20251018T183000
DTSTAMP:20260421T001956
CREATED:20251015T180143Z
LAST-MODIFIED:20251015T180147Z
UID:8368-1760806800-1760812200@tp.info.pl
SUMMARY:Tarnovia Volleyball vs. Stoczniowiec Politechnika Gdańska
DESCRIPTION:
URL:https://tp.info.pl/event/tarnovia-volleyball-vs-stoczniowiec-politechnika-gdanska/
LOCATION:hala osir Lusówko\, Szkolna 7
CATEGORIES:Sport
END:VEVENT
BEGIN:VEVENT
DTSTART;TZID=Europe/Warsaw:20251018T180000
DTEND;TZID=Europe/Warsaw:20251018T200000
DTSTAMP:20260421T001956
CREATED:20250930T180651Z
LAST-MODIFIED:20250930T180700Z
UID:8248-1760810400-1760817600@tp.info.pl
SUMMARY:Spektakl pt.: \,\,Upiór w sanatorium\, czyli Nic na serio"
DESCRIPTION:
URL:https://tp.info.pl/event/upior-w-sanatorium-tarnowo-podgorne/
LOCATION:DK w Tarnowie Podgórnym
CATEGORIES:Wydarzenia kulturalne
END:VEVENT
BEGIN:VEVENT
DTSTART;TZID=Europe/Warsaw:20251019T123000
DTEND;TZID=Europe/Warsaw:20251019T131000
DTSTAMP:20260421T001956
CREATED:20250929T101006Z
LAST-MODIFIED:20250929T101037Z
UID:8229-1760877000-1760879400@tp.info.pl
SUMMARY:Spektakl pt. \,\,Pinokio" w DKw Tarnowie Podgórnym
DESCRIPTION:
URL:https://tp.info.pl/event/pinokio-spektakl-tarnowo-podgorne/
LOCATION:DK w Tarnowie Podgórnym
CATEGORIES:Wydarzenia kulturalne
END:VEVENT
BEGIN:VEVENT
DTSTART;TZID=Europe/Warsaw:20251021T110000
DTEND;TZID=Europe/Warsaw:20251021T113000
DTSTAMP:20260421T001956
CREATED:20251016T130844Z
LAST-MODIFIED:20251016T130854Z
UID:8375-1761044400-1761046200@tp.info.pl
SUMMARY:Mała Akademia Wielkich Kompozytorów
DESCRIPTION:
URL:https://tp.info.pl/event/mala-akademia-wielkich-kompozytorow/
LOCATION:CK Przeźmierowo
CATEGORIES:Wydarzenia kulturalne
END:VEVENT
END:VCALENDAR