BEGIN:VCALENDAR
VERSION:2.0
PRODID:-//Informacje z gminy Tarnowo Podgórne - ECPv6.15.20//NONSGML v1.0//EN
CALSCALE:GREGORIAN
METHOD:PUBLISH
X-WR-CALNAME:Informacje z gminy Tarnowo Podgórne
X-ORIGINAL-URL:https://tp.info.pl
X-WR-CALDESC:Wydarzenia dla Informacje z gminy Tarnowo Podgórne
REFRESH-INTERVAL;VALUE=DURATION:PT1H
X-Robots-Tag:noindex
X-PUBLISHED-TTL:PT1H
BEGIN:VTIMEZONE
TZID:Europe/Warsaw
BEGIN:DAYLIGHT
TZOFFSETFROM:+0100
TZOFFSETTO:+0200
TZNAME:CEST
DTSTART:20230326T010000
END:DAYLIGHT
BEGIN:STANDARD
TZOFFSETFROM:+0200
TZOFFSETTO:+0100
TZNAME:CET
DTSTART:20231029T010000
END:STANDARD
BEGIN:DAYLIGHT
TZOFFSETFROM:+0100
TZOFFSETTO:+0200
TZNAME:CEST
DTSTART:20240331T010000
END:DAYLIGHT
BEGIN:STANDARD
TZOFFSETFROM:+0200
TZOFFSETTO:+0100
TZNAME:CET
DTSTART:20241027T010000
END:STANDARD
BEGIN:DAYLIGHT
TZOFFSETFROM:+0100
TZOFFSETTO:+0200
TZNAME:CEST
DTSTART:20250330T010000
END:DAYLIGHT
BEGIN:STANDARD
TZOFFSETFROM:+0200
TZOFFSETTO:+0100
TZNAME:CET
DTSTART:20251026T010000
END:STANDARD
END:VTIMEZONE
BEGIN:VEVENT
DTSTART;TZID=Europe/Warsaw:20240901T093000
DTEND;TZID=Europe/Warsaw:20240901T181500
DTSTAMP:20260421T212203
CREATED:20240828T081829Z
LAST-MODIFIED:20240828T081833Z
UID:5529-1725183000-1725214500@tp.info.pl
SUMMARY:Enea IRONMAN 70.3 Poznań
DESCRIPTION:
URL:https://tp.info.pl/event/enea-ironman-70-3-poznan/
CATEGORIES:Sport
END:VEVENT
BEGIN:VEVENT
DTSTART;TZID=Europe/Warsaw:20240901T130000
DTEND;TZID=Europe/Warsaw:20240901T140000
DTSTAMP:20260421T212203
CREATED:20240621T113519Z
LAST-MODIFIED:20240621T113532Z
UID:5331-1725195600-1725199200@tp.info.pl
SUMMARY:Koncert formacji \,\,Affectus"
DESCRIPTION:
URL:https://tp.info.pl/event/koncert-formacji-affectus/
LOCATION:Lusowo\, Kościół
CATEGORIES:Wydarzenia kulturalne
END:VEVENT
BEGIN:VEVENT
DTSTART;TZID=Europe/Warsaw:20240907T100000
DTEND;TZID=Europe/Warsaw:20240907T170000
DTSTAMP:20260421T212203
CREATED:20240724T084313Z
LAST-MODIFIED:20240724T084319Z
UID:5401-1725703200-1725728400@tp.info.pl
SUMMARY:Impreza biegowa Tarnovia RUN
DESCRIPTION:
URL:https://tp.info.pl/event/impreza-biegowa-tarnovia-run/
LOCATION:stadion LA w Tarnowie Podgórnym\, 23 Października 34\, Tarnowo Podgórne\, wielkopolskie\, 62-080\, Poland
CATEGORIES:Sport
END:VEVENT
BEGIN:VEVENT
DTSTART;TZID=Europe/Warsaw:20240907T110000
DTEND;TZID=Europe/Warsaw:20240907T160000
DTSTAMP:20260421T212203
CREATED:20240906T082351Z
LAST-MODIFIED:20240906T082351Z
UID:5611-1725706800-1725724800@tp.info.pl
SUMMARY:Inauguracja sezonu koszykarskiego
DESCRIPTION:
URL:https://tp.info.pl/event/inauguracja-sezonu-koszykarskiego/
LOCATION:hala OSiR przy Zespole Szkół Technicznych Tarnowo Podgórne\, ul. Nowa 60
CATEGORIES:Sport
END:VEVENT
BEGIN:VEVENT
DTSTART;TZID=Europe/Warsaw:20240908T170000
DTEND;TZID=Europe/Warsaw:20240908T190000
DTSTAMP:20260421T212203
CREATED:20240906T080800Z
LAST-MODIFIED:20240906T080804Z
UID:5607-1725814800-1725822000@tp.info.pl
SUMMARY:Mecz GKS Tarnovia vs. KS Polanin Strzałkowo
DESCRIPTION:
URL:https://tp.info.pl/event/mecz-gks-tarnovia-vs-ks-polanin-strzalkowo/
LOCATION:Stadion Piłkarski przy ul. 23 Października 34 w Tarnowie Podgórnym
CATEGORIES:Sport
END:VEVENT
BEGIN:VEVENT
DTSTART;TZID=Europe/Warsaw:20240910T080000
DTEND;TZID=Europe/Warsaw:20241014T170000
DTSTAMP:20260421T212203
CREATED:20240802T153901Z
LAST-MODIFIED:20240802T154638Z
UID:5447-1725955200-1728925200@tp.info.pl
SUMMARY:Wystawa malarska \,\,Kobiety Paryża" w CK Przeźmierowo
DESCRIPTION:
URL:https://tp.info.pl/event/wystawa-malarska-kobiety-paryza-w-ck-przezmierowo/
LOCATION:CK Przeźmierowo
CATEGORIES:Wydarzenia kulturalne
END:VEVENT
BEGIN:VEVENT
DTSTART;TZID=Europe/Warsaw:20240914T140000
DTEND;TZID=Europe/Warsaw:20240914T170000
DTSTAMP:20260421T212203
CREATED:20240912T085208Z
LAST-MODIFIED:20240912T085218Z
UID:5655-1726322400-1726333200@tp.info.pl
SUMMARY:Derby tenisa stołowego Kings of The Table
DESCRIPTION:
URL:https://tp.info.pl/event/derby-tenisa-stolowego-kings-of-the-table/
LOCATION:hala sportowa OSiR w Przeźmierowie – ul. Kościelna 46/48
CATEGORIES:Sport
END:VEVENT
BEGIN:VEVENT
DTSTART;TZID=Europe/Warsaw:20240914T180000
DTEND;TZID=Europe/Warsaw:20240914T192000
DTSTAMP:20260421T212203
CREATED:20240802T144819Z
LAST-MODIFIED:20240802T145614Z
UID:5438-1726336800-1726341600@tp.info.pl
SUMMARY:Spektakl pt.: \,\,Apetyt na czereśnie"
DESCRIPTION:
URL:https://tp.info.pl/event/spektakl-pt-apetyt-na-czeresnie/
LOCATION:CK Przeźmierowo
CATEGORIES:Wydarzenia kulturalne
END:VEVENT
BEGIN:VEVENT
DTSTART;TZID=Europe/Warsaw:20240919T173000
DTEND;TZID=Europe/Warsaw:20240919T190000
DTSTAMP:20260421T212203
CREATED:20240916T175251Z
LAST-MODIFIED:20240916T175305Z
UID:5690-1726767000-1726772400@tp.info.pl
SUMMARY:Spotkanie z Krystianem Kempą
DESCRIPTION:
URL:https://tp.info.pl/event/spotkanie-z-krystianem-kempa/
LOCATION:Centrum Demokracji i Integracji Obywatelskiej w Tarnowie Podgórnym\, ul. Poznańska 99\, Tarnowo Podgórne\, 62-080
CATEGORIES:Sport
END:VEVENT
BEGIN:VEVENT
DTSTART;TZID=Europe/Warsaw:20240920T144500
DTEND;TZID=Europe/Warsaw:20240920T180000
DTSTAMP:20260421T212203
CREATED:20240917T151551Z
LAST-MODIFIED:20240917T151555Z
UID:5697-1726843500-1726855200@tp.info.pl
SUMMARY:Święto latawca pt. \,\,Piękny świat" w Przeźmierowie
DESCRIPTION:
URL:https://tp.info.pl/event/swieto-latawca-pt-piekny-swiat-w-przezmierowie/
LOCATION:Park im. St. Kanikowskiego w Przeźmierowie
CATEGORIES:Wydarzenia kulturalne
END:VEVENT
BEGIN:VEVENT
DTSTART;TZID=Europe/Warsaw:20240921T170000
DTEND;TZID=Europe/Warsaw:20240921T190000
DTSTAMP:20260421T212203
CREATED:20240911T212112Z
LAST-MODIFIED:20240911T212216Z
UID:5643-1726938000-1726945200@tp.info.pl
SUMMARY:Koncert Koła Śpiewu im. Feliksa Nowowiejskiego
DESCRIPTION:
URL:https://tp.info.pl/event/koncert-kola-spiewu-im-feliksa-nowowiejskiego/
LOCATION:Park Pamięci w Tarnowie Podgórnym
CATEGORIES:Wydarzenia kulturalne
END:VEVENT
BEGIN:VEVENT
DTSTART;TZID=Europe/Warsaw:20240922T170000
DTEND;TZID=Europe/Warsaw:20240922T193000
DTSTAMP:20260421T212203
CREATED:20240918T150054Z
LAST-MODIFIED:20240918T150058Z
UID:5708-1727024400-1727033400@tp.info.pl
SUMMARY:Mecz GKS Tarnovia vs. Górnik Konin
DESCRIPTION:
URL:https://tp.info.pl/event/mecz-gks-tarnovia-vs-gornik-konin/
LOCATION:stadion GKS Tarnowo Podgórne
CATEGORIES:Sport
END:VEVENT
BEGIN:VEVENT
DTSTART;TZID=Europe/Warsaw:20240926T183000
DTEND;TZID=Europe/Warsaw:20240926T204000
DTSTAMP:20260421T212203
CREATED:20240718T153117Z
LAST-MODIFIED:20240718T153117Z
UID:5389-1727375400-1727383200@tp.info.pl
SUMMARY:Spektakl pt. \,\,Klimakterium 2\, czyli Menopauzowy szał"
DESCRIPTION:
URL:https://tp.info.pl/event/spektakl-pt-klimakterium-2-czyli-menopauzowy-szal/
LOCATION:CK Przeźmierowo
CATEGORIES:Wydarzenia kulturalne
END:VEVENT
BEGIN:VEVENT
DTSTART;TZID=Europe/Warsaw:20241004T100000
DTEND;TZID=Europe/Warsaw:20241004T140000
DTSTAMP:20260421T212203
CREATED:20240912T140807Z
LAST-MODIFIED:20240912T140810Z
UID:5665-1728036000-1728050400@tp.info.pl
SUMMARY:Powiatowe zawody w kolarstwie w MTB dla dzieci
DESCRIPTION:
URL:https://tp.info.pl/event/powiatowe-zawody-w-kolarstwie-w-mtb-dla-dzieci/
LOCATION:Park 700-lecia w Tarnowie Podgórnym\, Szkolna\, Tarnowo Podgórne\, wielkopolskie\, 62-080
CATEGORIES:Sport
END:VEVENT
BEGIN:VEVENT
DTSTART;TZID=Europe/Warsaw:20241005T113000
DTEND;TZID=Europe/Warsaw:20241005T121000
DTSTAMP:20260421T212203
CREATED:20241003T183219Z
LAST-MODIFIED:20241003T183222Z
UID:5849-1728127800-1728130200@tp.info.pl
SUMMARY:Mikstol Tarnovia vs. KU AZS Politechnika Poznańska
DESCRIPTION:
URL:https://tp.info.pl/event/mikstol-tarnovia-vs-ku-azs-politechnika-poznanska/
LOCATION:Hala OSiR przy ul. Nowej 15 Tarnowo Podgórne\, ul. Nowa 15\, Tarnowo Podgórne\, wielkopolskie\, 62-080
CATEGORIES:Sport
END:VEVENT
BEGIN:VEVENT
DTSTART;TZID=Europe/Warsaw:20241005T120000
DTEND;TZID=Europe/Warsaw:20241005T160000
DTSTAMP:20260421T212203
CREATED:20241002T150540Z
LAST-MODIFIED:20241002T150544Z
UID:5836-1728129600-1728144000@tp.info.pl
SUMMARY:Tenis stołowy w Przeźmierowie
DESCRIPTION:
URL:https://tp.info.pl/event/tenis-stolowy-w-przezmierowie/
LOCATION:hala sportowa OSiR w Przeźmierowie – ul. Kościelna 46/48
CATEGORIES:Sport
END:VEVENT
BEGIN:VEVENT
DTSTART;TZID=Europe/Warsaw:20241005T143000
DTEND;TZID=Europe/Warsaw:20241005T151000
DTSTAMP:20260421T212203
CREATED:20241003T180205Z
LAST-MODIFIED:20241003T180208Z
UID:5847-1728138600-1728141000@tp.info.pl
SUMMARY:MIKSTOL Tarnovia Basket Tarnowo Podgórne vs. AZS UMK Transbruk Toruń
DESCRIPTION:
URL:https://tp.info.pl/event/mikstol-tarnovia-basket-tarnowo-podgorne-vs-azs-umk-transbruk-torun/
LOCATION:Hala OSiR przy ul. Nowej 15 Tarnowo Podgórne\, ul. Nowa 15\, Tarnowo Podgórne\, wielkopolskie\, 62-080
CATEGORIES:Sport
END:VEVENT
BEGIN:VEVENT
DTSTART;TZID=Europe/Warsaw:20241005T173000
DTEND;TZID=Europe/Warsaw:20241005T190000
DTSTAMP:20260421T212203
CREATED:20241001T070134Z
LAST-MODIFIED:20241001T070140Z
UID:5813-1728149400-1728154800@tp.info.pl
SUMMARY:Tarnovia Volleyball vs. Volley Team Żychlin
DESCRIPTION:
URL:https://tp.info.pl/event/tarnovia-volleyball-vs-volley-team-zychlin/
LOCATION:hala OSiR przy Zespole Szkół Technicznych Tarnowo Podgórne\, ul. Nowa 60
CATEGORIES:Sport
END:VEVENT
BEGIN:VEVENT
DTSTART;TZID=Europe/Warsaw:20241006T150000
DTEND;TZID=Europe/Warsaw:20241006T170000
DTSTAMP:20260421T212203
CREATED:20240905T075226Z
LAST-MODIFIED:20240905T075229Z
UID:5601-1728226800-1728234000@tp.info.pl
SUMMARY:Jesienne Święto Pieśni
DESCRIPTION:
URL:https://tp.info.pl/event/jesienne-swieto-piesni-2/
LOCATION:DK Tarnowo Podgórne\, u. Ogrodowa 14\, Tarnowo Podgórne\, wielkopolskie\, 62-080
CATEGORIES:Wydarzenia kulturalne
END:VEVENT
BEGIN:VEVENT
DTSTART;TZID=Europe/Warsaw:20241006T160000
DTEND;TZID=Europe/Warsaw:20241006T173000
DTSTAMP:20260421T212203
CREATED:20241003T151903Z
LAST-MODIFIED:20241003T151906Z
UID:5843-1728230400-1728235800@tp.info.pl
SUMMARY:Mecz GKS Tarnovia vs. KS Avia Kamionki
DESCRIPTION:
URL:https://tp.info.pl/event/mecz-gks-tarnovia-vs-ks-avia-kamionki/
LOCATION:stadion GKS Tarnowo Podgórne
CATEGORIES:Sport
END:VEVENT
BEGIN:VEVENT
DTSTART;TZID=Europe/Warsaw:20241007T100000
DTEND;TZID=Europe/Warsaw:20241013T170000
DTSTAMP:20260421T212203
CREATED:20241002T141235Z
LAST-MODIFIED:20241002T141613Z
UID:5832-1728295200-1728838800@tp.info.pl
SUMMARY:VII Pałacowe Targi Senioralne
DESCRIPTION:
URL:https://tp.info.pl/event/vii-palacowe-targi-senioralne/
LOCATION:Pałac Jankowice
CATEGORIES:Wydarzenia kulturalne
ORGANIZER;CN="Pa%C5%82ac Jankowice":MAILTO:palac.jankowice@tarnowo-podgorne.pl
END:VEVENT
BEGIN:VEVENT
DTSTART;TZID=Europe/Warsaw:20241011T190000
DTEND;TZID=Europe/Warsaw:20241011T210000
DTSTAMP:20260421T212203
CREATED:20240902T164311Z
LAST-MODIFIED:20240902T164315Z
UID:5570-1728673200-1728680400@tp.info.pl
SUMMARY:Recital Zbigniewa Zamachowskiego
DESCRIPTION:
URL:https://tp.info.pl/event/recital-zbigniewa-zamachowskiego/
LOCATION:DK Tarnowo Podgórne\, u. Ogrodowa 14\, Tarnowo Podgórne\, wielkopolskie\, 62-080
CATEGORIES:Wydarzenia kulturalne
END:VEVENT
BEGIN:VEVENT
DTSTART;TZID=Europe/Warsaw:20241012T090000
DTEND;TZID=Europe/Warsaw:20241012T170000
DTSTAMP:20260421T212203
CREATED:20241010T101905Z
LAST-MODIFIED:20241010T101910Z
UID:5882-1728723600-1728752400@tp.info.pl
SUMMARY:4 TAGA COPA BJJ
DESCRIPTION:
URL:https://tp.info.pl/event/4-taga-copa-bjj/
LOCATION:Hala OSiR przy ul. Nowej 15 Tarnowo Podgórne\, ul. Nowa 15\, Tarnowo Podgórne\, wielkopolskie\, 62-080
CATEGORIES:Sport
END:VEVENT
BEGIN:VEVENT
DTSTART;TZID=Europe/Warsaw:20241013T120000
DTEND;TZID=Europe/Warsaw:20241013T140000
DTSTAMP:20260421T212203
CREATED:20241011T103623Z
LAST-MODIFIED:20241011T103630Z
UID:5899-1728820800-1728828000@tp.info.pl
SUMMARY:Mecz 2. kolejki IIIligi koszykówki: Mikstol Tarnovia vs. Jet Service Basket Piła
DESCRIPTION:
URL:https://tp.info.pl/event/mecz-2-kolejki-iiiligi-koszykowki-mikstol-tarnovia-vs-jet-service-basket-pila/
LOCATION:Hala OSiR przy ul. Nowej 15 Tarnowo Podgórne\, ul. Nowa 15\, Tarnowo Podgórne\, wielkopolskie\, 62-080
CATEGORIES:Sport
END:VEVENT
BEGIN:VEVENT
DTSTART;TZID=Europe/Warsaw:20241013T123000
DTEND;TZID=Europe/Warsaw:20241013T140000
DTSTAMP:20260421T212203
CREATED:20240930T202156Z
LAST-MODIFIED:20240930T202206Z
UID:5807-1728822600-1728828000@tp.info.pl
SUMMARY:Spektakl pt. \,\,Szałaputki" formacji Teatryle
DESCRIPTION:
URL:https://tp.info.pl/event/spektakl-pt-szalaputki-formacji-teatryle/
LOCATION:DK w Tarnowie Podgórnym
CATEGORIES:Wydarzenia kulturalne
END:VEVENT
BEGIN:VEVENT
DTSTART;TZID=Europe/Warsaw:20241013T150000
DTEND;TZID=Europe/Warsaw:20241013T170000
DTSTAMP:20260421T212203
CREATED:20241010T103038Z
LAST-MODIFIED:20241010T103038Z
UID:5886-1728831600-1728838800@tp.info.pl
SUMMARY:Mecz MIKSTOL Tarnovia vs Sklep Polski MKK Gniezno
DESCRIPTION:
URL:https://tp.info.pl/event/mecz-mikstol-tarnovia-vs-sklep-polski-mkk-gniezno/
LOCATION:Hala OSiR przy ul. Nowej 15 Tarnowo Podgórne\, ul. Nowa 15\, Tarnowo Podgórne\, wielkopolskie\, 62-080
CATEGORIES:Sport
END:VEVENT
BEGIN:VEVENT
DTSTART;TZID=Europe/Warsaw:20241015T080000
DTEND;TZID=Europe/Warsaw:20241118T170000
DTSTAMP:20260421T212203
CREATED:20241007T192638Z
LAST-MODIFIED:20241007T192642Z
UID:5866-1728979200-1731949200@tp.info.pl
SUMMARY:Wystawa malarska \,\,Od słowa do obrazu" w CK Przeźmierowo
DESCRIPTION:
URL:https://tp.info.pl/event/wystawa-malarska-od-slowa-do-obrazu-w-ck-przezmierowo/
LOCATION:CK Przeźmierowo
CATEGORIES:Wydarzenia kulturalne
END:VEVENT
BEGIN:VEVENT
DTSTART;TZID=Europe/Warsaw:20241015T180000
DTEND;TZID=Europe/Warsaw:20241015T184500
DTSTAMP:20260421T212203
CREATED:20241007T201834Z
LAST-MODIFIED:20241007T201845Z
UID:5872-1729015200-1729017900@tp.info.pl
SUMMARY:Spektakl pt. \,\,O muzyce między drzewami" teatru Mozaika
DESCRIPTION:
URL:https://tp.info.pl/event/spektakl-pt-o-muzyce-miedzy-drzewami-teatru-mozaika/
CATEGORIES:Wydarzenia kulturalne
END:VEVENT
BEGIN:VEVENT
DTSTART;TZID=Europe/Warsaw:20241019T160000
DTEND;TZID=Europe/Warsaw:20241019T180000
DTSTAMP:20260421T212203
CREATED:20241018T102638Z
LAST-MODIFIED:20241018T102642Z
UID:5944-1729353600-1729360800@tp.info.pl
SUMMARY:Mecz II ligi siatkówki: Tarnovia Volleyball vs. MMKS Lotnik Łęczyca
DESCRIPTION:
URL:https://tp.info.pl/event/mecz-ii-ligi-siatkowki-tarnovia-volleyball-vs-mmks-lotnik-leczyca/
LOCATION:hala OSiR przy Zespole Szkół Technicznych Tarnowo Podgórne\, ul. Nowa 60
CATEGORIES:Sport
END:VEVENT
BEGIN:VEVENT
DTSTART;TZID=Europe/Warsaw:20241019T160000
DTEND;TZID=Europe/Warsaw:20241019T183000
DTSTAMP:20260421T212203
CREATED:20241017T142233Z
LAST-MODIFIED:20241017T142237Z
UID:5933-1729353600-1729362600@tp.info.pl
SUMMARY:Mecz 11 kolejki V Red Box Ligi: GKS Tarnovia vs. Polonia Środa Wlkp.
DESCRIPTION:
URL:https://tp.info.pl/event/mecz-11-kolejki-v-red-box-ligi-gks-tarnovia-vs-polonia-sroda-wlkp/
LOCATION:Stadion GKS w Tarnowie Podgórnym
CATEGORIES:Sport
END:VEVENT
END:VCALENDAR