BEGIN:VCALENDAR
VERSION:2.0
PRODID:-//Informacje z gminy Tarnowo Podgórne - ECPv6.15.20//NONSGML v1.0//EN
CALSCALE:GREGORIAN
METHOD:PUBLISH
X-WR-CALNAME:Informacje z gminy Tarnowo Podgórne
X-ORIGINAL-URL:https://tp.info.pl
X-WR-CALDESC:Wydarzenia dla Informacje z gminy Tarnowo Podgórne
REFRESH-INTERVAL;VALUE=DURATION:PT1H
X-Robots-Tag:noindex
X-PUBLISHED-TTL:PT1H
BEGIN:VTIMEZONE
TZID:Europe/Warsaw
BEGIN:DAYLIGHT
TZOFFSETFROM:+0100
TZOFFSETTO:+0200
TZNAME:CEST
DTSTART:20230326T010000
END:DAYLIGHT
BEGIN:STANDARD
TZOFFSETFROM:+0200
TZOFFSETTO:+0100
TZNAME:CET
DTSTART:20231029T010000
END:STANDARD
BEGIN:DAYLIGHT
TZOFFSETFROM:+0100
TZOFFSETTO:+0200
TZNAME:CEST
DTSTART:20240331T010000
END:DAYLIGHT
BEGIN:STANDARD
TZOFFSETFROM:+0200
TZOFFSETTO:+0100
TZNAME:CET
DTSTART:20241027T010000
END:STANDARD
BEGIN:DAYLIGHT
TZOFFSETFROM:+0100
TZOFFSETTO:+0200
TZNAME:CEST
DTSTART:20250330T010000
END:DAYLIGHT
BEGIN:STANDARD
TZOFFSETFROM:+0200
TZOFFSETTO:+0100
TZNAME:CET
DTSTART:20251026T010000
END:STANDARD
END:VTIMEZONE
BEGIN:VEVENT
DTSTART;TZID=Europe/Warsaw:20240320T090000
DTEND;TZID=Europe/Warsaw:20240423T170000
DTSTAMP:20260422T113004
CREATED:20240315T144013Z
LAST-MODIFIED:20240315T144019Z
UID:4603-1710925200-1713891600@tp.info.pl
SUMMARY:Wystawa malarska pt.: \,\,Bo kolor jest w nas"
DESCRIPTION:
URL:https://tp.info.pl/event/wystawa-malarska-pt-bo-kolor-jest-w-nas/
LOCATION:Galeria w Rotundzie w Domu Kultury w Tarnowie Podgórnym\, ul. Ogrodowa 14\, Tarnowo Podgórne\, wielkopolskie\, 62-080
CATEGORIES:Wydarzenia kulturalne
END:VEVENT
BEGIN:VEVENT
DTSTART;TZID=Europe/Warsaw:20240417T080000
DTEND;TZID=Europe/Warsaw:20240527T170000
DTSTAMP:20260422T113004
CREATED:20240404T143750Z
LAST-MODIFIED:20240404T143754Z
UID:4753-1713340800-1716829200@tp.info.pl
SUMMARY:Wystawa malarska pt. \,\,Nieruchome spojrzenia"
DESCRIPTION:
URL:https://tp.info.pl/event/wystawa-malarska-pt-nieruchome-spojrzenia/
LOCATION:Centrum Kultury w Przeźmierowie\, Ogrodowa 13a\, Przeźmierowo\, wielkopolskie\, 62-081\, Poland
CATEGORIES:Wydarzenia kulturalne
END:VEVENT
BEGIN:VEVENT
DTSTART;TZID=Europe/Warsaw:20240424T080000
DTEND;TZID=Europe/Warsaw:20240616T170000
DTSTAMP:20260422T113004
CREATED:20240411T074155Z
LAST-MODIFIED:20240411T074201Z
UID:4811-1713945600-1718557200@tp.info.pl
SUMMARY:Wystawa malarska pt. \,\,Na krańcu świata"
DESCRIPTION:
URL:https://tp.info.pl/event/wystawa-malarska-pt-na-krancu-swiata/
LOCATION:Galeria w Rotundzie w Domu Kultury w Tarnowie Podgórnym\, ul. Ogrodowa 14\, Tarnowo Podgórne\, wielkopolskie\, 62-080
CATEGORIES:Wydarzenia kulturalne
END:VEVENT
BEGIN:VEVENT
DTSTART;TZID=Europe/Warsaw:20240427T080000
DTEND;TZID=Europe/Warsaw:20240427T170000
DTSTAMP:20260422T113004
CREATED:20240425T112459Z
LAST-MODIFIED:20240425T112459Z
UID:4951-1714204800-1714237200@tp.info.pl
SUMMARY:Czwarta edycja międzynarodowych mistrzostw Polski w brazylijskim jiu-jitsu
DESCRIPTION:
URL:https://tp.info.pl/event/czwarta-edycja-miedzynarodowych-mistrzostw-polski-w-brazylijskim-jiu-jitsu/
CATEGORIES:Sport
END:VEVENT
BEGIN:VEVENT
DTSTART;TZID=Europe/Warsaw:20240427T080000
DTEND;TZID=Europe/Warsaw:20240427T220000
DTSTAMP:20260422T113004
CREATED:20240425T151301Z
LAST-MODIFIED:20240425T151323Z
UID:4955-1714204800-1714255200@tp.info.pl
SUMMARY:Turniej taneczny \,\,Move4Life"
DESCRIPTION:
URL:https://tp.info.pl/event/turniej-taneczny-move4life/
LOCATION:hala sportowa OSiR w Przeźmierowie – ul. Kościelna 46/48
CATEGORIES:Sport
END:VEVENT
BEGIN:VEVENT
DTSTART;TZID=Europe/Warsaw:20240427T080000
DTEND;TZID=Europe/Warsaw:20240428T170000
DTSTAMP:20260422T113004
CREATED:20240411T135426Z
LAST-MODIFIED:20240411T135853Z
UID:4827-1714204800-1714323600@tp.info.pl
SUMMARY:Mistrzostwa Strefy Poznań w koszykówce
DESCRIPTION:
URL:https://tp.info.pl/event/mistrzostwa-strefy-poznan-w-koszykowce-2/
LOCATION:hala OSiR przy Zespole Szkół Technicznych Tarnowo Podgórne\, ul. Nowa 60
CATEGORIES:Sport
END:VEVENT
BEGIN:VEVENT
DTSTART;TZID=Europe/Warsaw:20240430T190000
DTEND;TZID=Europe/Warsaw:20240430T210000
DTSTAMP:20260422T113004
CREATED:20240326T195735Z
LAST-MODIFIED:20240326T195802Z
UID:4693-1714503600-1714510800@tp.info.pl
SUMMARY:Koncert MOD i Kuby Badacha
DESCRIPTION:
URL:https://tp.info.pl/event/koncert-mod-i-kuby-badacha/
LOCATION:hala OSiR przy Zespole Szkół Technicznych Tarnowo Podgórne\, ul. Nowa 60
CATEGORIES:Wydarzenia kulturalne
END:VEVENT
BEGIN:VEVENT
DTSTART;TZID=Europe/Warsaw:20240501T110000
DTEND;TZID=Europe/Warsaw:20240501T140000
DTSTAMP:20260422T113004
CREATED:20240301T160338Z
LAST-MODIFIED:20240301T160344Z
UID:4507-1714561200-1714572000@tp.info.pl
SUMMARY:BIEG UNIJNY W PRZEŹMIEROWIE
DESCRIPTION:
URL:https://tp.info.pl/event/bieg-unijny-w-przezmierowie/
LOCATION:hala sportowa OSiR w Przeźmierowie – ul. Kościelna 46/48
CATEGORIES:Sport
END:VEVENT
BEGIN:VEVENT
DTSTART;TZID=Europe/Warsaw:20240503T110000
DTEND;TZID=Europe/Warsaw:20240503T140000
DTSTAMP:20260422T113004
CREATED:20240430T085917Z
LAST-MODIFIED:20240430T085934Z
UID:4979-1714734000-1714744800@tp.info.pl
SUMMARY:Piknik golfowy w Rumianku
DESCRIPTION:
URL:https://tp.info.pl/event/piknik-golfowy-w-rumianku/
LOCATION:Pole golfowe Black Water Links w Rumianku\, Szkolna\, Rumianek\, wielkopolskie\, 62-080\, Poland
CATEGORIES:Sport
END:VEVENT
BEGIN:VEVENT
DTSTART;TZID=Europe/Warsaw:20240504T160000
DTEND;TZID=Europe/Warsaw:20240504T180000
DTSTAMP:20260422T113004
CREATED:20240430T165320Z
LAST-MODIFIED:20240430T165323Z
UID:4997-1714838400-1714845600@tp.info.pl
SUMMARY:GKS Tarnovia Tarnowo Podgórne vs. LKS Korona Piaski
DESCRIPTION:
URL:https://tp.info.pl/event/gks-tarnovia-tarnowo-podgorne-vs-lks-korona-piaski/
LOCATION:Stadion Piłkarski przy ul. 23 Października 34 w Tarnowie Podgórnym
CATEGORIES:Sport
END:VEVENT
BEGIN:VEVENT
DTSTART;TZID=Europe/Warsaw:20240505T100000
DTEND;TZID=Europe/Warsaw:20240505T160000
DTSTAMP:20260422T113004
CREATED:20240430T163713Z
LAST-MODIFIED:20240430T163742Z
UID:4990-1714903200-1714924800@tp.info.pl
SUMMARY:NAKAYAMA CUP
DESCRIPTION:
URL:https://tp.info.pl/event/nakayama-cup/
LOCATION:hala OSiR przy Zespole Szkół Technicznych Tarnowo Podgórne\, ul. Nowa 60
CATEGORIES:Sport
END:VEVENT
BEGIN:VEVENT
DTSTART;TZID=Europe/Warsaw:20240505T133500
DTEND;TZID=Europe/Warsaw:20240505T160000
DTSTAMP:20260422T113004
CREATED:20240412T104854Z
LAST-MODIFIED:20240412T104858Z
UID:4852-1714916100-1714924800@tp.info.pl
SUMMARY:Bieg Wings for Life - strefa kibica
DESCRIPTION:
URL:https://tp.info.pl/event/bieg-wings-for-life-strefa-kibica/
LOCATION:Wysogotowo\, skrzyżowanie ulic: Wierzbowej z Bukowską
CATEGORIES:Sport
END:VEVENT
BEGIN:VEVENT
DTSTART;TZID=Europe/Warsaw:20240507T080000
DTEND;TZID=Europe/Warsaw:20240531T170000
DTSTAMP:20260422T113004
CREATED:20240416T152837Z
LAST-MODIFIED:20240416T153129Z
UID:4881-1715068800-1717174800@tp.info.pl
SUMMARY:Wystawa malarska pt. \,\,Malarstwo swobodne"
DESCRIPTION:
URL:https://tp.info.pl/event/wystawa-malarska-pt-malarstwo-swobodne/
LOCATION:CK Przeźmierowo
CATEGORIES:Wydarzenia kulturalne
END:VEVENT
BEGIN:VEVENT
DTSTART;TZID=Europe/Warsaw:20240511T100000
DTEND;TZID=Europe/Warsaw:20240511T140000
DTSTAMP:20260422T113004
CREATED:20240510T111656Z
LAST-MODIFIED:20240510T111706Z
UID:5060-1715421600-1715436000@tp.info.pl
SUMMARY:Finał Mistrzostw Wielkopolski w minisiatkówce dziewcząt
DESCRIPTION:
URL:https://tp.info.pl/event/final-mistrzostw-wielkopolski-w-minisiatkowce-dziewczat/
LOCATION:hala OSiR przy Zespole Szkół Technicznych Tarnowo Podgórne\, ul. Nowa 60
CATEGORIES:Sport
END:VEVENT
BEGIN:VEVENT
DTSTART;TZID=Europe/Warsaw:20240512T120000
DTEND;TZID=Europe/Warsaw:20240512T150000
DTSTAMP:20260422T113004
CREATED:20240510T105211Z
LAST-MODIFIED:20240510T105225Z
UID:5056-1715515200-1715526000@tp.info.pl
SUMMARY:Finał II Ligi Mężczyzn w Tenisie Stołowym
DESCRIPTION:
URL:https://tp.info.pl/event/final-ii-ligi-mezczyzn-w-tenisie-stolowym/
LOCATION:hala sportowa OSiR w Przeźmierowie – ul. Kościelna 46/48
CATEGORIES:Sport
END:VEVENT
BEGIN:VEVENT
DTSTART;TZID=Europe/Warsaw:20240514T173000
DTEND;TZID=Europe/Warsaw:20240514T181500
DTSTAMP:20260422T113004
CREATED:20240408T201550Z
LAST-MODIFIED:20240408T201554Z
UID:4797-1715707800-1715710500@tp.info.pl
SUMMARY:\,\,Pszczoły to mistrzynie" teatru Mozaika
DESCRIPTION:
URL:https://tp.info.pl/event/pszczoly-to-mistrzynie-teatru-mozaika/
LOCATION:DK Tarnowo Podgórne\, u. Ogrodowa 14\, Tarnowo Podgórne\, wielkopolskie\, 62-080
CATEGORIES:Wydarzenia kulturalne
END:VEVENT
BEGIN:VEVENT
DTSTART;TZID=Europe/Warsaw:20240516T190000
DTEND;TZID=Europe/Warsaw:20240516T210000
DTSTAMP:20260422T113004
CREATED:20240425T111842Z
LAST-MODIFIED:20240425T111916Z
UID:4949-1715886000-1715893200@tp.info.pl
SUMMARY:Spektakl pt. \,\,Domówka" Soni Bohosiewicz
DESCRIPTION:
URL:https://tp.info.pl/event/spektakl-pt-domowka-soni-bohosiewicz/
LOCATION:CK Przeźmierowo
CATEGORIES:Wydarzenia kulturalne
END:VEVENT
BEGIN:VEVENT
DTSTART;TZID=Europe/Warsaw:20240519T170000
DTEND;TZID=Europe/Warsaw:20240519T193000
DTSTAMP:20260422T113004
CREATED:20240516T184246Z
LAST-MODIFIED:20240516T184259Z
UID:5089-1716138000-1716147000@tp.info.pl
SUMMARY:Mecz GKS Tarnovia vs. Mieszko Gniezno
DESCRIPTION:
URL:https://tp.info.pl/event/mecz-gks-tarnovia-vs-mieszko-gniezno/
LOCATION:stadion GKS Tarnowo Podgórne
CATEGORIES:Sport
END:VEVENT
BEGIN:VEVENT
DTSTART;TZID=Europe/Warsaw:20240519T180000
DTEND;TZID=Europe/Warsaw:20240519T200000
DTSTAMP:20260422T113004
CREATED:20240509T150725Z
LAST-MODIFIED:20240509T150725Z
UID:5045-1716141600-1716148800@tp.info.pl
SUMMARY:Koncert pt. \,\,Dzieci Kwiaty" Studia Piosenki GOK Sezam
DESCRIPTION:
URL:https://tp.info.pl/event/koncert-pt-dzieci-kwiaty-studia-piosenki-gok-sezam/
LOCATION:GOK Sezam
CATEGORIES:Wydarzenia kulturalne
END:VEVENT
BEGIN:VEVENT
DTSTART;TZID=Europe/Warsaw:20240523T080000
DTEND;TZID=Europe/Warsaw:20240526T170000
DTSTAMP:20260422T113004
CREATED:20240523T163739Z
LAST-MODIFIED:20240523T163802Z
UID:5135-1716451200-1716742800@tp.info.pl
SUMMARY:Mistrzostwa Polski Match Play Juniorów w Rumianku
DESCRIPTION:
URL:https://tp.info.pl/event/mistrzostwa-polski-match-play-juniorow-w-rumianku/
LOCATION:Pole golfowe Black Water Links w Rumianku\, Szkolna\, Rumianek\, wielkopolskie\, 62-080\, Poland
CATEGORIES:Sport
END:VEVENT
BEGIN:VEVENT
DTSTART;TZID=Europe/Warsaw:20240523T180000
DTEND;TZID=Europe/Warsaw:20240523T190000
DTSTAMP:20260422T113004
CREATED:20240509T154727Z
LAST-MODIFIED:20240509T154731Z
UID:5051-1716487200-1716490800@tp.info.pl
SUMMARY:Spektakl \,\,Strzy(e)ż się seniorze" Senioritek
DESCRIPTION:
URL:https://tp.info.pl/event/spektakl-strzyez-sie-seniorze-senioritek/
LOCATION:CK Przeźmierowo
CATEGORIES:Wydarzenia kulturalne
END:VEVENT
BEGIN:VEVENT
DTSTART;TZID=Europe/Warsaw:20240525T100000
DTEND;TZID=Europe/Warsaw:20240525T163000
DTSTAMP:20260422T113004
CREATED:20240523T155915Z
LAST-MODIFIED:20240523T155923Z
UID:5129-1716631200-1716654600@tp.info.pl
SUMMARY:Tarnovia Cup 2024 w szermierce
DESCRIPTION:
URL:https://tp.info.pl/event/tarnovia-cup-2024-w-szermierce/
LOCATION:Hala OSiR przy ul. Nowej 15 w Tarnowie Podgórnym
CATEGORIES:Sport
END:VEVENT
BEGIN:VEVENT
DTSTART;TZID=Europe/Warsaw:20240525T110000
DTEND;TZID=Europe/Warsaw:20240525T153000
DTSTAMP:20260422T113004
CREATED:20240523T154251Z
LAST-MODIFIED:20240523T154301Z
UID:5125-1716634800-1716651000@tp.info.pl
SUMMARY:XI Spartakiada dla Seniorów
DESCRIPTION:
URL:https://tp.info.pl/event/xi-spartakiada-dla-seniorow/
LOCATION:boisko GKS Tarnowo Podgórne\, ul. 23 Października 34\, Tarnowo Podgórne\, wielkopolskie\, 62-080
CATEGORIES:Sport
END:VEVENT
BEGIN:VEVENT
DTSTART;TZID=Europe/Warsaw:20240525T160000
DTEND;TZID=Europe/Warsaw:20240525T170000
DTSTAMP:20260422T113004
CREATED:20240426T143810Z
LAST-MODIFIED:20240426T143814Z
UID:4966-1716652800-1716656400@tp.info.pl
SUMMARY:Koncert pt. \,\,Wiosna z Modrakami" DZPiT
DESCRIPTION:
URL:https://tp.info.pl/event/koncert-pt-wiosna-z-modrakami-dzpit/
LOCATION:CK Przeźmierowo
CATEGORIES:Wydarzenia kulturalne
END:VEVENT
BEGIN:VEVENT
DTSTART;TZID=Europe/Warsaw:20240526T160000
DTEND;TZID=Europe/Warsaw:20240526T190000
DTSTAMP:20260422T113004
CREATED:20240416T143955Z
LAST-MODIFIED:20240416T144359Z
UID:4877-1716739200-1716750000@tp.info.pl
SUMMARY:Gala Finałowa - Festiwal Talentów i Pasji
DESCRIPTION:
URL:https://tp.info.pl/event/gala-finalowa-festiwal-talentow-i-pasji/
LOCATION:Pałac Jankowice
CATEGORIES:Wydarzenia kulturalne
END:VEVENT
BEGIN:VEVENT
DTSTART;TZID=Europe/Warsaw:20240529T170000
DTEND;TZID=Europe/Warsaw:20240529T183000
DTSTAMP:20260422T113004
CREATED:20240528T210742Z
LAST-MODIFIED:20240528T210748Z
UID:5173-1717002000-1717007400@tp.info.pl
SUMMARY:Mecz GKS Tarnovia Tarnowo Podgórne vs. Wiara Lecha Poznań
DESCRIPTION:
URL:https://tp.info.pl/event/mecz-gks-tarnovia-tarnowo-podgorne-vs-wiara-lecha-poznan/
LOCATION:Stadion Piłkarski przy ul. 23 Października 34 w Tarnowie Podgórnym
CATEGORIES:Sport
END:VEVENT
BEGIN:VEVENT
DTSTART;TZID=Europe/Warsaw:20240602T080000
DTEND;TZID=Europe/Warsaw:20240616T170000
DTSTAMP:20260422T113004
CREATED:20240524T151612Z
LAST-MODIFIED:20240524T151625Z
UID:5156-1717315200-1718557200@tp.info.pl
SUMMARY:Grand Prix Gminy Tarnowo Podgórne w siatkówce plażowej
DESCRIPTION:
URL:https://tp.info.pl/event/grand-prix-gminy-tarnowo-podgorne-w-siatkowce-plazowej/
LOCATION:Plaża Lusowo
CATEGORIES:Sport
END:VEVENT
BEGIN:VEVENT
DTSTART;TZID=Europe/Warsaw:20240602T130000
DTEND;TZID=Europe/Warsaw:20240602T140000
DTSTAMP:20260422T113004
CREATED:20240514T190901Z
LAST-MODIFIED:20240514T190901Z
UID:5079-1717333200-1717336800@tp.info.pl
SUMMARY:Kwartet Smyczkowy w ramach Lusowskich Spotkań Muzycznych
DESCRIPTION:
URL:https://tp.info.pl/event/kwartet-smyczkowy-w-ramach-lusowskich-spotkan-muzycznych/
LOCATION:Lusowo\, Kościół
CATEGORIES:Wydarzenia kulturalne
END:VEVENT
BEGIN:VEVENT
DTSTART;TZID=Europe/Warsaw:20240604T080000
DTEND;TZID=Europe/Warsaw:20240831T170000
DTSTAMP:20260422T113004
CREATED:20240523T220650Z
LAST-MODIFIED:20240523T220657Z
UID:5143-1717488000-1725123600@tp.info.pl
SUMMARY:Wystawa malarska pt. \,\,Jak z pocztówki"
DESCRIPTION:
URL:https://tp.info.pl/event/wystawa-malarska-pt-jak-z-pocztowki/
LOCATION:CK Przeźmierowo
CATEGORIES:Wydarzenia kulturalne
END:VEVENT
BEGIN:VEVENT
DTSTART;TZID=Europe/Warsaw:20240606T100000
DTEND;TZID=Europe/Warsaw:20240606T160000
DTSTAMP:20260422T113004
CREATED:20240523T152443Z
LAST-MODIFIED:20240523T152453Z
UID:5119-1717668000-1717689600@tp.info.pl
SUMMARY:Czwórbój lekkoatletyczny dla osób z niepełnosprawnościami
DESCRIPTION:
URL:https://tp.info.pl/event/czworboj-lekkoatletyczny-dla-osob-z-niepelnosprawnosciami/
CATEGORIES:Sport
END:VEVENT
END:VCALENDAR